{"text_format":"1","workbook":"xlsx","n_sheets":3,"sheets":["Sheet3","Summary","Template"],"not_rendered":{"charts":0,"images":0,"macros":1,"external_links":1,"defined_names":3,"comments":1,"pivot_tables":0},"unopened":[],"bounds":{"document_bytes":16777216,"sheet_cells":100000,"rows_first":2000,"rows_last":500,"rows_between":2000,"halvings":0,"cell_chars":16384,"cell_head_chars":4096},"cells_cut":0,"cells_raw":0,"read":"whole","date_system":"1900"}

{"sheet":"Sheet3","index":0,"n_rows":3993,"n_cols":22,"rows_kept":3993,"cut":false,"hidden":true,"merged":[[1,7,1,9]]}
["timesheet",null,null,null,"(V21 Mar25)"]
["Valid Code Combinations",null,null,null,null,null,null,"Unique Codes",null,null,null,null,null,null,null,null,"Month","Period",null,"Type of Work",null,"Department"]
["CC","NL","Project",null,"Valid Combination",null,null,"CC","NL","Project"]
["ACAL","1199","ALU00001",null,{"$f":"CONCATENATE(A4,B4,C4)","v":"ACAL1199ALU00001"},"OK",null,"ACAL",1100,"10000116",null,null,null,null,null,null,"July 2027",202612,null,"Overtime",null,"Accommodation"]
["ACAL","1199","CAR00001",null,"ACAL1199CAR00001","OK",null,"ACCE",1110,"10000190",null,null,null,null,null,null,"June 2027",202611,null,"Casual",null,"AVC Research"]
["ACAL","1199","CHR00001",null,"ACAL1199CHR00001","OK",null,"ACER",1120,"10000203",null,null,null,null,null,null,"May 2027",202610,null,"Holiday Pay",null,"Campus Services"]
["ACAL","1199","FOU00001",null,"ACAL1199FOU00001","OK",null,"ACFI",1121,"10000425",null,null,null,null,null,null,"April 2027",202609,null,"PTL",null,"Capstone Theatre"]
["ACAL","1199","GEN00001",null,"ACAL1199GEN00001","OK",null,"ACHR",1130,"10000448",null,null,null,null,null,null,"March 2027",202608,null,"Allowance",null,"Catering"]
["ACAL","1199","SCC00001",null,"ACAL1199SCC00001","OK",null,"ACPV",1135,"10000467",null,null,null,null,null,null,"February 2027",202607,null,"Fees",null,"Chaplaincy"]
["ACAL","1199","SDW01002",null,"ACAL1199SDW01002","OK",null,"ACRE",1188,"10000469",null,null,null,null,null,null,"January 2027",202606,null,"PILON",null,"Conferences"]
["ACAL","1199","SRE01000",null,"ACAL1199SRE01000","OK",null,"ACVC",1199,"10000487",null,null,null,null,null,null,"December 2026",202605,null,"Bonus",null,"Domestics"]
["ACAL","1199","SRE03000",null,"ACAL1199SRE03000","OK",null,"ADBC",1210,"10000502",null,null,null,null,null,null,"November 2026",202604,null,null,null,"Estates"]
["ACAL","1199","SRE06000",null,"ACAL1199SRE06000","OK",null,"ADBE",1230,"10000511",null,null,null,null,null,null,"October 2026",202603,null,"Academic",null,"Corporate Communications"]
["ACAL","1199","SWL00001",null,"ACAL1199SWL00001","OK",null,"ADBR",1300,"10000512",null,null,null,null,null,null,"September 2026",202602,null,"Support",null,"Finance"]
["ACAL","1300","ALU00001",null,"ACAL1300ALU00001","OK",null,"ADBS",1305,"10000522",null,null,null,null,null,null,"August 2026",202601,null,null,null,"Gateway"]
["ACAL","1300","CAR00001",null,"ACAL1300CAR00001","OK",null,"ADCA",1310,"10000525",null,null,null,null,null,null,"July 2026",202512,null,null,null,"Hope Works"]
["ACAL","1300","CHR00001",null,"ACAL1300CHR00001","OK",null,"ADCE",1320,"10000528",null,null,null,null,null,null,"June 2026",202511,null,null,null,"International Hub"]
["ACAL","1300","FOU00001",null,"ACAL1300FOU00001","OK",null,"ADCP",1330,"10000532",null,null,null,null,null,null,"May 2026",202510,null,null,null,"IT Services"]
["ACAL","1300","GEN00001",null,"ACAL1300GEN00001","OK",null,"ADDA",1430,"10000533",null,null,null,null,null,null,"April 2026",202509,null,null,null,"Student Learning"]
["ACAL","1300","SCC00001",null,"ACAL1300SCC00001","OK",null,"ADDP",1450,"10000542",null,null,null,null,null,null,"March 2026",202508,null,null,null,"Personnel"]
["ACAL","1300","SDW01002",null,"ACAL1300SDW01002","OK",null,"ADEE",1500,"10000558",null,null,null,null,null,null,"February 2026",202507,null,null,null,"Reprographics"]
["ACAL","1300","SRE01000",null,"ACAL1300SRE01000","OK",null,"ADER",1600,"10000559",null,null,null,null,null,null,"January 2026",202506,null,null,null,"Residential Life"]
["ACAL","1300","SRE03000",null,"ACAL1300SRE03000","OK",null,"ADES",1601,"10000563",null,null,null,null,null,null,"December 2025",202505,null,null,null,"Student Enrolment & Administration"]
["ACAL","1300","SRE06000",null,"ACAL1300SRE06000","OK",null,"ADHE",1604,"10000564",null,null,null,null,null,null,"November 2025",202504,null,null,null,"Student Life"]
["ACAL","1300","SWL00001",null,"ACAL1300SWL00001","OK",null,"ADHR",null,"10000567",null,null,null,null,null,null,"October 2025",202503,null,null,null,"Student Futures"]
["ACAL","1310","ALU00001",null,"ACAL1310ALU00001","OK",null,"ADHS",null,"10000574",null,null,null,null,null,null,"September 2025",202502,null,null,null,"VCs Office"]
["ACAL","1310","CAR00001",null,"ACAL1310CAR00001","OK",null,"ADHU",null,"10000575",null,null,null,null,null,null,"August 2025",202501]
["ACAL","1310","CHR00001",null,"ACAL1310CHR00001","OK",null,"ADLL",null,"10000579",null,null,null,null,null,null,"July 2025",202412,null,null,null,"School of Arts & Humanities"]
["ACAL","1310","FOU00001",null,"ACAL1310FOU00001","OK",null,"ADMC",null,"10000584",null,null,null,null,null,null,"June 2025",202411,null,null,null,"Business School"]
["ACAL","1310","GEN00001",null,"ACAL1310GEN00001","OK",null,"ADNH",null,"10000590",null,null,null,null,null,null,"May 2025",202410,null,null,null,"Dean's Office"]
["ACAL","1310","SCC00001",null,"ACAL1310SCC00001","OK",null,"ADPA",null,"10000591",null,null,null,null,null,null,"April 2025",202409,null,null,null,"Drama, Theatre Studies and Dance"]
["ACAL","1310","SDW01002",null,"ACAL1310SDW01002","OK",null,"ADPS",null,"10000592",null,null,null,null,null,null,"March 2025",202408,null,null,null,"English"]
["ACAL","1310","SRE01000",null,"ACAL1310SRE01000","OK",null,"ADRA",null,"10000593",null,null,null,null,null,null,"February 2025",202407,null,null,null,"Fine Art & Design"]
["ACAL","1310","SRE03000",null,"ACAL1310SRE03000","OK",null,"ADSB",null,"10000597",null,null,null,null,null,null,"January 2025",202406,null,null,null,"History and Politics"]
["ACAL","1310","SRE06000",null,"ACAL1310SRE06000","OK",null,"ADSE",null,"10000604",null,null,null,null,null,null,"December 2024",202405,null,null,null,"Law"]
["ACAL","1310","SWL00001",null,"ACAL1310SWL00001","OK",null,"ADSF",null,"10000608",null,null,null,null,null,null,"November 2024",202404,null,null,null,"Learning and Teaching"]
["ACAL","1320","ALU00001",null,"ACAL1320ALU00001","OK",null,"ADSO",null,"10000609",null,null,null,null,null,null,"October 2024",202403,null,null,null,"Music"]
["ACAL","1320","CAR00001",null,"ACAL1320CAR00001","OK",null,"ADSR",null,"10000610",null,null,null,null,null,null,"September 2024",202402,null,null,null,"Music Performance"]
["ACAL","1320","CHR00001",null,"ACAL1320CHR00001","OK",null,"ADSS",null,"10000611",null,null,null,null,null,null,"August 2024",202401,null,null,null,"School of Social Science"]
["ACAL","1320","FOU00001",null,"ACAL1320FOU00001","OK",null,"ADTE",null,"10000615",null,null,null,null,null,null,null,null,null,null,null,"School of CAPA"]
["ACAL","1320","GEN00001",null,"ACAL1320GEN00001","OK",null,"ASCR",null,"10000617",null,null,null,null,null,null,null,null,null,null,null,"Theology and Philosophy"]
["ACAL","1320","SCC00001",null,"ACAL1320SCC00001","OK",null,"ASIC",null,"10000618"]
["ACAL","1320","SDW01002",null,"ACAL1320SDW01002","OK",null,"ASIR",null,"10000619",null,null,null,null,null,null,null,null,null,null,null,"School of Education"]
["ACAL","1320","SRE01000",null,"ACAL1320SRE01000","OK",null,"ASIT",null,"10000620",null,null,null,null,null,null,null,null,null,null,null,"Education Studies"]
["ACAL","1320","SRE03000",null,"ACAL1320SRE03000","OK",null,"ASLI",null,"10000624",null,null,null,null,null,null,null,null,null,null,null,"ITE"]
["ACAL","1320","SRE06000",null,"ACAL1320SRE06000","OK",null,"ASPT",null,"10000625"]
["ACAL","1320","SWL00001",null,"ACAL1320SWL00001","OK",null,"GEIR",null,"10000626",null,null,null,null,null,null,null,null,null,null,null,"Sciences Faculty"]
["ACAL","1330","ALU00001",null,"ACAL1330ALU00001","OK",null,"OICB",null,"10000627",null,null,null,null,null,null,null,null,null,null,null,"Geography"]
["ACAL","1330","CAR00001",null,"ACAL1330CAR00001","OK",null,"OIHM",null,"10000628",null,null,null,null,null,null,null,null,null,null,null,"Health Science"]
["ACAL","1330","CHR00001",null,"ACAL1330CHR00001","OK",null,"OIPC",null,"10000629",null,null,null,null,null,null,null,null,null,null,null,"Maths & Comp Science"]
["ACAL","1330","FOU00001",null,"ACAL1330FOU00001","OK",null,"OSAV",null,"10000631",null,null,null,null,null,null,null,null,null,null,null,"Psychology"]
["ACAL","1330","GEN00001",null,"ACAL1330GEN00001","OK",null,"OSES",null,"10000633",null,null,null,null,null,null,null,null,null,null,null,"Hope Park Sports"]
["ACAL","1330","SCC00001",null,"ACAL1330SCC00001","OK",null,"OSGH",null,"10000634"]
["ACAL","1330","SDW01002",null,"ACAL1330SDW01002","OK",null,"OSGR",null,"10000636"]
["ACAL","1330","SRE01000",null,"ACAL1330SRE01000","OK",null,"OSIN",null,"10000637"]
["ACAL","1330","SRE03000",null,"ACAL1330SRE03000","OK",null,"OSRC",null,"10000638"]
["ACAL","1330","SRE06000",null,"ACAL1330SRE06000","OK",null,"OSSL",null,"10000639"]
["ACAL","1330","SWL00001",null,"ACAL1330SWL00001","OK",null,"PRCP",null,"10000640"]
["ACCE","1120","DIS00001",null,"ACCE1120DIS00001","OK",null,"PRCS",null,"10000641"]
["ACCE","1120","FRE01301",null,"ACCE1120FRE01301","OK",null,"PRDS",null,"10000643"]
["ACCE","1120","GEN00001",null,"ACCE1120GEN00001","OK",null,"PREA",null,"10000646"]
["ACCE","1120","IMS00001",null,"ACCE1120IMS00001","OK",null,"PRGM",null,"10000647"]
["ACCE","1120","NSP00001",null,"ACCE1120NSP00001","OK",null,"RCAC",null,"10000650"]
["ACCE","1120","NSP00002",null,"ACCE1120NSP00002","OK",null,"RCCH",null,"10000651"]
["ACCE","1120","NSP00003",null,"ACCE1120NSP00003","OK",null,"RCCO",null,"10000652"]
["ACCE","1120","NSP00004",null,"ACCE1120NSP00004","OK",null,null,null,"10000653"]
["ACCE","1120","NSP00005",null,"ACCE1120NSP00005","OK",null,null,null,"10000654"]
["ACCE","1120","NSP00006",null,{"$f":"CONCATENATE(A68,B68,C68)","v":"ACCE1120NSP00006"},"OK",null,null,null,"10000657"]
["ACCE","1120","NSP00007",null,"ACCE1120NSP00007","OK",null,null,null,"10000661"]
["ACCE","1120","NSP00008",null,"ACCE1120NSP00008","OK",null,null,null,"10000662"]
["ACCE","1120","NSP00009",null,"ACCE1120NSP00009","OK",null,null,null,"10000664"]
["ACCE","1120","NSP00010",null,"ACCE1120NSP00010","OK",null,null,null,"10000665"]
["ACCE","1120","NSP00011",null,"ACCE1120NSP00011","OK",null,null,null,"10000668"]
["ACCE","1120","ORP00001",null,"ACCE1120ORP00001","OK",null,null,null,"10000669"]
["ACCE","1120","PGS00001",null,"ACCE1120PGS00001","OK",null,null,null,"10000670"]
["ACCE","1120","PVC00001",null,"ACCE1120PVC00001","OK",null,null,null,"10000671"]
["ACCE","1120","SLL00001",null,"ACCE1120SLL00001","OK",null,null,null,"10000673"]
["ACCE","1120","SSA00001",null,"ACCE1120SSA00001","OK",null,null,null,"10000674"]
["ACCE","1120","STR00001",null,"ACCE1120STR00001","OK",null,null,null,"10000675"]
["ACCE","1120","STR00002",null,"ACCE1120STR00002","OK",null,null,null,"10000676"]
["ACCE","1120","STR00003",null,"ACCE1120STR00003","OK",null,null,null,"10000678"]
["ACCE","1120","STR00004",null,"ACCE1120STR00004","OK",null,null,null,"10000679"]
["ACCE","1120","STR00005",null,"ACCE1120STR00005","OK",null,null,null,"10000681"]
["ACCE","1120","STR00006",null,"ACCE1120STR00006","OK",null,null,null,"10000682"]
["ACCE","1120","STR00007",null,"ACCE1120STR00007","OK",null,null,null,"10000684"]
["ACCE","1120","STR00008",null,"ACCE1120STR00008","OK",null,null,null,"10000685"]
["ACCE","1120","STR00009",null,"ACCE1120STR00009","OK",null,null,null,"10000686"]
["ACCE","1120","STR00010",null,"ACCE1120STR00010","OK",null,null,null,"10000687"]
["ACCE","1120","STR00011",null,"ACCE1120STR00011","OK",null,null,null,"10000688"]
["ACCE","1120","STR00012",null,"ACCE1120STR00012","OK",null,null,null,"10000689"]
["ACCE","1120","UGS00001",null,"ACCE1120UGS00001","OK",null,null,null,"10000690"]
["ACCE","1121","DIS00001",null,"ACCE1121DIS00001","OK",null,null,null,"10000691"]
["ACCE","1121","FRE01301",null,"ACCE1121FRE01301","OK",null,null,null,"10000694"]
["ACCE","1121","GEN00001",null,"ACCE1121GEN00001","OK",null,null,null,"10000696"]
["ACCE","1121","IMS00001",null,"ACCE1121IMS00001","OK",null,null,null,"10000698"]
["ACCE","1121","NSP00001",null,"ACCE1121NSP00001","OK",null,null,null,"10000702"]
["ACCE","1121","NSP00002",null,"ACCE1121NSP00002","OK",null,null,null,"10000703"]
["ACCE","1121","NSP00003",null,"ACCE1121NSP00003","OK",null,null,null,"10000707"]
["ACCE","1121","NSP00004",null,"ACCE1121NSP00004","OK",null,null,null,"10000709"]
["ACCE","1121","NSP00005",null,"ACCE1121NSP00005","OK",null,null,null,"10000712"]
["ACCE","1121","NSP00006",null,"ACCE1121NSP00006","OK",null,null,null,"10000714"]
["ACCE","1121","NSP00007",null,"ACCE1121NSP00007","OK",null,null,null,"10000721"]
["ACCE","1121","NSP00008",null,"ACCE1121NSP00008","OK",null,null,null,"10000725"]
["ACCE","1121","NSP00009",null,"ACCE1121NSP00009","OK",null,null,null,"10000730"]
["ACCE","1121","NSP00010",null,"ACCE1121NSP00010","OK",null,null,null,"10000732"]
["ACCE","1121","NSP00011",null,"ACCE1121NSP00011","OK",null,null,null,"AAC00001"]
["ACCE","1121","ORP00001",null,"ACCE1121ORP00001","OK",null,null,null,"ALU00001"]
["ACCE","1121","PGS00001",null,"ACCE1121PGS00001","OK",null,null,null,"ART00005"]
["ACCE","1121","PVC00001",null,"ACCE1121PVC00001","OK",null,null,null,"BEL00001"]
["ACCE","1121","SLL00001",null,"ACCE1121SLL00001","OK",null,null,null,"BUR01000"]
["ACCE","1121","SSA00001",null,"ACCE1121SSA00001","OK",null,null,null,"CAR00001"]
["ACCE","1121","STR00001",null,"ACCE1121STR00001","OK",null,null,null,"CCC00001"]
["ACCE","1121","STR00002",null,"ACCE1121STR00002","OK",null,null,null,"CCC00002"]
["ACCE","1121","STR00003",null,"ACCE1121STR00003","OK",null,null,null,"CCE01301"]
["ACCE","1121","STR00004",null,"ACCE1121STR00004","OK",null,null,null,"CCE01302"]
["ACCE","1121","STR00005",null,"ACCE1121STR00005","OK",null,null,null,"CCR01301"]
["ACCE","1121","STR00006",null,"ACCE1121STR00006","OK",null,null,null,"CCR01303"]
["ACCE","1121","STR00007",null,"ACCE1121STR00007","OK",null,null,null,"CEC00001"]
["ACCE","1121","STR00008",null,"ACCE1121STR00008","OK",null,null,null,"CEP00001"]
["ACCE","1121","STR00009",null,"ACCE1121STR00009","OK",null,null,null,"CFG00001"]
["ACCE","1121","STR00010",null,"ACCE1121STR00010","OK",null,null,null,"CFG00002"]
["ACCE","1121","STR00011",null,"ACCE1121STR00011","OK",null,null,null,"CFP01301"]
["ACCE","1121","STR00012",null,"ACCE1121STR00012","OK",null,null,null,"CGR00001"]
["ACCE","1121","UGS00001",null,"ACCE1121UGS00001","OK",null,null,null,"CHA00001"]
["ACCE","1199","DIS00001",null,"ACCE1199DIS00001","OK",null,null,null,"CHR00001"]
["ACCE","1199","FRE01301",null,"ACCE1199FRE01301","OK",null,null,null,"CIH00001"]
["ACCE","1199","GEN00001",null,"ACCE1199GEN00001","OK",null,null,null,"CLT00001"]
["ACCE","1199","IMS00001",null,"ACCE1199IMS00001","OK",null,null,null,"CMA00001"]
["ACCE","1199","NSP00001",null,"ACCE1199NSP00001","OK",null,null,null,"COM00001"]
["ACCE","1199","NSP00002",null,"ACCE1199NSP00002","OK",null,null,null,"CON00001"]
["ACCE","1199","NSP00003",null,"ACCE1199NSP00003","OK",null,null,null,"CON00005"]
["ACCE","1199","NSP00004",null,{"$f":"CONCATENATE(A132,B132,C132)","v":"ACCE1199NSP00004"},"OK",null,null,null,"CPA00002"]
["ACCE","1199","NSP00005",null,"ACCE1199NSP00005","OK",null,null,null,"CPA00003"]
["ACCE","1199","NSP00006",null,"ACCE1199NSP00006","OK",null,null,null,"CPA00004"]
["ACCE","1199","NSP00007",null,"ACCE1199NSP00007","OK",null,null,null,"CPA00005"]
["ACCE","1199","NSP00008",null,"ACCE1199NSP00008","OK",null,null,null,"CPA00006"]
["ACCE","1199","NSP00009",null,"ACCE1199NSP00009","OK",null,null,null,"CPA00007"]
["ACCE","1199","NSP00010",null,"ACCE1199NSP00010","OK",null,null,null,"CPA00008"]
["ACCE","1199","NSP00011",null,"ACCE1199NSP00011","OK",null,null,null,"CRC00001"]
["ACCE","1199","ORP00001",null,"ACCE1199ORP00001","OK",null,null,null,"CRF00001"]
["ACCE","1199","PGS00001",null,"ACCE1199PGS00001","OK",null,null,null,"CSD00001"]
["ACCE","1199","PVC00001",null,"ACCE1199PVC00001","OK",null,null,null,"CUR00001"]
["ACCE","1199","SLL00001",null,"ACCE1199SLL00001","OK",null,null,null,"DEP01303"]
["ACCE","1199","SSA00001",null,"ACCE1199SSA00001","OK",null,null,null,"DEP01304"]
["ACCE","1199","STR00001",null,"ACCE1199STR00001","OK",null,null,null,"DEP01305"]
["ACCE","1199","STR00002",null,"ACCE1199STR00002","OK",null,null,null,"DEP01306"]
["ACCE","1199","STR00003",null,"ACCE1199STR00003","OK",null,null,null,"DEP01307"]
["ACCE","1199","STR00004",null,"ACCE1199STR00004","OK",null,null,null,"DEP01309"]
["ACCE","1199","STR00005",null,"ACCE1199STR00005","OK",null,null,null,"DEP01310"]
["ACCE","1199","STR00006",null,"ACCE1199STR00006","OK",null,null,null,"DEP01311"]
["ACCE","1199","STR00007",null,"ACCE1199STR00007","OK",null,null,null,"DEP01312"]
["ACCE","1199","STR00008",null,"ACCE1199STR00008","OK",null,null,null,"DEP01313"]
["ACCE","1199","STR00009",null,"ACCE1199STR00009","OK",null,null,null,"DEP01314"]
["ACCE","1199","STR00010",null,"ACCE1199STR00010","OK",null,null,null,"DIS00001"]
["ACCE","1199","STR00011",null,"ACCE1199STR00011","OK",null,null,null,"EDD00001"]
["ACCE","1199","STR00012",null,"ACCE1199STR00012","OK",null,null,null,"EDU00A06"]
["ACCE","1199","UGS00001",null,"ACCE1199UGS00001","OK",null,null,null,"EDU00A20"]
["ACCE","1330","DIS00001",null,"ACCE1330DIS00001","OK",null,null,null,"EMP00001"]
["ACCE","1330","FRE01301",null,"ACCE1330FRE01301","OK",null,null,null,"ENE00001"]
["ACCE","1330","GEN00001",null,"ACCE1330GEN00001","OK",null,null,null,"ENG00001"]
["ACCE","1330","IMS00001",null,"ACCE1330IMS00001","OK",null,null,null,"ENT01101"]
["ACCE","1330","NSP00001",null,"ACCE1330NSP00001","OK",null,null,null,"ENT01201"]
["ACCE","1330","NSP00002",null,"ACCE1330NSP00002","OK",null,null,null,"ENT01301"]
["ACCE","1330","NSP00003",null,"ACCE1330NSP00003","OK",null,null,null,"ENT01401"]
["ACCE","1330","NSP00004",null,"ACCE1330NSP00004","OK",null,null,null,"ENT03301"]
["ACCE","1330","NSP00005",null,"ACCE1330NSP00005","OK",null,null,null,"ENT09401"]
["ACCE","1330","NSP00006",null,"ACCE1330NSP00006","OK",null,null,null,"ERP02014"]
["ACCE","1330","NSP00007",null,"ACCE1330NSP00007","OK",null,null,null,"EVE00001"]
["ACCE","1330","NSP00008",null,"ACCE1330NSP00008","OK",null,null,null,"FAM00001"]
["ACCE","1330","NSP00009",null,"ACCE1330NSP00009","OK",null,null,null,"FBC01401"]
["ACCE","1330","NSP00010",null,"ACCE1330NSP00010","OK",null,null,null,"FOU00001"]
["ACCE","1330","NSP00011",null,"ACCE1330NSP00011","OK",null,null,null,"FRE01301"]
["ACCE","1330","ORP00001",null,"ACCE1330ORP00001","OK",null,null,null,"FTR00405"]
["ACCE","1330","PGS00001",null,"ACCE1330PGS00001","OK",null,null,null,"FTR00406"]
["ACCE","1330","PVC00001",null,"ACCE1330PVC00001","OK",null,null,null,"FY002000"]
["ACCE","1330","SLL00001",null,"ACCE1330SLL00001","OK",null,null,null,"GAR00001"]
["ACCE","1330","SSA00001",null,"ACCE1330SSA00001","OK",null,null,null,"GCR00001"]
["ACCE","1330","STR00001",null,"ACCE1330STR00001","OK",null,null,null,"GCR00002"]
["ACCE","1330","STR00002",null,"ACCE1330STR00002","OK",null,null,null,"GCR00003"]
["ACCE","1330","STR00003",null,"ACCE1330STR00003","OK",null,null,null,"GCR00004"]
["ACCE","1330","STR00004",null,"ACCE1330STR00004","OK",null,null,null,"GCR00005"]
["ACCE","1330","STR00005",null,"ACCE1330STR00005","OK",null,null,null,"GEN00001"]
["ACCE","1330","STR00006",null,"ACCE1330STR00006","OK",null,null,null,"GM000001"]
["ACCE","1330","STR00007",null,"ACCE1330STR00007","OK",null,null,null,"GSC01401"]
["ACCE","1330","STR00008",null,"ACCE1330STR00008","OK",null,null,null,"GSC01402"]
["ACCE","1330","STR00009",null,"ACCE1330STR00009","OK",null,null,null,"GSC01403"]
["ACCE","1330","STR00010",null,"ACCE1330STR00010","OK",null,null,null,"HAS00001"]
["ACCE","1330","STR00011",null,"ACCE1330STR00011","OK",null,null,null,"HCH01301"]
["ACCE","1330","STR00012",null,"ACCE1330STR00012","OK",null,null,null,"HEF00004"]
["ACCE","1330","UGS00001",null,"ACCE1330UGS00001","OK",null,null,null,"HEF00014"]
["ACCE","1310","DIS00001",null,"ACCE1310DIS00001","OK",null,null,null,"HEF000A6"]
["ACCE","1310","FRE01301",null,"ACCE1310FRE01301","OK",null,null,null,"HEF000A7"]
["ACCE","1310","GEN00001",null,"ACCE1310GEN00001","OK",null,null,null,"IDE01301"]
["ACCE","1310","IMS00001",null,"ACCE1310IMS00001","OK",null,null,null,"IMB00001"]
["ACCE","1310","NSP00001",null,"ACCE1310NSP00001","OK",null,null,null,"IMP02324"]
["ACCE","1310","NSP00002",null,{"$f":"CONCATENATE(A196,B196,C196)","v":"ACCE1310NSP00002"},"OK",null,null,null,"IMP02425"]
["ACCE","1310","NSP00003",null,"ACCE1310NSP00003","OK",null,null,null,"IMS00001"]
["ACCE","1310","NSP00004",null,"ACCE1310NSP00004","OK",null,null,null,"INI00047"]
["ACCE","1310","NSP00005",null,"ACCE1310NSP00005","OK",null,null,null,"INI00052"]
["ACCE","1310","NSP00006",null,"ACCE1310NSP00006","OK",null,null,null,"INI01000"]
["ACCE","1310","NSP00007",null,"ACCE1310NSP00007","OK",null,null,null,"INT00001"]
["ACCE","1310","NSP00008",null,"ACCE1310NSP00008","OK",null,null,null,"INT00028"]
["ACCE","1310","NSP00009",null,"ACCE1310NSP00009","OK",null,null,null,"IOR01301"]
["ACCE","1310","NSP00010",null,"ACCE1310NSP00010","OK",null,null,null,"IRU01000"]
["ACCE","1310","NSP00011",null,"ACCE1310NSP00011","OK",null,null,null,"ITC00001"]
["ACCE","1310","ORP00001",null,"ACCE1310ORP00001","OK",null,null,null,"ITC00002"]
["ACCE","1310","PGS00001",null,"ACCE1310PGS00001","OK",null,null,null,"ITC00003"]
["ACCE","1310","PVC00001",null,"ACCE1310PVC00001","OK",null,null,null,"ITC00004"]
["ACCE","1310","SLL00001",null,"ACCE1310SLL00001","OK",null,null,null,"ITC00005"]
["ACCE","1310","SSA00001",null,"ACCE1310SSA00001","OK",null,null,null,"ITC00006"]
["ACCE","1310","STR00001",null,"ACCE1310STR00001","OK",null,null,null,"ITC00007"]
["ACCE","1310","STR00002",null,"ACCE1310STR00002","OK",null,null,null,"ITC00008"]
["ACCE","1310","STR00003",null,"ACCE1310STR00003","OK",null,null,null,"ITC00009"]
["ACCE","1310","STR00004",null,"ACCE1310STR00004","OK",null,null,null,"ITC00010"]
["ACCE","1310","STR00005",null,"ACCE1310STR00005","OK",null,null,null,"ITC00017"]
["ACCE","1310","STR00006",null,"ACCE1310STR00006","OK",null,null,null,"ITC00018"]
["ACCE","1310","STR00007",null,"ACCE1310STR00007","OK",null,null,null,"ITC00019"]
["ACCE","1310","STR00008",null,"ACCE1310STR00008","OK",null,null,null,"ITC00020"]
["ACCE","1310","STR00009",null,"ACCE1310STR00009","OK",null,null,null,"ITC00021"]
["ACCE","1310","STR00010",null,"ACCE1310STR00010","OK",null,null,null,"ITC00022"]
["ACCE","1310","STR00011",null,"ACCE1310STR00011","OK",null,null,null,"ITC00023"]
["ACCE","1310","STR00012",null,"ACCE1310STR00012","OK",null,null,null,"ITC00024"]
["ACCE","1310","UGS00001",null,"ACCE1310UGS00001","OK",null,null,null,"ITT00001"]
["ACER","1199","CPA00008",null,"ACER1199CPA00008","OK",null,null,null,"ITT00002"]
["ACER","1199","GEN00001",null,"ACER1199GEN00001","OK",null,null,null,"KOR00001"]
["ACER","1199","SRE03000",null,"ACER1199SRE03000","OK",null,null,null,"LIB00001"]
["ACER","1199","SRE04000",null,"ACER1199SRE04000","OK",null,null,null,"LIB00002"]
["ACER","1199","SRE05000",null,"ACER1199SRE05000","OK",null,null,null,"LIL01101"]
["ACER","1199","SRE06000",null,"ACER1199SRE06000","OK",null,null,null,"LTC00001"]
["ACER","1199","SRE07000",null,"ACER1199SRE07000","OK",null,null,null,"LTR00001"]
["ACER","1300","CPA00008",null,"ACER1300CPA00008","OK",null,null,null,"MAR00002"]
["ACER","1300","GEN00001",null,"ACER1300GEN00001","OK",null,null,null,"MSE01301"]
["ACER","1300","SRE03000",null,"ACER1300SRE03000","OK",null,null,null,"NSC00001"]
["ACER","1300","SRE04000",null,"ACER1300SRE04000","OK",null,null,null,"NSP00001"]
["ACER","1300","SRE05000",null,"ACER1300SRE05000","OK",null,null,null,"NSP00002"]
["ACER","1300","SRE06000",null,"ACER1300SRE06000","OK",null,null,null,"NSP00003"]
["ACER","1300","SRE07000",null,"ACER1300SRE07000","OK",null,null,null,"NSP00004"]
["ACER","1310","CPA00008",null,"ACER1310CPA00008","OK",null,null,null,"NSP00005"]
["ACER","1310","GEN00001",null,"ACER1310GEN00001","OK",null,null,null,"NSP00006"]
["ACER","1310","SRE03000",null,"ACER1310SRE03000","OK",null,null,null,"NSP00007"]
["ACER","1310","SRE04000",null,"ACER1310SRE04000","OK",null,null,null,"NSP00008"]
["ACER","1310","SRE05000",null,"ACER1310SRE05000","OK",null,null,null,"NSP00009"]
["ACER","1310","SRE06000",null,"ACER1310SRE06000","OK",null,null,null,"NSP00010"]
["ACER","1310","SRE07000",null,"ACER1310SRE07000","OK",null,null,null,"NSP00011"]
["ACER","1320","CPA00008",null,"ACER1320CPA00008","OK",null,null,null,"OFS01000"]
["ACER","1320","GEN00001",null,"ACER1320GEN00001","OK",null,null,null,"ORP00001"]
["ACER","1320","SRE03000",null,"ACER1320SRE03000","OK",null,null,null,"PFC00001"]
["ACER","1320","SRE04000",null,"ACER1320SRE04000","OK",null,null,null,"PGC01301"]
["ACER","1320","SRE05000",null,"ACER1320SRE05000","OK",null,null,null,"PGS00001"]
["ACER","1320","SRE06000",null,"ACER1320SRE06000","OK",null,null,null,"PHD01403"]
["ACER","1320","SRE07000",null,"ACER1320SRE07000","OK",null,null,null,"PHY00001"]
["ACER","1330","CPA00008",null,"ACER1330CPA00008","OK",null,null,null,"PLL00001"]
["ACER","1330","GEN00001",null,"ACER1330GEN00001","OK",null,null,null,"PNS00001"]
["ACER","1330","SRE03000",null,"ACER1330SRE03000","OK",null,null,null,"PVC00001"]
["ACER","1330","SRE04000",null,"ACER1330SRE04000","OK",null,null,null,"RAE00004"]
["ACER","1330","SRE05000",null,"ACER1330SRE05000","OK",null,null,null,"RAE00022"]
["ACER","1330","SRE06000",null,"ACER1330SRE06000","OK",null,null,null,"RAE00023"]
["ACER","1330","SRE07000",null,"ACER1330SRE07000","OK",null,null,null,"RAE00024"]
["ACFI","1199","GEN00001",null,"ACFI1199GEN00001","OK",null,null,null,"RAE00025"]
["ACFI","1320","GEN00001",null,{"$f":"CONCATENATE(A260,B260,C260)","v":"ACFI1320GEN00001"},"OK",null,null,null,"RAE00035"]
["ACFI","1330","GEN00001",null,"ACFI1330GEN00001","OK",null,null,null,"RAE00036"]
["ACFI","1300","GEN00001",null,"ACFI1300GEN00001","OK",null,null,null,"RAE00037"]
["ACFI","1310","GEN00001",null,"ACFI1310GEN00001","OK",null,null,null,"RAE00039"]
["ACHR","1300","CSD00001",null,"ACHR1300CSD00001","OK",null,null,null,"RAM00001"]
["ACHR","1300","GEN00001",null,"ACHR1300GEN00001","OK",null,null,null,"REB00001"]
["ACHR","1300","SOC00008",null,"ACHR1300SOC00008","OK",null,null,null,"REC00002"]
["ACHR","1310","CSD00001",null,"ACHR1310CSD00001","OK",null,null,null,"REF01100"]
["ACHR","1310","GEN00001",null,"ACHR1310GEN00001","OK",null,null,null,"REF01200"]
["ACHR","1310","SOC00008",null,"ACHR1310SOC00008","OK",null,null,null,"REF01300"]
["ACHR","1320","CSD00001",null,"ACHR1320CSD00001","OK",null,null,null,"REF01400"]
["ACHR","1320","GEN00001",null,"ACHR1320GEN00001","OK",null,null,null,"REF01500"]
["ACHR","1320","SOC00008",null,"ACHR1320SOC00008","OK",null,null,null,"REF01600"]
["ACHR","1330","CSD00001",null,"ACHR1330CSD00001","OK",null,null,null,"REF03100"]
["ACHR","1330","GEN00001",null,"ACHR1330GEN00001","OK",null,null,null,"REF03200"]
["ACHR","1330","SOC00008",null,"ACHR1330SOC00008","OK",null,null,null,"REF03300"]
["ACPV","1199","GEN00001",null,"ACPV1199GEN00001","OK",null,null,null,"REF03400"]
["ACPV","1199","SRE02000",null,"ACPV1199SRE02000","OK",null,null,null,"REF05000"]
["ACPV","1300","GEN00001",null,"ACPV1300GEN00001","OK",null,null,null,"REF06000"]
["ACPV","1300","SRE02000",null,"ACPV1300SRE02000","OK",null,null,null,"RES00002"]
["ACPV","1310","GEN00001",null,"ACPV1310GEN00001","OK",null,null,null,"RES00005"]
["ACPV","1310","SRE02000",null,"ACPV1310SRE02000","OK",null,null,null,"RES00012"]
["ACPV","1320","GEN00001",null,"ACPV1320GEN00001","OK",null,null,null,"RES01100"]
["ACPV","1320","SRE02000",null,"ACPV1320SRE02000","OK",null,null,null,"RES01300"]
["ACPV","1330","GEN00001",null,"ACPV1330GEN00001","OK",null,null,null,"RES01401"]
["ACPV","1330","SRE02000",null,"ACPV1330SRE02000","OK",null,null,null,"RES02101"]
["ACRE","1199","DIS00001",null,"ACRE1199DIS00001","OK",null,null,null,"RES02102"]
["ACRE","1199","GEN00001",null,"ACRE1199GEN00001","OK",null,null,null,"RES02103"]
["ACRE","1300","DIS00001",null,"ACRE1300DIS00001","OK",null,null,null,"RES02104"]
["ACRE","1300","GEN00001",null,"ACRE1300GEN00001","OK",null,null,null,"RES02105"]
["ACRE","1310","DIS00001",null,"ACRE1310DIS00001","OK",null,null,null,"RES02201"]
["ACRE","1310","GEN00001",null,"ACRE1310GEN00001","OK",null,null,null,"RES02302"]
["ACRE","1320","DIS00001",null,"ACRE1320DIS00001","OK",null,null,null,"RES02401"]
["ACRE","1320","GEN00001",null,"ACRE1320GEN00001","OK",null,null,null,"RES03000"]
["ACRE","1330","DIS00001",null,"ACRE1330DIS00001","OK",null,null,null,"RES03100"]
["ACRE","1330","GEN00001",null,"ACRE1330GEN00001","OK",null,null,null,"RES03101"]
["ACVC","1135","CCC00001",null,"ACVC1135CCC00001","OK",null,null,null,"RES03300"]
["ACVC","1135","CCC00002",null,"ACVC1135CCC00002","OK",null,null,null,"RES03301"]
["ACVC","1135","CGR00001",null,"ACVC1135CGR00001","OK",null,null,null,"RET00001"]
["ACVC","1135","DIS00001",null,"ACVC1135DIS00001","OK",null,null,null,"RIS00001"]
["ACVC","1135","EVE00001",null,"ACVC1135EVE00001","OK",null,null,null,"RIT00014"]
["ACVC","1135","FAM00001",null,"ACVC1135FAM00001","OK",null,null,null,"SAD01000"]
["ACVC","1135","GEN00001",null,"ACVC1135GEN00001","OK",null,null,null,"SAD01040"]
["ACVC","1135","REC00002",null,"ACVC1135REC00002","OK",null,null,null,"SBU01001"]
["ACVC","1135","VCR00001",null,"ACVC1135VCR00001","OK",null,null,null,"SBU01002"]
["ACVC","1135","VCR00002",null,"ACVC1135VCR00002","OK",null,null,null,"SBU01003"]
["ACVC","1135","VCR00003",null,"ACVC1135VCR00003","OK",null,null,null,"SBU01004"]
["ACVC","1135","VCR00004",null,"ACVC1135VCR00004","OK",null,null,null,"SBU01005"]
["ACVC","1135","VCR00005",null,"ACVC1135VCR00005","OK",null,null,null,"SBU01006"]
["ACVC","1135","VCR00006",null,"ACVC1135VCR00006","OK",null,null,null,"SBU01007"]
["ACVC","1135","VCR00007",null,"ACVC1135VCR00007","OK",null,null,null,"SBU01008"]
["ACVC","1135","VCR00008",null,"ACVC1135VCR00008","OK",null,null,null,"SBU01009"]
["ACVC","1135","VCR00009",null,"ACVC1135VCR00009","OK",null,null,null,"SBU02001"]
["ACVC","1135","VCR00010",null,"ACVC1135VCR00010","OK",null,null,null,"SBU03001"]
["ACVC","1199","CCC00001",null,"ACVC1199CCC00001","OK",null,null,null,"SBU04001"]
["ACVC","1199","CCC00002",null,"ACVC1199CCC00002","OK",null,null,null,"SBU04002"]
["ACVC","1199","CGR00001",null,"ACVC1199CGR00001","OK",null,null,null,"SBU04003"]
["ACVC","1199","DIS00001",null,"ACVC1199DIS00001","OK",null,null,null,"SBU04004"]
["ACVC","1199","EVE00001",null,"ACVC1199EVE00001","OK",null,null,null,"SBU04012"]
["ACVC","1199","FAM00001",null,"ACVC1199FAM00001","OK",null,null,null,"SBU04013"]
["ACVC","1199","GEN00001",null,"ACVC1199GEN00001","OK",null,null,null,"SBU04014"]
["ACVC","1199","REC00002",null,"ACVC1199REC00002","OK",null,null,null,"SBU04015"]
["ACVC","1199","VCR00001",null,"ACVC1199VCR00001","OK",null,null,null,"SBU05001"]
["ACVC","1199","VCR00002",null,"ACVC1199VCR00002","OK",null,null,null,"SBU05002"]
["ACVC","1199","VCR00003",null,{"$f":"CONCATENATE(A324,B324,C324)","v":"ACVC1199VCR00003"},"OK",null,null,null,"SBU05003"]
["ACVC","1199","VCR00004",null,"ACVC1199VCR00004","OK",null,null,null,"SBU05004"]
["ACVC","1199","VCR00005",null,"ACVC1199VCR00005","OK",null,null,null,"SBU05005"]
["ACVC","1199","VCR00006",null,"ACVC1199VCR00006","OK",null,null,null,"SBU05006"]
["ACVC","1199","VCR00007",null,"ACVC1199VCR00007","OK",null,null,null,"SBU05007"]
["ACVC","1199","VCR00008",null,"ACVC1199VCR00008","OK",null,null,null,"SBU05008"]
["ACVC","1199","VCR00009",null,"ACVC1199VCR00009","OK",null,null,null,"SBU05009"]
["ACVC","1199","VCR00010",null,"ACVC1199VCR00010","OK",null,null,null,"SBU05010"]
["ACVC","1300","CCC00001",null,"ACVC1300CCC00001","OK",null,null,null,"SBU05011"]
["ACVC","1300","CCC00002",null,"ACVC1300CCC00002","OK",null,null,null,"SBU05012"]
["ACVC","1300","CGR00001",null,"ACVC1300CGR00001","OK",null,null,null,"SBU05013"]
["ACVC","1300","DIS00001",null,"ACVC1300DIS00001","OK",null,null,null,"SBU07001"]
["ACVC","1300","EVE00001",null,"ACVC1300EVE00001","OK",null,null,null,"SBU08005"]
["ACVC","1300","FAM00001",null,"ACVC1300FAM00001","OK",null,null,null,"SBU08009"]
["ACVC","1300","GEN00001",null,"ACVC1300GEN00001","OK",null,null,null,"SBU10001"]
["ACVC","1300","REC00002",null,"ACVC1300REC00002","OK",null,null,null,"SBU10002"]
["ACVC","1300","VCR00001",null,"ACVC1300VCR00001","OK",null,null,null,"SCC00001"]
["ACVC","1300","VCR00002",null,"ACVC1300VCR00002","OK",null,null,null,"SDI01301"]
["ACVC","1300","VCR00003",null,"ACVC1300VCR00003","OK",null,null,null,"SDN01401"]
["ACVC","1300","VCR00004",null,"ACVC1300VCR00004","OK",null,null,null,"SDW01000"]
["ACVC","1300","VCR00005",null,"ACVC1300VCR00005","OK",null,null,null,"SDW01002"]
["ACVC","1300","VCR00006",null,"ACVC1300VCR00006","OK",null,null,null,"SFI00001"]
["ACVC","1300","VCR00007",null,"ACVC1300VCR00007","OK",null,null,null,"SHO00001"]
["ACVC","1300","VCR00008",null,"ACVC1300VCR00008","OK",null,null,null,"SHO00002"]
["ACVC","1300","VCR00009",null,"ACVC1300VCR00009","OK",null,null,null,"SIM01401"]
["ACVC","1300","VCR00010",null,"ACVC1300VCR00010","OK",null,null,null,"SLA00001"]
["ACVC","1310","CCC00001",null,"ACVC1310CCC00001","OK",null,null,null,"SLL00001"]
["ACVC","1310","CCC00002",null,"ACVC1310CCC00002","OK",null,null,null,"SOC00008"]
["ACVC","1310","CGR00001",null,"ACVC1310CGR00001","OK",null,null,null,"SRE01000"]
["ACVC","1310","DIS00001",null,"ACVC1310DIS00001","OK",null,null,null,"SRE02000"]
["ACVC","1310","EVE00001",null,"ACVC1310EVE00001","OK",null,null,null,"SRE02010"]
["ACVC","1310","FAM00001",null,"ACVC1310FAM00001","OK",null,null,null,"SRE02020"]
["ACVC","1310","GEN00001",null,"ACVC1310GEN00001","OK",null,null,null,"SRE03000"]
["ACVC","1310","REC00002",null,"ACVC1310REC00002","OK",null,null,null,"SRE04000"]
["ACVC","1310","VCR00001",null,"ACVC1310VCR00001","OK",null,null,null,"SRE05000"]
["ACVC","1310","VCR00002",null,"ACVC1310VCR00002","OK",null,null,null,"SRE06000"]
["ACVC","1310","VCR00003",null,"ACVC1310VCR00003","OK",null,null,null,"SRE07000"]
["ACVC","1310","VCR00004",null,"ACVC1310VCR00004","OK",null,null,null,"SRT00001"]
["ACVC","1310","VCR00005",null,"ACVC1310VCR00005","OK",null,null,null,"SRT00002"]
["ACVC","1310","VCR00006",null,"ACVC1310VCR00006","OK",null,null,null,"SSA00001"]
["ACVC","1310","VCR00007",null,"ACVC1310VCR00007","OK",null,null,null,"STR00001"]
["ACVC","1310","VCR00008",null,"ACVC1310VCR00008","OK",null,null,null,"STR00002"]
["ACVC","1310","VCR00009",null,"ACVC1310VCR00009","OK",null,null,null,"STR00003"]
["ACVC","1310","VCR00010",null,"ACVC1310VCR00010","OK",null,null,null,"STR00004"]
["ACVC","1320","CCC00001",null,"ACVC1320CCC00001","OK",null,null,null,"STR00005"]
["ACVC","1320","CCC00002",null,"ACVC1320CCC00002","OK",null,null,null,"STR00006"]
["ACVC","1320","CGR00001",null,"ACVC1320CGR00001","OK",null,null,null,"STR00007"]
["ACVC","1320","DIS00001",null,"ACVC1320DIS00001","OK",null,null,null,"STR00008"]
["ACVC","1320","EVE00001",null,"ACVC1320EVE00001","OK",null,null,null,"STR00009"]
["ACVC","1320","FAM00001",null,"ACVC1320FAM00001","OK",null,null,null,"STR00010"]
["ACVC","1320","GEN00001",null,"ACVC1320GEN00001","OK",null,null,null,"STR00011"]
["ACVC","1320","REC00002",null,"ACVC1320REC00002","OK",null,null,null,"STR00012"]
["ACVC","1320","VCR00001",null,"ACVC1320VCR00001","OK",null,null,null,"STU00002"]
["ACVC","1320","VCR00002",null,"ACVC1320VCR00002","OK",null,null,null,"SUB00001"]
["ACVC","1320","VCR00003",null,"ACVC1320VCR00003","OK",null,null,null,"SUB00015"]
["ACVC","1320","VCR00004",null,"ACVC1320VCR00004","OK",null,null,null,"SUS00001"]
["ACVC","1320","VCR00005",null,"ACVC1320VCR00005","OK",null,null,null,"SWL00001"]
["ACVC","1320","VCR00006",null,"ACVC1320VCR00006","OK",null,null,null,"SYS00001"]
["ACVC","1320","VCR00007",null,"ACVC1320VCR00007","OK",null,null,null,"TDA00010"]
["ACVC","1320","VCR00008",null,"ACVC1320VCR00008","OK",null,null,null,"TDA00016"]
["ACVC","1320","VCR00009",null,"ACVC1320VCR00009","OK",null,null,null,"TPC01101"]
["ACVC","1320","VCR00010",null,"ACVC1320VCR00010","OK",null,null,null,"TSC00001"]
["ACVC","1330","CCC00001",null,"ACVC1330CCC00001","OK",null,null,null,"TUR01000"]
["ACVC","1330","CCC00002",null,"ACVC1330CCC00002","OK",null,null,null,"UGS00001"]
["ACVC","1330","CGR00001",null,{"$f":"CONCATENATE(A388,B388,C388)","v":"ACVC1330CGR00001"},"OK",null,null,null,"UNE00001"]
["ACVC","1330","DIS00001",null,"ACVC1330DIS00001","OK",null,null,null,"UNI00001"]
["ACVC","1330","EVE00001",null,"ACVC1330EVE00001","OK",null,null,null,"UNI00002"]
["ACVC","1330","FAM00001",null,"ACVC1330FAM00001","OK",null,null,null,"VCR00001"]
["ACVC","1330","GEN00001",null,"ACVC1330GEN00001","OK",null,null,null,"VCR00002"]
["ACVC","1330","REC00002",null,"ACVC1330REC00002","OK",null,null,null,"VCR00003"]
["ACVC","1330","VCR00001",null,"ACVC1330VCR00001","OK",null,null,null,"VCR00004"]
["ACVC","1330","VCR00002",null,"ACVC1330VCR00002","OK",null,null,null,"VCR00005"]
["ACVC","1330","VCR00003",null,"ACVC1330VCR00003","OK",null,null,null,"VCR00006"]
["ACVC","1330","VCR00004",null,"ACVC1330VCR00004","OK",null,null,null,"VCR00007"]
["ACVC","1330","VCR00005",null,"ACVC1330VCR00005","OK",null,null,null,"VCR00008"]
["ACVC","1330","VCR00006",null,"ACVC1330VCR00006","OK",null,null,null,"VCR00009"]
["ACVC","1330","VCR00007",null,"ACVC1330VCR00007","OK",null,null,null,"VCR00010"]
["ACVC","1330","VCR00008",null,"ACVC1330VCR00008","OK",null,null,null,"VCS00001"]
["ACVC","1330","VCR00009",null,"ACVC1330VCR00009","OK",null,null,null,"VMT00001"]
["ACVC","1330","VCR00010",null,"ACVC1330VCR00010","OK",null,null,null,"WPC01101"]
["ADBC","1100","GEN00001",null,"ADBC1100GEN00001","OK",null,null,null,"YEH00001"]
["ADBC","1110","GEN00001",null,"ADBC1110GEN00001","OK",null,null,null,"YEN00001"]
["ADBC","1120","GEN00001",null,"ADBC1120GEN00001","OK"]
["ADBC","1210","GEN00001",null,"ADBC1210GEN00001","OK"]
["ADBC","1230","GEN00001",null,"ADBC1230GEN00001","OK"]
["ADBC","1300","GEN00001",null,"ADBC1300GEN00001","OK"]
["ADBC","1310","GEN00001",null,"ADBC1310GEN00001","OK"]
["ADBC","1320","GEN00001",null,"ADBC1320GEN00001","OK"]
["ADBE","1100","ENT01201",null,"ADBE1100ENT01201","OK"]
["ADBE","1110","ENT01201",null,"ADBE1110ENT01201","OK"]
["ADBE","1120","ENT01201",null,"ADBE1120ENT01201","OK"]
["ADBE","1210","ENT01201",null,"ADBE1210ENT01201","OK"]
["ADBE","1230","ENT01201",null,"ADBE1230ENT01201","OK"]
["ADBE","1330","ENT01201",null,"ADBE1330ENT01201","OK"]
["ADBE","1300","ENT01201",null,"ADBE1300ENT01201","OK"]
["ADBE","1310","ENT01201",null,"ADBE1310ENT01201","OK"]
["ADBE","1320","ENT01201",null,"ADBE1320ENT01201","OK"]
["ADBR","1100","10000675",null,"ADBR110010000675","OK"]
["ADBR","1100","10000686",null,"ADBR110010000686","OK"]
["ADBR","1100","10000687",null,"ADBR110010000687","OK"]
["ADBR","1100","10000694",null,"ADBR110010000694","OK"]
["ADBR","1100","RES02201",null,"ADBR1100RES02201","OK"]
["ADBR","1110","10000675",null,"ADBR111010000675","OK"]
["ADBR","1110","10000686",null,"ADBR111010000686","OK"]
["ADBR","1110","10000687",null,"ADBR111010000687","OK"]
["ADBR","1110","10000694",null,"ADBR111010000694","OK"]
["ADBR","1110","RES02201",null,"ADBR1110RES02201","OK"]
["ADBR","1120","10000675",null,"ADBR112010000675","OK"]
["ADBR","1120","10000686",null,"ADBR112010000686","OK"]
["ADBR","1120","10000687",null,"ADBR112010000687","OK"]
["ADBR","1120","10000694",null,"ADBR112010000694","OK"]
["ADBR","1120","RES02201",null,"ADBR1120RES02201","OK"]
["ADBR","1320","10000675",null,"ADBR132010000675","OK"]
["ADBR","1320","10000686",null,"ADBR132010000686","OK"]
["ADBR","1320","10000687",null,"ADBR132010000687","OK"]
["ADBR","1320","10000694",null,"ADBR132010000694","OK"]
["ADBR","1320","RES02201",null,"ADBR1320RES02201","OK"]
["ADBR","1210","10000675",null,"ADBR121010000675","OK"]
["ADBR","1210","10000686",null,"ADBR121010000686","OK"]
["ADBR","1210","10000687",null,"ADBR121010000687","OK"]
["ADBR","1210","10000694",null,"ADBR121010000694","OK"]
["ADBR","1210","RES02201",null,"ADBR1210RES02201","OK"]
["ADBR","1230","10000675",null,"ADBR123010000675","OK"]
["ADBR","1230","10000686",null,"ADBR123010000686","OK"]
["ADBR","1230","10000687",null,"ADBR123010000687","OK"]
["ADBR","1230","10000694",null,"ADBR123010000694","OK"]
["ADBR","1230","RES02201",null,"ADBR1230RES02201","OK"]
["ADBR","1300","10000675",null,"ADBR130010000675","OK"]
["ADBR","1300","10000686",null,{"$f":"CONCATENATE(A452,B452,C452)","v":"ADBR130010000686"},"OK"]
["ADBR","1300","10000687",null,"ADBR130010000687","OK"]
["ADBR","1300","10000694",null,"ADBR130010000694","OK"]
["ADBR","1300","RES02201",null,"ADBR1300RES02201","OK"]
["ADBR","1310","10000675",null,"ADBR131010000675","OK"]
["ADBR","1310","10000686",null,"ADBR131010000686","OK"]
["ADBR","1310","10000687",null,"ADBR131010000687","OK"]
["ADBR","1310","10000694",null,"ADBR131010000694","OK"]
["ADBR","1310","RES02201",null,"ADBR1310RES02201","OK"]
["ADBS","1100","10000533",null,"ADBS110010000533","OK"]
["ADBS","1100","AAC00001",null,"ADBS1100AAC00001","OK"]
["ADBS","1100","BEL00001",null,"ADBS1100BEL00001","OK"]
["ADBS","1100","DEP01305",null,"ADBS1100DEP01305","OK"]
["ADBS","1100","DIS00001",null,"ADBS1100DIS00001","OK"]
["ADBS","1100","ENT01201",null,"ADBS1100ENT01201","OK"]
["ADBS","1100","FY002000",null,"ADBS1100FY002000","OK"]
["ADBS","1100","GEN00001",null,"ADBS1100GEN00001","OK"]
["ADBS","1100","STU00002",null,"ADBS1100STU00002","OK"]
["ADBS","1100","YEN00001",null,"ADBS1100YEN00001","OK"]
["ADBS","1110","10000533",null,"ADBS111010000533","OK"]
["ADBS","1110","AAC00001",null,"ADBS1110AAC00001","OK"]
["ADBS","1110","BEL00001",null,"ADBS1110BEL00001","OK"]
["ADBS","1110","DEP01305",null,"ADBS1110DEP01305","OK"]
["ADBS","1110","DIS00001",null,"ADBS1110DIS00001","OK"]
["ADBS","1110","ENT01201",null,"ADBS1110ENT01201","OK"]
["ADBS","1110","FY002000",null,"ADBS1110FY002000","OK"]
["ADBS","1110","GEN00001",null,"ADBS1110GEN00001","OK"]
["ADBS","1110","STU00002",null,"ADBS1110STU00002","OK"]
["ADBS","1110","YEN00001",null,"ADBS1110YEN00001","OK"]
["ADBS","1330","10000533",null,"ADBS133010000533","OK"]
["ADBS","1330","AAC00001",null,"ADBS1330AAC00001","OK"]
["ADBS","1330","BEL00001",null,"ADBS1330BEL00001","OK"]
["ADBS","1330","DEP01305",null,"ADBS1330DEP01305","OK"]
["ADBS","1330","DIS00001",null,"ADBS1330DIS00001","OK"]
["ADBS","1330","ENT01201",null,"ADBS1330ENT01201","OK"]
["ADBS","1330","FY002000",null,"ADBS1330FY002000","OK"]
["ADBS","1330","GEN00001",null,"ADBS1330GEN00001","OK"]
["ADBS","1330","STU00002",null,"ADBS1330STU00002","OK"]
["ADBS","1330","YEN00001",null,"ADBS1330YEN00001","OK"]
["ADBS","1310","10000533",null,"ADBS131010000533","OK"]
["ADBS","1310","AAC00001",null,"ADBS1310AAC00001","OK"]
["ADBS","1310","BEL00001",null,"ADBS1310BEL00001","OK"]
["ADBS","1310","DEP01305",null,"ADBS1310DEP01305","OK"]
["ADBS","1310","DIS00001",null,"ADBS1310DIS00001","OK"]
["ADBS","1310","ENT01201",null,"ADBS1310ENT01201","OK"]
["ADBS","1310","FY002000",null,"ADBS1310FY002000","OK"]
["ADBS","1310","GEN00001",null,"ADBS1310GEN00001","OK"]
["ADBS","1310","STU00002",null,"ADBS1310STU00002","OK"]
["ADBS","1310","YEN00001",null,"ADBS1310YEN00001","OK"]
["ADBS","1320","10000533",null,"ADBS132010000533","OK"]
["ADBS","1320","AAC00001",null,"ADBS1320AAC00001","OK"]
["ADBS","1320","BEL00001",null,"ADBS1320BEL00001","OK"]
["ADBS","1320","DEP01305",null,"ADBS1320DEP01305","OK"]
["ADBS","1320","DIS00001",null,"ADBS1320DIS00001","OK"]
["ADBS","1320","ENT01201",null,"ADBS1320ENT01201","OK"]
["ADBS","1320","FY002000",null,"ADBS1320FY002000","OK"]
["ADBS","1320","GEN00001",null,"ADBS1320GEN00001","OK"]
["ADBS","1320","STU00002",null,"ADBS1320STU00002","OK"]
["ADBS","1320","YEN00001",null,"ADBS1320YEN00001","OK"]
["ADBS","1230","10000533",null,"ADBS123010000533","OK"]
["ADBS","1230","AAC00001",null,"ADBS1230AAC00001","OK"]
["ADBS","1230","BEL00001",null,"ADBS1230BEL00001","OK"]
["ADBS","1230","DEP01305",null,"ADBS1230DEP01305","OK"]
["ADBS","1230","DIS00001",null,"ADBS1230DIS00001","OK"]
["ADBS","1230","ENT01201",null,{"$f":"CONCATENATE(A516,B516,C516)","v":"ADBS1230ENT01201"},"OK"]
["ADBS","1230","FY002000",null,"ADBS1230FY002000","OK"]
["ADBS","1230","GEN00001",null,"ADBS1230GEN00001","OK"]
["ADBS","1230","STU00002",null,"ADBS1230STU00002","OK"]
["ADBS","1230","YEN00001",null,"ADBS1230YEN00001","OK"]
["ADBS","1300","10000533",null,"ADBS130010000533","OK"]
["ADBS","1300","AAC00001",null,"ADBS1300AAC00001","OK"]
["ADBS","1300","BEL00001",null,"ADBS1300BEL00001","OK"]
["ADBS","1300","DEP01305",null,"ADBS1300DEP01305","OK"]
["ADBS","1300","DIS00001",null,"ADBS1300DIS00001","OK"]
["ADBS","1300","ENT01201",null,"ADBS1300ENT01201","OK"]
["ADBS","1300","FY002000",null,"ADBS1300FY002000","OK"]
["ADBS","1300","GEN00001",null,"ADBS1300GEN00001","OK"]
["ADBS","1300","STU00002",null,"ADBS1300STU00002","OK"]
["ADBS","1300","YEN00001",null,"ADBS1300YEN00001","OK"]
["ADBS","1120","10000533",null,"ADBS112010000533","OK"]
["ADBS","1120","AAC00001",null,"ADBS1120AAC00001","OK"]
["ADBS","1120","BEL00001",null,"ADBS1120BEL00001","OK"]
["ADBS","1120","DEP01305",null,"ADBS1120DEP01305","OK"]
["ADBS","1120","DIS00001",null,"ADBS1120DIS00001","OK"]
["ADBS","1120","ENT01201",null,"ADBS1120ENT01201","OK"]
["ADBS","1120","FY002000",null,"ADBS1120FY002000","OK"]
["ADBS","1120","GEN00001",null,"ADBS1120GEN00001","OK"]
["ADBS","1120","STU00002",null,"ADBS1120STU00002","OK"]
["ADBS","1120","YEN00001",null,"ADBS1120YEN00001","OK"]
["ADBS","1210","10000533",null,"ADBS121010000533","OK"]
["ADBS","1210","AAC00001",null,"ADBS1210AAC00001","OK"]
["ADBS","1210","BEL00001",null,"ADBS1210BEL00001","OK"]
["ADBS","1210","DEP01305",null,"ADBS1210DEP01305","OK"]
["ADBS","1210","DIS00001",null,"ADBS1210DIS00001","OK"]
["ADBS","1210","ENT01201",null,"ADBS1210ENT01201","OK"]
["ADBS","1210","FY002000",null,"ADBS1210FY002000","OK"]
["ADBS","1210","GEN00001",null,"ADBS1210GEN00001","OK"]
["ADBS","1210","STU00002",null,"ADBS1210STU00002","OK"]
["ADBS","1210","YEN00001",null,"ADBS1210YEN00001","OK"]
["ADCA","1100","ART00005",null,"ADCA1100ART00005","OK"]
["ADCA","1100","DIS00001",null,"ADCA1100DIS00001","OK"]
["ADCA","1100","GEN00001",null,"ADCA1100GEN00001","OK"]
["ADCA","1100","STU00002",null,"ADCA1100STU00002","OK"]
["ADCA","1100","SUB00001",null,"ADCA1100SUB00001","OK"]
["ADCA","1100","SUB00015",null,"ADCA1100SUB00015","OK"]
["ADCA","1100","VMT00001",null,"ADCA1100VMT00001","OK"]
["ADCA","1110","ART00005",null,"ADCA1110ART00005","OK"]
["ADCA","1110","DIS00001",null,"ADCA1110DIS00001","OK"]
["ADCA","1110","GEN00001",null,"ADCA1110GEN00001","OK"]
["ADCA","1110","STU00002",null,"ADCA1110STU00002","OK"]
["ADCA","1110","SUB00001",null,"ADCA1110SUB00001","OK"]
["ADCA","1110","SUB00015",null,"ADCA1110SUB00015","OK"]
["ADCA","1110","VMT00001",null,"ADCA1110VMT00001","OK"]
["ADCA","1120","ART00005",null,"ADCA1120ART00005","OK"]
["ADCA","1120","DIS00001",null,"ADCA1120DIS00001","OK"]
["ADCA","1120","GEN00001",null,"ADCA1120GEN00001","OK"]
["ADCA","1120","STU00002",null,"ADCA1120STU00002","OK"]
["ADCA","1120","SUB00001",null,"ADCA1120SUB00001","OK"]
["ADCA","1120","SUB00015",null,"ADCA1120SUB00015","OK"]
["ADCA","1120","VMT00001",null,"ADCA1120VMT00001","OK"]
["ADCA","1188","ART00005",null,"ADCA1188ART00005","OK"]
["ADCA","1188","DIS00001",null,"ADCA1188DIS00001","OK"]
["ADCA","1188","GEN00001",null,"ADCA1188GEN00001","OK"]
["ADCA","1188","STU00002",null,"ADCA1188STU00002","OK"]
["ADCA","1188","SUB00001",null,"ADCA1188SUB00001","OK"]
["ADCA","1188","SUB00015",null,"ADCA1188SUB00015","OK"]
["ADCA","1188","VMT00001",null,"ADCA1188VMT00001","OK"]
["ADCA","1199","ART00005",null,"ADCA1199ART00005","OK"]
["ADCA","1199","DIS00001",null,{"$f":"CONCATENATE(A580,B580,C580)","v":"ADCA1199DIS00001"},"OK"]
["ADCA","1199","GEN00001",null,"ADCA1199GEN00001","OK"]
["ADCA","1199","STU00002",null,"ADCA1199STU00002","OK"]
["ADCA","1199","SUB00001",null,"ADCA1199SUB00001","OK"]
["ADCA","1199","SUB00015",null,"ADCA1199SUB00015","OK"]
["ADCA","1199","VMT00001",null,"ADCA1199VMT00001","OK"]
["ADCA","1210","ART00005",null,"ADCA1210ART00005","OK"]
["ADCA","1210","DIS00001",null,"ADCA1210DIS00001","OK"]
["ADCA","1210","GEN00001",null,"ADCA1210GEN00001","OK"]
["ADCA","1210","STU00002",null,"ADCA1210STU00002","OK"]
["ADCA","1210","SUB00001",null,"ADCA1210SUB00001","OK"]
["ADCA","1210","SUB00015",null,"ADCA1210SUB00015","OK"]
["ADCA","1210","VMT00001",null,"ADCA1210VMT00001","OK"]
["ADCA","1230","ART00005",null,"ADCA1230ART00005","OK"]
["ADCA","1230","DIS00001",null,"ADCA1230DIS00001","OK"]
["ADCA","1230","GEN00001",null,"ADCA1230GEN00001","OK"]
["ADCA","1230","STU00002",null,"ADCA1230STU00002","OK"]
["ADCA","1230","SUB00001",null,"ADCA1230SUB00001","OK"]
["ADCA","1230","SUB00015",null,"ADCA1230SUB00015","OK"]
["ADCA","1230","VMT00001",null,"ADCA1230VMT00001","OK"]
["ADCA","1300","ART00005",null,"ADCA1300ART00005","OK"]
["ADCA","1300","DIS00001",null,"ADCA1300DIS00001","OK"]
["ADCA","1300","GEN00001",null,"ADCA1300GEN00001","OK"]
["ADCA","1300","STU00002",null,"ADCA1300STU00002","OK"]
["ADCA","1300","SUB00001",null,"ADCA1300SUB00001","OK"]
["ADCA","1300","SUB00015",null,"ADCA1300SUB00015","OK"]
["ADCA","1300","VMT00001",null,"ADCA1300VMT00001","OK"]
["ADCA","1310","ART00005",null,"ADCA1310ART00005","OK"]
["ADCA","1310","DIS00001",null,"ADCA1310DIS00001","OK"]
["ADCA","1310","GEN00001",null,"ADCA1310GEN00001","OK"]
["ADCA","1310","STU00002",null,"ADCA1310STU00002","OK"]
["ADCA","1310","SUB00001",null,"ADCA1310SUB00001","OK"]
["ADCA","1310","SUB00015",null,"ADCA1310SUB00015","OK"]
["ADCA","1310","VMT00001",null,"ADCA1310VMT00001","OK"]
["ADCA","1320","ART00005",null,"ADCA1320ART00005","OK"]
["ADCA","1320","DIS00001",null,"ADCA1320DIS00001","OK"]
["ADCA","1320","GEN00001",null,"ADCA1320GEN00001","OK"]
["ADCA","1320","STU00002",null,"ADCA1320STU00002","OK"]
["ADCA","1320","SUB00001",null,"ADCA1320SUB00001","OK"]
["ADCA","1320","SUB00015",null,"ADCA1320SUB00015","OK"]
["ADCA","1320","VMT00001",null,"ADCA1320VMT00001","OK"]
["ADCA","1330","ART00005",null,"ADCA1330ART00005","OK"]
["ADCA","1330","DIS00001",null,"ADCA1330DIS00001","OK"]
["ADCA","1330","GEN00001",null,"ADCA1330GEN00001","OK"]
["ADCA","1330","STU00002",null,"ADCA1330STU00002","OK"]
["ADCA","1330","SUB00001",null,"ADCA1330SUB00001","OK"]
["ADCA","1330","SUB00015",null,"ADCA1330SUB00015","OK"]
["ADCA","1330","VMT00001",null,"ADCA1330VMT00001","OK"]
["ADCE","1100","10000116",null,"ADCE110010000116","OK"]
["ADCE","1100","CCE01301",null,"ADCE1100CCE01301","OK"]
["ADCE","1100","CCE01302",null,"ADCE1100CCE01302","OK"]
["ADCE","1100","CCR01301",null,"ADCE1100CCR01301","OK"]
["ADCE","1100","CCR01303",null,"ADCE1100CCR01303","OK"]
["ADCE","1110","10000116",null,"ADCE111010000116","OK"]
["ADCE","1110","CCE01301",null,"ADCE1110CCE01301","OK"]
["ADCE","1110","CCE01302",null,"ADCE1110CCE01302","OK"]
["ADCE","1110","CCR01301",null,"ADCE1110CCR01301","OK"]
["ADCE","1110","CCR01303",null,"ADCE1110CCR01303","OK"]
["ADCE","1120","10000116",null,"ADCE112010000116","OK"]
["ADCE","1120","CCE01301",null,"ADCE1120CCE01301","OK"]
["ADCE","1120","CCE01302",null,"ADCE1120CCE01302","OK"]
["ADCE","1120","CCR01301",null,"ADCE1120CCR01301","OK"]
["ADCE","1120","CCR01303",null,"ADCE1120CCR01303","OK"]
["ADCE","1199","10000116",null,"ADCE119910000116","OK"]
["ADCE","1199","CCE01301",null,{"$f":"CONCATENATE(A644,B644,C644)","v":"ADCE1199CCE01301"},"OK"]
["ADCE","1199","CCE01302",null,"ADCE1199CCE01302","OK"]
["ADCE","1199","CCR01301",null,"ADCE1199CCR01301","OK"]
["ADCE","1199","CCR01303",null,"ADCE1199CCR01303","OK"]
["ADCE","1210","10000116",null,"ADCE121010000116","OK"]
["ADCE","1210","CCE01301",null,"ADCE1210CCE01301","OK"]
["ADCE","1210","CCE01302",null,"ADCE1210CCE01302","OK"]
["ADCE","1210","CCR01301",null,"ADCE1210CCR01301","OK"]
["ADCE","1210","CCR01303",null,"ADCE1210CCR01303","OK"]
["ADCE","1230","10000116",null,"ADCE123010000116","OK"]
["ADCE","1230","CCE01301",null,"ADCE1230CCE01301","OK"]
["ADCE","1230","CCE01302",null,"ADCE1230CCE01302","OK"]
["ADCE","1230","CCR01301",null,"ADCE1230CCR01301","OK"]
["ADCE","1230","CCR01303",null,"ADCE1230CCR01303","OK"]
["ADCE","1300","10000116",null,"ADCE130010000116","OK"]
["ADCE","1300","CCE01301",null,"ADCE1300CCE01301","OK"]
["ADCE","1300","CCE01302",null,"ADCE1300CCE01302","OK"]
["ADCE","1300","CCR01301",null,"ADCE1300CCR01301","OK"]
["ADCE","1300","CCR01303",null,"ADCE1300CCR01303","OK"]
["ADCE","1310","10000116",null,"ADCE131010000116","OK"]
["ADCE","1310","CCE01301",null,"ADCE1310CCE01301","OK"]
["ADCE","1310","CCE01302",null,"ADCE1310CCE01302","OK"]
["ADCE","1310","CCR01301",null,"ADCE1310CCR01301","OK"]
["ADCE","1310","CCR01303",null,"ADCE1310CCR01303","OK"]
["ADCE","1320","10000116",null,"ADCE132010000116","OK"]
["ADCE","1320","CCE01301",null,"ADCE1320CCE01301","OK"]
["ADCE","1320","CCE01302",null,"ADCE1320CCE01302","OK"]
["ADCE","1320","CCR01301",null,"ADCE1320CCR01301","OK"]
["ADCE","1320","CCR01303",null,"ADCE1320CCR01303","OK"]
["ADCE","1330","10000116",null,"ADCE133010000116","OK"]
["ADCE","1330","CCE01301",null,"ADCE1330CCE01301","OK"]
["ADCE","1330","CCE01302",null,"ADCE1330CCE01302","OK"]
["ADCE","1330","CCR01301",null,"ADCE1330CCR01301","OK"]
["ADCE","1330","CCR01303",null,"ADCE1330CCR01303","OK"]
["ADCP","1100","10000190",null,"ADCP110010000190","OK"]
["ADCP","1100","10000502",null,"ADCP110010000502","OK"]
["ADCP","1100","10000511",null,"ADCP110010000511","OK"]
["ADCP","1100","10000525",null,"ADCP110010000525","OK"]
["ADCP","1100","10000528",null,"ADCP110010000528","OK"]
["ADCP","1100","10000563",null,"ADCP110010000563","OK"]
["ADCP","1100","10000615",null,"ADCP110010000615","OK"]
["ADCP","1100","10000619",null,"ADCP110010000619","OK"]
["ADCP","1100","10000669",null,"ADCP110010000669","OK"]
["ADCP","1100","10000679",null,"ADCP110010000679","OK"]
["ADCP","1100","ENT03301",null,"ADCP1100ENT03301","OK"]
["ADCP","1100","HAS00001",null,"ADCP1100HAS00001","OK"]
["ADCP","1100","PGC01301",null,"ADCP1100PGC01301","OK"]
["ADCP","1100","PLL00001",null,"ADCP1100PLL00001","OK"]
["ADCP","1100","PNS00001",null,"ADCP1100PNS00001","OK"]
["ADCP","1100","REB00001",null,"ADCP1100REB00001","OK"]
["ADCP","1110","10000190",null,"ADCP111010000190","OK"]
["ADCP","1110","10000502",null,"ADCP111010000502","OK"]
["ADCP","1110","10000511",null,"ADCP111010000511","OK"]
["ADCP","1110","10000525",null,"ADCP111010000525","OK"]
["ADCP","1110","10000528",null,"ADCP111010000528","OK"]
["ADCP","1110","10000563",null,"ADCP111010000563","OK"]
["ADCP","1110","10000615",null,"ADCP111010000615","OK"]
["ADCP","1110","10000619",null,"ADCP111010000619","OK"]
["ADCP","1110","10000669",null,"ADCP111010000669","OK"]
["ADCP","1110","10000679",null,"ADCP111010000679","OK"]
["ADCP","1110","ENT03301",null,"ADCP1110ENT03301","OK"]
["ADCP","1110","HAS00001",null,"ADCP1110HAS00001","OK"]
["ADCP","1110","PGC01301",null,"ADCP1110PGC01301","OK"]
["ADCP","1110","PLL00001",null,"ADCP1110PLL00001","OK"]
["ADCP","1110","PNS00001",null,{"$f":"CONCATENATE(A708,B708,C708)","v":"ADCP1110PNS00001"},"OK"]
["ADCP","1110","REB00001",null,"ADCP1110REB00001","OK"]
["ADCP","1320","10000190",null,"ADCP132010000190","OK"]
["ADCP","1320","10000502",null,"ADCP132010000502","OK"]
["ADCP","1320","10000511",null,"ADCP132010000511","OK"]
["ADCP","1320","10000525",null,"ADCP132010000525","OK"]
["ADCP","1320","10000528",null,"ADCP132010000528","OK"]
["ADCP","1320","10000563",null,"ADCP132010000563","OK"]
["ADCP","1320","10000615",null,"ADCP132010000615","OK"]
["ADCP","1320","10000619",null,"ADCP132010000619","OK"]
["ADCP","1320","10000669",null,"ADCP132010000669","OK"]
["ADCP","1320","10000679",null,"ADCP132010000679","OK"]
["ADCP","1320","ENT03301",null,"ADCP1320ENT03301","OK"]
["ADCP","1320","HAS00001",null,"ADCP1320HAS00001","OK"]
["ADCP","1320","PGC01301",null,"ADCP1320PGC01301","OK"]
["ADCP","1320","PLL00001",null,"ADCP1320PLL00001","OK"]
["ADCP","1320","PNS00001",null,"ADCP1320PNS00001","OK"]
["ADCP","1320","REB00001",null,"ADCP1320REB00001","OK"]
["ADCP","1330","10000190",null,"ADCP133010000190","OK"]
["ADCP","1330","10000502",null,"ADCP133010000502","OK"]
["ADCP","1330","10000511",null,"ADCP133010000511","OK"]
["ADCP","1330","10000525",null,"ADCP133010000525","OK"]
["ADCP","1330","10000528",null,"ADCP133010000528","OK"]
["ADCP","1330","10000563",null,"ADCP133010000563","OK"]
["ADCP","1330","10000615",null,"ADCP133010000615","OK"]
["ADCP","1330","10000619",null,"ADCP133010000619","OK"]
["ADCP","1330","10000669",null,"ADCP133010000669","OK"]
["ADCP","1330","10000679",null,"ADCP133010000679","OK"]
["ADCP","1330","ENT03301",null,"ADCP1330ENT03301","OK"]
["ADCP","1330","HAS00001",null,"ADCP1330HAS00001","OK"]
["ADCP","1330","PGC01301",null,"ADCP1330PGC01301","OK"]
["ADCP","1330","PLL00001",null,"ADCP1330PLL00001","OK"]
["ADCP","1330","PNS00001",null,"ADCP1330PNS00001","OK"]
["ADCP","1330","REB00001",null,"ADCP1330REB00001","OK"]
["ADCP","1310","10000190",null,"ADCP131010000190","OK"]
["ADCP","1310","10000502",null,"ADCP131010000502","OK"]
["ADCP","1310","10000511",null,"ADCP131010000511","OK"]
["ADCP","1310","10000525",null,"ADCP131010000525","OK"]
["ADCP","1310","10000528",null,"ADCP131010000528","OK"]
["ADCP","1310","10000563",null,"ADCP131010000563","OK"]
["ADCP","1310","10000615",null,"ADCP131010000615","OK"]
["ADCP","1310","10000619",null,"ADCP131010000619","OK"]
["ADCP","1310","10000669",null,"ADCP131010000669","OK"]
["ADCP","1310","10000679",null,"ADCP131010000679","OK"]
["ADCP","1310","ENT03301",null,"ADCP1310ENT03301","OK"]
["ADCP","1310","HAS00001",null,"ADCP1310HAS00001","OK"]
["ADCP","1310","PGC01301",null,"ADCP1310PGC01301","OK"]
["ADCP","1310","PLL00001",null,"ADCP1310PLL00001","OK"]
["ADCP","1310","PNS00001",null,"ADCP1310PNS00001","OK"]
["ADCP","1310","REB00001",null,"ADCP1310REB00001","OK"]
["ADCP","1230","10000190",null,"ADCP123010000190","OK"]
["ADCP","1230","10000502",null,"ADCP123010000502","OK"]
["ADCP","1230","10000511",null,"ADCP123010000511","OK"]
["ADCP","1230","10000525",null,"ADCP123010000525","OK"]
["ADCP","1230","10000528",null,"ADCP123010000528","OK"]
["ADCP","1230","10000563",null,"ADCP123010000563","OK"]
["ADCP","1230","10000615",null,"ADCP123010000615","OK"]
["ADCP","1230","10000619",null,"ADCP123010000619","OK"]
["ADCP","1230","10000669",null,"ADCP123010000669","OK"]
["ADCP","1230","10000679",null,"ADCP123010000679","OK"]
["ADCP","1230","ENT03301",null,"ADCP1230ENT03301","OK"]
["ADCP","1230","HAS00001",null,"ADCP1230HAS00001","OK"]
["ADCP","1230","PGC01301",null,"ADCP1230PGC01301","OK"]
["ADCP","1230","PLL00001",null,"ADCP1230PLL00001","OK"]
["ADCP","1230","PNS00001",null,{"$f":"CONCATENATE(A772,B772,C772)","v":"ADCP1230PNS00001"},"OK"]
["ADCP","1230","REB00001",null,"ADCP1230REB00001","OK"]
["ADCP","1300","10000190",null,"ADCP130010000190","OK"]
["ADCP","1300","10000502",null,"ADCP130010000502","OK"]
["ADCP","1300","10000511",null,"ADCP130010000511","OK"]
["ADCP","1300","10000525",null,"ADCP130010000525","OK"]
["ADCP","1300","10000528",null,"ADCP130010000528","OK"]
["ADCP","1300","10000563",null,"ADCP130010000563","OK"]
["ADCP","1300","10000615",null,"ADCP130010000615","OK"]
["ADCP","1300","10000619",null,"ADCP130010000619","OK"]
["ADCP","1300","10000669",null,"ADCP130010000669","OK"]
["ADCP","1300","10000679",null,"ADCP130010000679","OK"]
["ADCP","1300","ENT03301",null,"ADCP1300ENT03301","OK"]
["ADCP","1300","HAS00001",null,"ADCP1300HAS00001","OK"]
["ADCP","1300","PGC01301",null,"ADCP1300PGC01301","OK"]
["ADCP","1300","PLL00001",null,"ADCP1300PLL00001","OK"]
["ADCP","1300","PNS00001",null,"ADCP1300PNS00001","OK"]
["ADCP","1300","REB00001",null,"ADCP1300REB00001","OK"]
["ADCP","1120","10000190",null,"ADCP112010000190","OK"]
["ADCP","1120","10000502",null,"ADCP112010000502","OK"]
["ADCP","1120","10000511",null,"ADCP112010000511","OK"]
["ADCP","1120","10000525",null,"ADCP112010000525","OK"]
["ADCP","1120","10000528",null,"ADCP112010000528","OK"]
["ADCP","1120","10000563",null,"ADCP112010000563","OK"]
["ADCP","1120","10000615",null,"ADCP112010000615","OK"]
["ADCP","1120","10000619",null,"ADCP112010000619","OK"]
["ADCP","1120","10000669",null,"ADCP112010000669","OK"]
["ADCP","1120","10000679",null,"ADCP112010000679","OK"]
["ADCP","1120","ENT03301",null,"ADCP1120ENT03301","OK"]
["ADCP","1120","HAS00001",null,"ADCP1120HAS00001","OK"]
["ADCP","1120","PGC01301",null,"ADCP1120PGC01301","OK"]
["ADCP","1120","PLL00001",null,"ADCP1120PLL00001","OK"]
["ADCP","1120","PNS00001",null,"ADCP1120PNS00001","OK"]
["ADCP","1120","REB00001",null,"ADCP1120REB00001","OK"]
["ADCP","1210","10000190",null,"ADCP121010000190","OK"]
["ADCP","1210","10000502",null,"ADCP121010000502","OK"]
["ADCP","1210","10000511",null,"ADCP121010000511","OK"]
["ADCP","1210","10000525",null,"ADCP121010000525","OK"]
["ADCP","1210","10000528",null,"ADCP121010000528","OK"]
["ADCP","1210","10000563",null,"ADCP121010000563","OK"]
["ADCP","1210","10000615",null,"ADCP121010000615","OK"]
["ADCP","1210","10000619",null,"ADCP121010000619","OK"]
["ADCP","1210","10000669",null,"ADCP121010000669","OK"]
["ADCP","1210","10000679",null,"ADCP121010000679","OK"]
["ADCP","1210","ENT03301",null,"ADCP1210ENT03301","OK"]
["ADCP","1210","HAS00001",null,"ADCP1210HAS00001","OK"]
["ADCP","1210","PGC01301",null,"ADCP1210PGC01301","OK"]
["ADCP","1210","PLL00001",null,"ADCP1210PLL00001","OK"]
["ADCP","1210","PNS00001",null,"ADCP1210PNS00001","OK"]
["ADCP","1210","REB00001",null,"ADCP1210REB00001","OK"]
["ADDA","1100","GEN00001",null,"ADDA1100GEN00001","OK"]
["ADDA","1110","GEN00001",null,"ADDA1110GEN00001","OK"]
["ADDA","1120","GEN00001",null,"ADDA1120GEN00001","OK"]
["ADDA","1310","GEN00001",null,"ADDA1310GEN00001","OK"]
["ADDA","1320","GEN00001",null,"ADDA1320GEN00001","OK"]
["ADDA","1330","GEN00001",null,"ADDA1330GEN00001","OK"]
["ADDA","1300","GEN00001",null,"ADDA1300GEN00001","OK"]
["ADDP","1100","10000574",null,"ADDP110010000574","OK"]
["ADDP","1100","DEP01312",null,"ADDP1100DEP01312","OK"]
["ADDP","1100","DEP01313",null,"ADDP1100DEP01313","OK"]
["ADDP","1100","DEP01314",null,"ADDP1100DEP01314","OK"]
["ADDP","1100","DIS00001",null,"ADDP1100DIS00001","OK"]
["ADDP","1100","FTR00406",null,"ADDP1100FTR00406","OK"]
["ADDP","1100","GEN00001",null,"ADDP1100GEN00001","OK"]
["ADDP","1100","STU00002",null,{"$f":"CONCATENATE(A836,B836,C836)","v":"ADDP1100STU00002"},"OK"]
["ADDP","1110","10000574",null,"ADDP111010000574","OK"]
["ADDP","1110","DEP01312",null,"ADDP1110DEP01312","OK"]
["ADDP","1110","DEP01313",null,"ADDP1110DEP01313","OK"]
["ADDP","1110","DEP01314",null,"ADDP1110DEP01314","OK"]
["ADDP","1110","DIS00001",null,"ADDP1110DIS00001","OK"]
["ADDP","1110","FTR00406",null,"ADDP1110FTR00406","OK"]
["ADDP","1110","GEN00001",null,"ADDP1110GEN00001","OK"]
["ADDP","1110","STU00002",null,"ADDP1110STU00002","OK"]
["ADDP","1120","10000574",null,"ADDP112010000574","OK"]
["ADDP","1120","DEP01312",null,"ADDP1120DEP01312","OK"]
["ADDP","1120","DEP01313",null,"ADDP1120DEP01313","OK"]
["ADDP","1120","DEP01314",null,"ADDP1120DEP01314","OK"]
["ADDP","1120","DIS00001",null,"ADDP1120DIS00001","OK"]
["ADDP","1120","FTR00406",null,"ADDP1120FTR00406","OK"]
["ADDP","1120","GEN00001",null,"ADDP1120GEN00001","OK"]
["ADDP","1120","STU00002",null,"ADDP1120STU00002","OK"]
["ADDP","1300","10000574",null,"ADDP130010000574","OK"]
["ADDP","1300","DEP01312",null,"ADDP1300DEP01312","OK"]
["ADDP","1300","DEP01313",null,"ADDP1300DEP01313","OK"]
["ADDP","1300","DEP01314",null,"ADDP1300DEP01314","OK"]
["ADDP","1300","DIS00001",null,"ADDP1300DIS00001","OK"]
["ADDP","1300","FTR00406",null,"ADDP1300FTR00406","OK"]
["ADDP","1300","GEN00001",null,"ADDP1300GEN00001","OK"]
["ADDP","1300","STU00002",null,"ADDP1300STU00002","OK"]
["ADDP","1310","10000574",null,"ADDP131010000574","OK"]
["ADDP","1310","DEP01312",null,"ADDP1310DEP01312","OK"]
["ADDP","1310","DEP01313",null,"ADDP1310DEP01313","OK"]
["ADDP","1310","DEP01314",null,"ADDP1310DEP01314","OK"]
["ADDP","1310","DIS00001",null,"ADDP1310DIS00001","OK"]
["ADDP","1310","FTR00406",null,"ADDP1310FTR00406","OK"]
["ADDP","1310","GEN00001",null,"ADDP1310GEN00001","OK"]
["ADDP","1310","STU00002",null,"ADDP1310STU00002","OK"]
["ADDP","1320","10000574",null,"ADDP132010000574","OK"]
["ADDP","1320","DEP01312",null,"ADDP1320DEP01312","OK"]
["ADDP","1320","DEP01313",null,"ADDP1320DEP01313","OK"]
["ADDP","1320","DEP01314",null,"ADDP1320DEP01314","OK"]
["ADDP","1320","DIS00001",null,"ADDP1320DIS00001","OK"]
["ADDP","1320","FTR00406",null,"ADDP1320FTR00406","OK"]
["ADDP","1320","GEN00001",null,"ADDP1320GEN00001","OK"]
["ADDP","1320","STU00002",null,"ADDP1320STU00002","OK"]
["ADDP","1330","10000574",null,"ADDP133010000574","OK"]
["ADDP","1330","DEP01312",null,"ADDP1330DEP01312","OK"]
["ADDP","1330","DEP01313",null,"ADDP1330DEP01313","OK"]
["ADDP","1330","DEP01314",null,"ADDP1330DEP01314","OK"]
["ADDP","1330","DIS00001",null,"ADDP1330DIS00001","OK"]
["ADDP","1330","FTR00406",null,"ADDP1330FTR00406","OK"]
["ADDP","1330","GEN00001",null,"ADDP1330GEN00001","OK"]
["ADDP","1330","STU00002",null,"ADDP1330STU00002","OK"]
["ADEE","1100","10000203",null,"ADEE110010000203","OK"]
["ADEE","1100","10000425",null,"ADEE110010000425","OK"]
["ADEE","1100","10000448",null,"ADEE110010000448","OK"]
["ADEE","1100","10000467",null,"ADEE110010000467","OK"]
["ADEE","1100","10000487",null,"ADEE110010000487","OK"]
["ADEE","1100","10000512",null,"ADEE110010000512","OK"]
["ADEE","1100","10000579",null,"ADEE110010000579","OK"]
["ADEE","1100","10000618",null,"ADEE110010000618","OK"]
["ADEE","1100","10000678",null,"ADEE110010000678","OK"]
["ADEE","1100","CFP01301",null,"ADEE1100CFP01301","OK"]
["ADEE","1100","ENT01301",null,"ADEE1100ENT01301","OK"]
["ADEE","1100","ENT09401",null,"ADEE1100ENT09401","OK"]
["ADEE","1100","FBC01401",null,"ADEE1100FBC01401","OK"]
["ADEE","1100","GSC01401",null,"ADEE1100GSC01401","OK"]
["ADEE","1100","GSC01402",null,"ADEE1100GSC01402","OK"]
["ADEE","1100","GSC01403",null,{"$f":"CONCATENATE(A900,B900,C900)","v":"ADEE1100GSC01403"},"OK"]
["ADEE","1100","IDE01301",null,"ADEE1100IDE01301","OK"]
["ADEE","1100","RIS00001",null,"ADEE1100RIS00001","OK"]
["ADEE","1100","SIM01401",null,"ADEE1100SIM01401","OK"]
["ADEE","1110","10000203",null,"ADEE111010000203","OK"]
["ADEE","1110","10000425",null,"ADEE111010000425","OK"]
["ADEE","1110","10000448",null,"ADEE111010000448","OK"]
["ADEE","1110","10000467",null,"ADEE111010000467","OK"]
["ADEE","1110","10000487",null,"ADEE111010000487","OK"]
["ADEE","1110","10000512",null,"ADEE111010000512","OK"]
["ADEE","1110","10000579",null,"ADEE111010000579","OK"]
["ADEE","1110","10000618",null,"ADEE111010000618","OK"]
["ADEE","1110","10000678",null,"ADEE111010000678","OK"]
["ADEE","1110","CFP01301",null,"ADEE1110CFP01301","OK"]
["ADEE","1110","ENT01301",null,"ADEE1110ENT01301","OK"]
["ADEE","1110","ENT09401",null,"ADEE1110ENT09401","OK"]
["ADEE","1110","FBC01401",null,"ADEE1110FBC01401","OK"]
["ADEE","1110","GSC01401",null,"ADEE1110GSC01401","OK"]
["ADEE","1110","GSC01402",null,"ADEE1110GSC01402","OK"]
["ADEE","1110","GSC01403",null,"ADEE1110GSC01403","OK"]
["ADEE","1110","IDE01301",null,"ADEE1110IDE01301","OK"]
["ADEE","1110","RIS00001",null,"ADEE1110RIS00001","OK"]
["ADEE","1110","SIM01401",null,"ADEE1110SIM01401","OK"]
["ADEE","1120","10000203",null,"ADEE112010000203","OK"]
["ADEE","1120","10000425",null,"ADEE112010000425","OK"]
["ADEE","1120","10000448",null,"ADEE112010000448","OK"]
["ADEE","1120","10000467",null,"ADEE112010000467","OK"]
["ADEE","1120","10000487",null,"ADEE112010000487","OK"]
["ADEE","1120","10000512",null,"ADEE112010000512","OK"]
["ADEE","1120","10000579",null,"ADEE112010000579","OK"]
["ADEE","1120","10000618",null,"ADEE112010000618","OK"]
["ADEE","1120","10000678",null,"ADEE112010000678","OK"]
["ADEE","1120","CFP01301",null,"ADEE1120CFP01301","OK"]
["ADEE","1120","ENT01301",null,"ADEE1120ENT01301","OK"]
["ADEE","1120","ENT09401",null,"ADEE1120ENT09401","OK"]
["ADEE","1120","FBC01401",null,"ADEE1120FBC01401","OK"]
["ADEE","1120","GSC01401",null,"ADEE1120GSC01401","OK"]
["ADEE","1120","GSC01402",null,"ADEE1120GSC01402","OK"]
["ADEE","1120","GSC01403",null,"ADEE1120GSC01403","OK"]
["ADEE","1120","IDE01301",null,"ADEE1120IDE01301","OK"]
["ADEE","1120","RIS00001",null,"ADEE1120RIS00001","OK"]
["ADEE","1120","SIM01401",null,"ADEE1120SIM01401","OK"]
["ADEE","1210","10000203",null,"ADEE121010000203","OK"]
["ADEE","1210","10000425",null,"ADEE121010000425","OK"]
["ADEE","1210","10000448",null,"ADEE121010000448","OK"]
["ADEE","1210","10000467",null,"ADEE121010000467","OK"]
["ADEE","1210","10000487",null,"ADEE121010000487","OK"]
["ADEE","1210","10000512",null,"ADEE121010000512","OK"]
["ADEE","1210","10000579",null,"ADEE121010000579","OK"]
["ADEE","1210","10000618",null,"ADEE121010000618","OK"]
["ADEE","1210","10000678",null,"ADEE121010000678","OK"]
["ADEE","1210","CFP01301",null,"ADEE1210CFP01301","OK"]
["ADEE","1210","ENT01301",null,"ADEE1210ENT01301","OK"]
["ADEE","1210","ENT09401",null,"ADEE1210ENT09401","OK"]
["ADEE","1210","FBC01401",null,"ADEE1210FBC01401","OK"]
["ADEE","1210","GSC01401",null,"ADEE1210GSC01401","OK"]
["ADEE","1210","GSC01402",null,"ADEE1210GSC01402","OK"]
["ADEE","1210","GSC01403",null,"ADEE1210GSC01403","OK"]
["ADEE","1210","IDE01301",null,"ADEE1210IDE01301","OK"]
["ADEE","1210","RIS00001",null,"ADEE1210RIS00001","OK"]
["ADEE","1210","SIM01401",null,"ADEE1210SIM01401","OK"]
["ADEE","1230","10000203",null,"ADEE123010000203","OK"]
["ADEE","1230","10000425",null,"ADEE123010000425","OK"]
["ADEE","1230","10000448",null,"ADEE123010000448","OK"]
["ADEE","1230","10000467",null,{"$f":"CONCATENATE(A964,B964,C964)","v":"ADEE123010000467"},"OK"]
["ADEE","1230","10000487",null,"ADEE123010000487","OK"]
["ADEE","1230","10000512",null,"ADEE123010000512","OK"]
["ADEE","1230","10000579",null,"ADEE123010000579","OK"]
["ADEE","1230","10000618",null,"ADEE123010000618","OK"]
["ADEE","1230","10000678",null,"ADEE123010000678","OK"]
["ADEE","1230","CFP01301",null,"ADEE1230CFP01301","OK"]
["ADEE","1230","ENT01301",null,"ADEE1230ENT01301","OK"]
["ADEE","1230","ENT09401",null,"ADEE1230ENT09401","OK"]
["ADEE","1230","FBC01401",null,"ADEE1230FBC01401","OK"]
["ADEE","1230","GSC01401",null,"ADEE1230GSC01401","OK"]
["ADEE","1230","GSC01402",null,"ADEE1230GSC01402","OK"]
["ADEE","1230","GSC01403",null,"ADEE1230GSC01403","OK"]
["ADEE","1230","IDE01301",null,"ADEE1230IDE01301","OK"]
["ADEE","1230","RIS00001",null,"ADEE1230RIS00001","OK"]
["ADEE","1230","SIM01401",null,"ADEE1230SIM01401","OK"]
["ADEE","1300","10000203",null,"ADEE130010000203","OK"]
["ADEE","1300","10000425",null,"ADEE130010000425","OK"]
["ADEE","1300","10000448",null,"ADEE130010000448","OK"]
["ADEE","1300","10000467",null,"ADEE130010000467","OK"]
["ADEE","1300","10000487",null,"ADEE130010000487","OK"]
["ADEE","1300","10000512",null,"ADEE130010000512","OK"]
["ADEE","1300","10000579",null,"ADEE130010000579","OK"]
["ADEE","1300","10000618",null,"ADEE130010000618","OK"]
["ADEE","1300","10000678",null,"ADEE130010000678","OK"]
["ADEE","1300","CFP01301",null,"ADEE1300CFP01301","OK"]
["ADEE","1300","ENT01301",null,"ADEE1300ENT01301","OK"]
["ADEE","1300","ENT09401",null,"ADEE1300ENT09401","OK"]
["ADEE","1300","FBC01401",null,"ADEE1300FBC01401","OK"]
["ADEE","1300","GSC01401",null,"ADEE1300GSC01401","OK"]
["ADEE","1300","GSC01402",null,"ADEE1300GSC01402","OK"]
["ADEE","1300","GSC01403",null,"ADEE1300GSC01403","OK"]
["ADEE","1300","IDE01301",null,"ADEE1300IDE01301","OK"]
["ADEE","1300","RIS00001",null,"ADEE1300RIS00001","OK"]
["ADEE","1300","SIM01401",null,"ADEE1300SIM01401","OK"]
["ADEE","1310","10000203",null,"ADEE131010000203","OK"]
["ADEE","1310","10000425",null,"ADEE131010000425","OK"]
["ADEE","1310","10000448",null,"ADEE131010000448","OK"]
["ADEE","1310","10000467",null,"ADEE131010000467","OK"]
["ADEE","1310","10000487",null,"ADEE131010000487","OK"]
["ADEE","1310","10000512",null,"ADEE131010000512","OK"]
["ADEE","1310","10000579",null,"ADEE131010000579","OK"]
["ADEE","1310","10000618",null,"ADEE131010000618","OK"]
["ADEE","1310","10000678",null,"ADEE131010000678","OK"]
["ADEE","1310","CFP01301",null,"ADEE1310CFP01301","OK"]
["ADEE","1310","ENT01301",null,"ADEE1310ENT01301","OK"]
["ADEE","1310","ENT09401",null,"ADEE1310ENT09401","OK"]
["ADEE","1310","FBC01401",null,"ADEE1310FBC01401","OK"]
["ADEE","1310","GSC01401",null,"ADEE1310GSC01401","OK"]
["ADEE","1310","GSC01402",null,"ADEE1310GSC01402","OK"]
["ADEE","1310","GSC01403",null,"ADEE1310GSC01403","OK"]
["ADEE","1310","IDE01301",null,"ADEE1310IDE01301","OK"]
["ADEE","1310","RIS00001",null,"ADEE1310RIS00001","OK"]
["ADEE","1310","SIM01401",null,"ADEE1310SIM01401","OK"]
["ADEE","1320","10000203",null,"ADEE132010000203","OK"]
["ADEE","1320","10000425",null,"ADEE132010000425","OK"]
["ADEE","1320","10000448",null,"ADEE132010000448","OK"]
["ADEE","1320","10000467",null,"ADEE132010000467","OK"]
["ADEE","1320","10000487",null,"ADEE132010000487","OK"]
["ADEE","1320","10000512",null,"ADEE132010000512","OK"]
["ADEE","1320","10000579",null,"ADEE132010000579","OK"]
["ADEE","1320","10000618",null,"ADEE132010000618","OK"]
["ADEE","1320","10000678",null,"ADEE132010000678","OK"]
["ADEE","1320","CFP01301",null,"ADEE1320CFP01301","OK"]
["ADEE","1320","ENT01301",null,{"$f":"CONCATENATE(A1028,B1028,C1028)","v":"ADEE1320ENT01301"},"OK"]
["ADEE","1320","ENT09401",null,"ADEE1320ENT09401","OK"]
["ADEE","1320","FBC01401",null,"ADEE1320FBC01401","OK"]
["ADEE","1320","GSC01401",null,"ADEE1320GSC01401","OK"]
["ADEE","1320","GSC01402",null,"ADEE1320GSC01402","OK"]
["ADEE","1320","GSC01403",null,"ADEE1320GSC01403","OK"]
["ADEE","1320","IDE01301",null,"ADEE1320IDE01301","OK"]
["ADEE","1320","RIS00001",null,"ADEE1320RIS00001","OK"]
["ADEE","1320","SIM01401",null,"ADEE1320SIM01401","OK"]
["ADEE","1330","10000203",null,"ADEE133010000203","OK"]
["ADEE","1330","10000425",null,"ADEE133010000425","OK"]
["ADEE","1330","10000448",null,"ADEE133010000448","OK"]
["ADEE","1330","10000467",null,"ADEE133010000467","OK"]
["ADEE","1330","10000487",null,"ADEE133010000487","OK"]
["ADEE","1330","10000512",null,"ADEE133010000512","OK"]
["ADEE","1330","10000579",null,"ADEE133010000579","OK"]
["ADEE","1330","10000618",null,"ADEE133010000618","OK"]
["ADEE","1330","10000678",null,"ADEE133010000678","OK"]
["ADEE","1330","CFP01301",null,"ADEE1330CFP01301","OK"]
["ADEE","1330","ENT01301",null,"ADEE1330ENT01301","OK"]
["ADEE","1330","ENT09401",null,"ADEE1330ENT09401","OK"]
["ADEE","1330","FBC01401",null,"ADEE1330FBC01401","OK"]
["ADEE","1330","GSC01401",null,"ADEE1330GSC01401","OK"]
["ADEE","1330","GSC01402",null,"ADEE1330GSC01402","OK"]
["ADEE","1330","GSC01403",null,"ADEE1330GSC01403","OK"]
["ADEE","1330","IDE01301",null,"ADEE1330IDE01301","OK"]
["ADEE","1330","RIS00001",null,"ADEE1330RIS00001","OK"]
["ADEE","1330","SIM01401",null,"ADEE1330SIM01401","OK"]
["ADER","1100","10000567",null,"ADER110010000567","OK"]
["ADER","1100","10000593",null,"ADER110010000593","OK"]
["ADER","1100","10000597",null,"ADER110010000597","OK"]
["ADER","1100","10000617",null,"ADER110010000617","OK"]
["ADER","1100","10000625",null,"ADER110010000625","OK"]
["ADER","1100","10000640",null,"ADER110010000640","OK"]
["ADER","1100","10000651",null,"ADER110010000651","OK"]
["ADER","1100","10000652",null,"ADER110010000652","OK"]
["ADER","1100","10000653",null,"ADER110010000653","OK"]
["ADER","1100","10000662",null,"ADER110010000662","OK"]
["ADER","1100","10000670",null,"ADER110010000670","OK"]
["ADER","1100","10000682",null,"ADER110010000682","OK"]
["ADER","1100","10000685",null,"ADER110010000685","OK"]
["ADER","1100","10000691",null,"ADER110010000691","OK"]
["ADER","1100","10000714",null,"ADER110010000714","OK"]
["ADER","1100","10000730",null,"ADER110010000730","OK"]
["ADER","1100","CEC00001",null,"ADER1100CEC00001","OK"]
["ADER","1100","CEP00001",null,"ADER1100CEP00001","OK"]
["ADER","1100","CLT00001",null,"ADER1100CLT00001","OK"]
["ADER","1100","CRF00001",null,"ADER1100CRF00001","OK"]
["ADER","1100","HEF000A6",null,"ADER1100HEF000A6","OK"]
["ADER","1100","HEF000A7",null,"ADER1100HEF000A7","OK"]
["ADER","1100","IOR01301",null,"ADER1100IOR01301","OK"]
["ADER","1100","MSE01301",null,"ADER1100MSE01301","OK"]
["ADER","1100","PFC00001",null,"ADER1100PFC00001","OK"]
["ADER","1100","RES01300",null,"ADER1100RES01300","OK"]
["ADER","1100","RES02302",null,"ADER1100RES02302","OK"]
["ADER","1100","RES03300",null,"ADER1100RES03300","OK"]
["ADER","1100","RES03301",null,"ADER1100RES03301","OK"]
["ADER","1110","10000567",null,"ADER111010000567","OK"]
["ADER","1110","10000593",null,"ADER111010000593","OK"]
["ADER","1110","10000597",null,"ADER111010000597","OK"]
["ADER","1110","10000617",null,"ADER111010000617","OK"]
["ADER","1110","10000625",null,"ADER111010000625","OK"]
["ADER","1110","10000640",null,"ADER111010000640","OK"]
["ADER","1110","10000651",null,"ADER111010000651","OK"]
["ADER","1110","10000652",null,{"$f":"CONCATENATE(A1092,B1092,C1092)","v":"ADER111010000652"},"OK"]
["ADER","1110","10000653",null,"ADER111010000653","OK"]
["ADER","1110","10000662",null,"ADER111010000662","OK"]
["ADER","1110","10000670",null,"ADER111010000670","OK"]
["ADER","1110","10000682",null,"ADER111010000682","OK"]
["ADER","1110","10000685",null,"ADER111010000685","OK"]
["ADER","1110","10000691",null,"ADER111010000691","OK"]
["ADER","1110","10000714",null,"ADER111010000714","OK"]
["ADER","1110","10000730",null,"ADER111010000730","OK"]
["ADER","1110","CEC00001",null,"ADER1110CEC00001","OK"]
["ADER","1110","CEP00001",null,"ADER1110CEP00001","OK"]
["ADER","1110","CLT00001",null,"ADER1110CLT00001","OK"]
["ADER","1110","CRF00001",null,"ADER1110CRF00001","OK"]
["ADER","1110","HEF000A6",null,"ADER1110HEF000A6","OK"]
["ADER","1110","HEF000A7",null,"ADER1110HEF000A7","OK"]
["ADER","1110","IOR01301",null,"ADER1110IOR01301","OK"]
["ADER","1110","MSE01301",null,"ADER1110MSE01301","OK"]
["ADER","1110","PFC00001",null,"ADER1110PFC00001","OK"]
["ADER","1110","RES01300",null,"ADER1110RES01300","OK"]
["ADER","1110","RES02302",null,"ADER1110RES02302","OK"]
["ADER","1110","RES03300",null,"ADER1110RES03300","OK"]
["ADER","1110","RES03301",null,"ADER1110RES03301","OK"]
["ADER","1120","10000567",null,"ADER112010000567","OK"]
["ADER","1120","10000593",null,"ADER112010000593","OK"]
["ADER","1120","10000597",null,"ADER112010000597","OK"]
["ADER","1120","10000617",null,"ADER112010000617","OK"]
["ADER","1120","10000625",null,"ADER112010000625","OK"]
["ADER","1120","10000640",null,"ADER112010000640","OK"]
["ADER","1120","10000651",null,"ADER112010000651","OK"]
["ADER","1120","10000652",null,"ADER112010000652","OK"]
["ADER","1120","10000653",null,"ADER112010000653","OK"]
["ADER","1120","10000662",null,"ADER112010000662","OK"]
["ADER","1120","10000670",null,"ADER112010000670","OK"]
["ADER","1120","10000682",null,"ADER112010000682","OK"]
["ADER","1120","10000685",null,"ADER112010000685","OK"]
["ADER","1120","10000691",null,"ADER112010000691","OK"]
["ADER","1120","10000714",null,"ADER112010000714","OK"]
["ADER","1120","10000730",null,"ADER112010000730","OK"]
["ADER","1120","CEC00001",null,"ADER1120CEC00001","OK"]
["ADER","1120","CEP00001",null,"ADER1120CEP00001","OK"]
["ADER","1120","CLT00001",null,"ADER1120CLT00001","OK"]
["ADER","1120","CRF00001",null,"ADER1120CRF00001","OK"]
["ADER","1120","HEF000A6",null,"ADER1120HEF000A6","OK"]
["ADER","1120","HEF000A7",null,"ADER1120HEF000A7","OK"]
["ADER","1120","IOR01301",null,"ADER1120IOR01301","OK"]
["ADER","1120","MSE01301",null,"ADER1120MSE01301","OK"]
["ADER","1120","PFC00001",null,"ADER1120PFC00001","OK"]
["ADER","1120","RES01300",null,"ADER1120RES01300","OK"]
["ADER","1120","RES02302",null,"ADER1120RES02302","OK"]
["ADER","1120","RES03300",null,"ADER1120RES03300","OK"]
["ADER","1120","RES03301",null,"ADER1120RES03301","OK"]
["ADER","1210","10000567",null,"ADER121010000567","OK"]
["ADER","1210","10000593",null,"ADER121010000593","OK"]
["ADER","1210","10000597",null,"ADER121010000597","OK"]
["ADER","1210","10000617",null,"ADER121010000617","OK"]
["ADER","1210","10000625",null,"ADER121010000625","OK"]
["ADER","1210","10000640",null,"ADER121010000640","OK"]
["ADER","1210","10000651",null,"ADER121010000651","OK"]
["ADER","1210","10000652",null,"ADER121010000652","OK"]
["ADER","1210","10000653",null,"ADER121010000653","OK"]
["ADER","1210","10000662",null,"ADER121010000662","OK"]
["ADER","1210","10000670",null,"ADER121010000670","OK"]
["ADER","1210","10000682",null,"ADER121010000682","OK"]
["ADER","1210","10000685",null,"ADER121010000685","OK"]
["ADER","1210","10000691",null,{"$f":"CONCATENATE(A1156,B1156,C1156)","v":"ADER121010000691"},"OK"]
["ADER","1210","10000714",null,"ADER121010000714","OK"]
["ADER","1210","10000730",null,"ADER121010000730","OK"]
["ADER","1210","CEC00001",null,"ADER1210CEC00001","OK"]
["ADER","1210","CEP00001",null,"ADER1210CEP00001","OK"]
["ADER","1210","CLT00001",null,"ADER1210CLT00001","OK"]
["ADER","1210","CRF00001",null,"ADER1210CRF00001","OK"]
["ADER","1210","HEF000A6",null,"ADER1210HEF000A6","OK"]
["ADER","1210","HEF000A7",null,"ADER1210HEF000A7","OK"]
["ADER","1210","IOR01301",null,"ADER1210IOR01301","OK"]
["ADER","1210","MSE01301",null,"ADER1210MSE01301","OK"]
["ADER","1210","PFC00001",null,"ADER1210PFC00001","OK"]
["ADER","1210","RES01300",null,"ADER1210RES01300","OK"]
["ADER","1210","RES02302",null,"ADER1210RES02302","OK"]
["ADER","1210","RES03300",null,"ADER1210RES03300","OK"]
["ADER","1210","RES03301",null,"ADER1210RES03301","OK"]
["ADER","1230","10000567",null,"ADER123010000567","OK"]
["ADER","1230","10000593",null,"ADER123010000593","OK"]
["ADER","1230","10000597",null,"ADER123010000597","OK"]
["ADER","1230","10000617",null,"ADER123010000617","OK"]
["ADER","1230","10000625",null,"ADER123010000625","OK"]
["ADER","1230","10000640",null,"ADER123010000640","OK"]
["ADER","1230","10000651",null,"ADER123010000651","OK"]
["ADER","1230","10000652",null,"ADER123010000652","OK"]
["ADER","1230","10000653",null,"ADER123010000653","OK"]
["ADER","1230","10000662",null,"ADER123010000662","OK"]
["ADER","1230","10000670",null,"ADER123010000670","OK"]
["ADER","1230","10000682",null,"ADER123010000682","OK"]
["ADER","1230","10000685",null,"ADER123010000685","OK"]
["ADER","1230","10000691",null,"ADER123010000691","OK"]
["ADER","1230","10000714",null,"ADER123010000714","OK"]
["ADER","1230","10000730",null,"ADER123010000730","OK"]
["ADER","1230","CEC00001",null,"ADER1230CEC00001","OK"]
["ADER","1230","CEP00001",null,"ADER1230CEP00001","OK"]
["ADER","1230","CLT00001",null,"ADER1230CLT00001","OK"]
["ADER","1230","CRF00001",null,"ADER1230CRF00001","OK"]
["ADER","1230","HEF000A6",null,"ADER1230HEF000A6","OK"]
["ADER","1230","HEF000A7",null,"ADER1230HEF000A7","OK"]
["ADER","1230","IOR01301",null,"ADER1230IOR01301","OK"]
["ADER","1230","MSE01301",null,"ADER1230MSE01301","OK"]
["ADER","1230","PFC00001",null,"ADER1230PFC00001","OK"]
["ADER","1230","RES01300",null,"ADER1230RES01300","OK"]
["ADER","1230","RES02302",null,"ADER1230RES02302","OK"]
["ADER","1230","RES03300",null,"ADER1230RES03300","OK"]
["ADER","1230","RES03301",null,"ADER1230RES03301","OK"]
["ADER","1300","10000567",null,"ADER130010000567","OK"]
["ADER","1300","10000593",null,"ADER130010000593","OK"]
["ADER","1300","10000597",null,"ADER130010000597","OK"]
["ADER","1300","10000617",null,"ADER130010000617","OK"]
["ADER","1300","10000625",null,"ADER130010000625","OK"]
["ADER","1300","10000640",null,"ADER130010000640","OK"]
["ADER","1300","10000651",null,"ADER130010000651","OK"]
["ADER","1300","10000652",null,"ADER130010000652","OK"]
["ADER","1300","10000653",null,"ADER130010000653","OK"]
["ADER","1300","10000662",null,"ADER130010000662","OK"]
["ADER","1300","10000670",null,"ADER130010000670","OK"]
["ADER","1300","10000682",null,"ADER130010000682","OK"]
["ADER","1300","10000685",null,"ADER130010000685","OK"]
["ADER","1300","10000691",null,"ADER130010000691","OK"]
["ADER","1300","10000714",null,"ADER130010000714","OK"]
["ADER","1300","10000730",null,"ADER130010000730","OK"]
["ADER","1300","CEC00001",null,"ADER1300CEC00001","OK"]
["ADER","1300","CEP00001",null,"ADER1300CEP00001","OK"]
["ADER","1300","CLT00001",null,"ADER1300CLT00001","OK"]
["ADER","1300","CRF00001",null,{"$f":"CONCATENATE(A1220,B1220,C1220)","v":"ADER1300CRF00001"},"OK"]
["ADER","1300","HEF000A6",null,"ADER1300HEF000A6","OK"]
["ADER","1300","HEF000A7",null,"ADER1300HEF000A7","OK"]
["ADER","1300","IOR01301",null,"ADER1300IOR01301","OK"]
["ADER","1300","MSE01301",null,"ADER1300MSE01301","OK"]
["ADER","1300","PFC00001",null,"ADER1300PFC00001","OK"]
["ADER","1300","RES01300",null,"ADER1300RES01300","OK"]
["ADER","1300","RES02302",null,"ADER1300RES02302","OK"]
["ADER","1300","RES03300",null,"ADER1300RES03300","OK"]
["ADER","1300","RES03301",null,"ADER1300RES03301","OK"]
["ADER","1310","10000567",null,"ADER131010000567","OK"]
["ADER","1310","10000593",null,"ADER131010000593","OK"]
["ADER","1310","10000597",null,"ADER131010000597","OK"]
["ADER","1310","10000617",null,"ADER131010000617","OK"]
["ADER","1310","10000625",null,"ADER131010000625","OK"]
["ADER","1310","10000640",null,"ADER131010000640","OK"]
["ADER","1310","10000651",null,"ADER131010000651","OK"]
["ADER","1310","10000652",null,"ADER131010000652","OK"]
["ADER","1310","10000653",null,"ADER131010000653","OK"]
["ADER","1310","10000662",null,"ADER131010000662","OK"]
["ADER","1310","10000670",null,"ADER131010000670","OK"]
["ADER","1310","10000682",null,"ADER131010000682","OK"]
["ADER","1310","10000685",null,"ADER131010000685","OK"]
["ADER","1310","10000691",null,"ADER131010000691","OK"]
["ADER","1310","10000714",null,"ADER131010000714","OK"]
["ADER","1310","10000730",null,"ADER131010000730","OK"]
["ADER","1310","CEC00001",null,"ADER1310CEC00001","OK"]
["ADER","1310","CEP00001",null,"ADER1310CEP00001","OK"]
["ADER","1310","CLT00001",null,"ADER1310CLT00001","OK"]
["ADER","1310","CRF00001",null,"ADER1310CRF00001","OK"]
["ADER","1310","HEF000A6",null,"ADER1310HEF000A6","OK"]
["ADER","1310","HEF000A7",null,"ADER1310HEF000A7","OK"]
["ADER","1310","IOR01301",null,"ADER1310IOR01301","OK"]
["ADER","1310","MSE01301",null,"ADER1310MSE01301","OK"]
["ADER","1310","PFC00001",null,"ADER1310PFC00001","OK"]
["ADER","1310","RES01300",null,"ADER1310RES01300","OK"]
["ADER","1310","RES02302",null,"ADER1310RES02302","OK"]
["ADER","1310","RES03300",null,"ADER1310RES03300","OK"]
["ADER","1310","RES03301",null,"ADER1310RES03301","OK"]
["ADER","1320","10000567",null,"ADER132010000567","OK"]
["ADER","1320","10000593",null,"ADER132010000593","OK"]
["ADER","1320","10000597",null,"ADER132010000597","OK"]
["ADER","1320","10000617",null,"ADER132010000617","OK"]
["ADER","1320","10000625",null,"ADER132010000625","OK"]
["ADER","1320","10000640",null,"ADER132010000640","OK"]
["ADER","1320","10000651",null,"ADER132010000651","OK"]
["ADER","1320","10000652",null,"ADER132010000652","OK"]
["ADER","1320","10000653",null,"ADER132010000653","OK"]
["ADER","1320","10000662",null,"ADER132010000662","OK"]
["ADER","1320","10000670",null,"ADER132010000670","OK"]
["ADER","1320","10000682",null,"ADER132010000682","OK"]
["ADER","1320","10000685",null,"ADER132010000685","OK"]
["ADER","1320","10000691",null,"ADER132010000691","OK"]
["ADER","1320","10000714",null,"ADER132010000714","OK"]
["ADER","1320","10000730",null,"ADER132010000730","OK"]
["ADER","1320","CEC00001",null,"ADER1320CEC00001","OK"]
["ADER","1320","CEP00001",null,"ADER1320CEP00001","OK"]
["ADER","1320","CLT00001",null,"ADER1320CLT00001","OK"]
["ADER","1320","CRF00001",null,"ADER1320CRF00001","OK"]
["ADER","1320","HEF000A6",null,"ADER1320HEF000A6","OK"]
["ADER","1320","HEF000A7",null,"ADER1320HEF000A7","OK"]
["ADER","1320","IOR01301",null,"ADER1320IOR01301","OK"]
["ADER","1320","MSE01301",null,"ADER1320MSE01301","OK"]
["ADER","1320","PFC00001",null,"ADER1320PFC00001","OK"]
["ADER","1320","RES01300",null,{"$f":"CONCATENATE(A1284,B1284,C1284)","v":"ADER1320RES01300"},"OK"]
["ADER","1320","RES02302",null,"ADER1320RES02302","OK"]
["ADER","1320","RES03300",null,"ADER1320RES03300","OK"]
["ADER","1320","RES03301",null,"ADER1320RES03301","OK"]
["ADER","1330","10000567",null,"ADER133010000567","OK"]
["ADER","1330","10000593",null,"ADER133010000593","OK"]
["ADER","1330","10000597",null,"ADER133010000597","OK"]
["ADER","1330","10000617",null,"ADER133010000617","OK"]
["ADER","1330","10000625",null,"ADER133010000625","OK"]
["ADER","1330","10000640",null,"ADER133010000640","OK"]
["ADER","1330","10000651",null,"ADER133010000651","OK"]
["ADER","1330","10000652",null,"ADER133010000652","OK"]
["ADER","1330","10000653",null,"ADER133010000653","OK"]
["ADER","1330","10000662",null,"ADER133010000662","OK"]
["ADER","1330","10000670",null,"ADER133010000670","OK"]
["ADER","1330","10000682",null,"ADER133010000682","OK"]
["ADER","1330","10000685",null,"ADER133010000685","OK"]
["ADER","1330","10000691",null,"ADER133010000691","OK"]
["ADER","1330","10000714",null,"ADER133010000714","OK"]
["ADER","1330","10000730",null,"ADER133010000730","OK"]
["ADER","1330","CEC00001",null,"ADER1330CEC00001","OK"]
["ADER","1330","CEP00001",null,"ADER1330CEP00001","OK"]
["ADER","1330","CLT00001",null,"ADER1330CLT00001","OK"]
["ADER","1330","CRF00001",null,"ADER1330CRF00001","OK"]
["ADER","1330","HEF000A6",null,"ADER1330HEF000A6","OK"]
["ADER","1330","HEF000A7",null,"ADER1330HEF000A7","OK"]
["ADER","1330","IOR01301",null,"ADER1330IOR01301","OK"]
["ADER","1330","MSE01301",null,"ADER1330MSE01301","OK"]
["ADER","1330","PFC00001",null,"ADER1330PFC00001","OK"]
["ADER","1330","RES01300",null,"ADER1330RES01300","OK"]
["ADER","1330","RES02302",null,"ADER1330RES02302","OK"]
["ADER","1330","RES03300",null,"ADER1330RES03300","OK"]
["ADER","1330","RES03301",null,"ADER1330RES03301","OK"]
["ADES","1100","DEP01304",null,"ADES1100DEP01304","OK"]
["ADES","1100","DEP01306",null,"ADES1100DEP01306","OK"]
["ADES","1100","DEP01309",null,"ADES1100DEP01309","OK"]
["ADES","1100","DEP01311",null,"ADES1100DEP01311","OK"]
["ADES","1100","DEP01312",null,"ADES1100DEP01312","OK"]
["ADES","1100","DEP01313",null,"ADES1100DEP01313","OK"]
["ADES","1100","DEP01314",null,"ADES1100DEP01314","OK"]
["ADES","1100","DIS00001",null,"ADES1100DIS00001","OK"]
["ADES","1100","FTR00405",null,"ADES1100FTR00405","OK"]
["ADES","1100","FTR00406",null,"ADES1100FTR00406","OK"]
["ADES","1100","GEN00001",null,"ADES1100GEN00001","OK"]
["ADES","1100","STU00002",null,"ADES1100STU00002","OK"]
["ADES","1110","DEP01304",null,"ADES1110DEP01304","OK"]
["ADES","1110","DEP01306",null,"ADES1110DEP01306","OK"]
["ADES","1110","DEP01309",null,"ADES1110DEP01309","OK"]
["ADES","1110","DEP01311",null,"ADES1110DEP01311","OK"]
["ADES","1110","DEP01312",null,"ADES1110DEP01312","OK"]
["ADES","1110","DEP01313",null,"ADES1110DEP01313","OK"]
["ADES","1110","DEP01314",null,"ADES1110DEP01314","OK"]
["ADES","1110","DIS00001",null,"ADES1110DIS00001","OK"]
["ADES","1110","FTR00405",null,"ADES1110FTR00405","OK"]
["ADES","1110","FTR00406",null,"ADES1110FTR00406","OK"]
["ADES","1110","GEN00001",null,"ADES1110GEN00001","OK"]
["ADES","1110","STU00002",null,"ADES1110STU00002","OK"]
["ADES","1120","DEP01304",null,"ADES1120DEP01304","OK"]
["ADES","1120","DEP01306",null,"ADES1120DEP01306","OK"]
["ADES","1120","DEP01309",null,"ADES1120DEP01309","OK"]
["ADES","1120","DEP01311",null,"ADES1120DEP01311","OK"]
["ADES","1120","DEP01312",null,"ADES1120DEP01312","OK"]
["ADES","1120","DEP01313",null,"ADES1120DEP01313","OK"]
["ADES","1120","DEP01314",null,"ADES1120DEP01314","OK"]
["ADES","1120","DIS00001",null,{"$f":"CONCATENATE(A1348,B1348,C1348)","v":"ADES1120DIS00001"},"OK"]
["ADES","1120","FTR00405",null,"ADES1120FTR00405","OK"]
["ADES","1120","FTR00406",null,"ADES1120FTR00406","OK"]
["ADES","1120","GEN00001",null,"ADES1120GEN00001","OK"]
["ADES","1120","STU00002",null,"ADES1120STU00002","OK"]
["ADES","1210","DEP01304",null,"ADES1210DEP01304","OK"]
["ADES","1210","DEP01306",null,"ADES1210DEP01306","OK"]
["ADES","1210","DEP01309",null,"ADES1210DEP01309","OK"]
["ADES","1210","DEP01311",null,"ADES1210DEP01311","OK"]
["ADES","1210","DEP01312",null,"ADES1210DEP01312","OK"]
["ADES","1210","DEP01313",null,"ADES1210DEP01313","OK"]
["ADES","1210","DEP01314",null,"ADES1210DEP01314","OK"]
["ADES","1210","DIS00001",null,"ADES1210DIS00001","OK"]
["ADES","1210","FTR00405",null,"ADES1210FTR00405","OK"]
["ADES","1210","FTR00406",null,"ADES1210FTR00406","OK"]
["ADES","1210","GEN00001",null,"ADES1210GEN00001","OK"]
["ADES","1210","STU00002",null,"ADES1210STU00002","OK"]
["ADES","1300","DEP01304",null,"ADES1300DEP01304","OK"]
["ADES","1300","DEP01306",null,"ADES1300DEP01306","OK"]
["ADES","1300","DEP01309",null,"ADES1300DEP01309","OK"]
["ADES","1300","DEP01311",null,"ADES1300DEP01311","OK"]
["ADES","1300","DEP01312",null,"ADES1300DEP01312","OK"]
["ADES","1300","DEP01313",null,"ADES1300DEP01313","OK"]
["ADES","1300","DEP01314",null,"ADES1300DEP01314","OK"]
["ADES","1300","DIS00001",null,"ADES1300DIS00001","OK"]
["ADES","1300","FTR00405",null,"ADES1300FTR00405","OK"]
["ADES","1300","FTR00406",null,"ADES1300FTR00406","OK"]
["ADES","1300","GEN00001",null,"ADES1300GEN00001","OK"]
["ADES","1300","STU00002",null,"ADES1300STU00002","OK"]
["ADES","1310","DEP01304",null,"ADES1310DEP01304","OK"]
["ADES","1310","DEP01306",null,"ADES1310DEP01306","OK"]
["ADES","1310","DEP01309",null,"ADES1310DEP01309","OK"]
["ADES","1310","DEP01311",null,"ADES1310DEP01311","OK"]
["ADES","1310","DEP01312",null,"ADES1310DEP01312","OK"]
["ADES","1310","DEP01313",null,"ADES1310DEP01313","OK"]
["ADES","1310","DEP01314",null,"ADES1310DEP01314","OK"]
["ADES","1310","DIS00001",null,"ADES1310DIS00001","OK"]
["ADES","1310","FTR00405",null,"ADES1310FTR00405","OK"]
["ADES","1310","FTR00406",null,"ADES1310FTR00406","OK"]
["ADES","1310","GEN00001",null,"ADES1310GEN00001","OK"]
["ADES","1310","STU00002",null,"ADES1310STU00002","OK"]
["ADES","1320","DEP01304",null,"ADES1320DEP01304","OK"]
["ADES","1320","DEP01306",null,"ADES1320DEP01306","OK"]
["ADES","1320","DEP01309",null,"ADES1320DEP01309","OK"]
["ADES","1320","DEP01311",null,"ADES1320DEP01311","OK"]
["ADES","1320","DEP01312",null,"ADES1320DEP01312","OK"]
["ADES","1320","DEP01313",null,"ADES1320DEP01313","OK"]
["ADES","1320","DEP01314",null,"ADES1320DEP01314","OK"]
["ADES","1320","DIS00001",null,"ADES1320DIS00001","OK"]
["ADES","1320","FTR00405",null,"ADES1320FTR00405","OK"]
["ADES","1320","FTR00406",null,"ADES1320FTR00406","OK"]
["ADES","1320","GEN00001",null,"ADES1320GEN00001","OK"]
["ADES","1320","STU00002",null,"ADES1320STU00002","OK"]
["ADES","1330","DEP01304",null,"ADES1330DEP01304","OK"]
["ADES","1330","DEP01306",null,"ADES1330DEP01306","OK"]
["ADES","1330","DEP01309",null,"ADES1330DEP01309","OK"]
["ADES","1330","DEP01311",null,"ADES1330DEP01311","OK"]
["ADES","1330","DEP01312",null,"ADES1330DEP01312","OK"]
["ADES","1330","DEP01313",null,"ADES1330DEP01313","OK"]
["ADES","1330","DEP01314",null,"ADES1330DEP01314","OK"]
["ADES","1330","DIS00001",null,"ADES1330DIS00001","OK"]
["ADES","1330","FTR00405",null,"ADES1330FTR00405","OK"]
["ADES","1330","FTR00406",null,"ADES1330FTR00406","OK"]
["ADES","1330","GEN00001",null,"ADES1330GEN00001","OK"]
["ADES","1330","STU00002",null,{"$f":"CONCATENATE(A1412,B1412,C1412)","v":"ADES1330STU00002"},"OK"]
["ADHE","1100","10000651",null,"ADHE110010000651","OK"]
["ADHE","1100","CIH00001",null,"ADHE1100CIH00001","OK"]
["ADHE","1100","ENT01101",null,"ADHE1100ENT01101","OK"]
["ADHE","1100","ENT01301",null,"ADHE1100ENT01301","OK"]
["ADHE","1110","10000651",null,"ADHE111010000651","OK"]
["ADHE","1110","CIH00001",null,"ADHE1110CIH00001","OK"]
["ADHE","1110","ENT01101",null,"ADHE1110ENT01101","OK"]
["ADHE","1110","ENT01301",null,"ADHE1110ENT01301","OK"]
["ADHE","1120","10000651",null,"ADHE112010000651","OK"]
["ADHE","1120","CIH00001",null,"ADHE1120CIH00001","OK"]
["ADHE","1120","ENT01101",null,"ADHE1120ENT01101","OK"]
["ADHE","1120","ENT01301",null,"ADHE1120ENT01301","OK"]
["ADHE","1210","10000651",null,"ADHE121010000651","OK"]
["ADHE","1210","CIH00001",null,"ADHE1210CIH00001","OK"]
["ADHE","1210","ENT01101",null,"ADHE1210ENT01101","OK"]
["ADHE","1210","ENT01301",null,"ADHE1210ENT01301","OK"]
["ADHE","1230","10000651",null,"ADHE123010000651","OK"]
["ADHE","1230","CIH00001",null,"ADHE1230CIH00001","OK"]
["ADHE","1230","ENT01101",null,"ADHE1230ENT01101","OK"]
["ADHE","1230","ENT01301",null,"ADHE1230ENT01301","OK"]
["ADHE","1300","10000651",null,"ADHE130010000651","OK"]
["ADHE","1300","CIH00001",null,"ADHE1300CIH00001","OK"]
["ADHE","1300","ENT01101",null,"ADHE1300ENT01101","OK"]
["ADHE","1300","ENT01301",null,"ADHE1300ENT01301","OK"]
["ADHE","1310","10000651",null,"ADHE131010000651","OK"]
["ADHE","1310","CIH00001",null,"ADHE1310CIH00001","OK"]
["ADHE","1310","ENT01101",null,"ADHE1310ENT01101","OK"]
["ADHE","1310","ENT01301",null,"ADHE1310ENT01301","OK"]
["ADHE","1320","10000651",null,"ADHE132010000651","OK"]
["ADHE","1320","CIH00001",null,"ADHE1320CIH00001","OK"]
["ADHE","1320","ENT01101",null,"ADHE1320ENT01101","OK"]
["ADHE","1320","ENT01301",null,"ADHE1320ENT01301","OK"]
["ADHE","1330","10000651",null,"ADHE133010000651","OK"]
["ADHE","1330","CIH00001",null,"ADHE1330CIH00001","OK"]
["ADHE","1330","ENT01101",null,"ADHE1330ENT01101","OK"]
["ADHE","1330","ENT01301",null,"ADHE1330ENT01301","OK"]
["ADHR","1100","10000522",null,"ADHR110010000522","OK"]
["ADHR","1100","10000532",null,"ADHR110010000532","OK"]
["ADHR","1100","10000558",null,"ADHR110010000558","OK"]
["ADHR","1100","10000564",null,"ADHR110010000564","OK"]
["ADHR","1100","10000575",null,"ADHR110010000575","OK"]
["ADHR","1100","10000584",null,"ADHR110010000584","OK"]
["ADHR","1100","10000611",null,"ADHR110010000611","OK"]
["ADHR","1100","10000627",null,"ADHR110010000627","OK"]
["ADHR","1100","10000631",null,"ADHR110010000631","OK"]
["ADHR","1100","10000633",null,"ADHR110010000633","OK"]
["ADHR","1100","10000636",null,"ADHR110010000636","OK"]
["ADHR","1100","10000638",null,"ADHR110010000638","OK"]
["ADHR","1100","10000643",null,"ADHR110010000643","OK"]
["ADHR","1100","10000654",null,"ADHR110010000654","OK"]
["ADHR","1100","10000657",null,"ADHR110010000657","OK"]
["ADHR","1100","10000661",null,"ADHR110010000661","OK"]
["ADHR","1100","10000668",null,"ADHR110010000668","OK"]
["ADHR","1100","10000671",null,"ADHR110010000671","OK"]
["ADHR","1100","10000674",null,"ADHR110010000674","OK"]
["ADHR","1100","10000684",null,"ADHR110010000684","OK"]
["ADHR","1100","10000688",null,"ADHR110010000688","OK"]
["ADHR","1100","10000702",null,"ADHR110010000702","OK"]
["ADHR","1100","10000721",null,"ADHR110010000721","OK"]
["ADHR","1100","10000725",null,"ADHR110010000725","OK"]
["ADHR","1100","10000732",null,"ADHR110010000732","OK"]
["ADHR","1100","BUR01000",null,"ADHR1100BUR01000","OK"]
["ADHR","1100","IOR01301",null,"ADHR1100IOR01301","OK"]
["ADHR","1100","LIL01101",null,{"$f":"CONCATENATE(A1476,B1476,C1476)","v":"ADHR1100LIL01101"},"OK"]
["ADHR","1100","RAE00022",null,"ADHR1100RAE00022","OK"]
["ADHR","1100","RES01100",null,"ADHR1100RES01100","OK"]
["ADHR","1100","RES02101",null,"ADHR1100RES02101","OK"]
["ADHR","1100","RES02102",null,"ADHR1100RES02102","OK"]
["ADHR","1100","RES02103",null,"ADHR1100RES02103","OK"]
["ADHR","1100","RES02104",null,"ADHR1100RES02104","OK"]
["ADHR","1100","RES02105",null,"ADHR1100RES02105","OK"]
["ADHR","1100","RES03000",null,"ADHR1100RES03000","OK"]
["ADHR","1100","RES03100",null,"ADHR1100RES03100","OK"]
["ADHR","1100","RES03101",null,"ADHR1100RES03101","OK"]
["ADHR","1100","RES03300",null,"ADHR1100RES03300","OK"]
["ADHR","1100","RES03301",null,"ADHR1100RES03301","OK"]
["ADHR","1100","SYS00001",null,"ADHR1100SYS00001","OK"]
["ADHR","1100","TPC01101",null,"ADHR1100TPC01101","OK"]
["ADHR","1100","WPC01101",null,"ADHR1100WPC01101","OK"]
["ADHR","1110","10000522",null,"ADHR111010000522","OK"]
["ADHR","1110","10000532",null,"ADHR111010000532","OK"]
["ADHR","1110","10000558",null,"ADHR111010000558","OK"]
["ADHR","1110","10000564",null,"ADHR111010000564","OK"]
["ADHR","1110","10000575",null,"ADHR111010000575","OK"]
["ADHR","1110","10000584",null,"ADHR111010000584","OK"]
["ADHR","1110","10000611",null,"ADHR111010000611","OK"]
["ADHR","1110","10000627",null,"ADHR111010000627","OK"]
["ADHR","1110","10000631",null,"ADHR111010000631","OK"]
["ADHR","1110","10000633",null,"ADHR111010000633","OK"]
["ADHR","1110","10000636",null,"ADHR111010000636","OK"]
["ADHR","1110","10000638",null,"ADHR111010000638","OK"]
["ADHR","1110","10000643",null,"ADHR111010000643","OK"]
["ADHR","1110","10000654",null,"ADHR111010000654","OK"]
["ADHR","1110","10000657",null,"ADHR111010000657","OK"]
["ADHR","1110","10000661",null,"ADHR111010000661","OK"]
["ADHR","1110","10000668",null,"ADHR111010000668","OK"]
["ADHR","1110","10000671",null,"ADHR111010000671","OK"]
["ADHR","1110","10000674",null,"ADHR111010000674","OK"]
["ADHR","1110","10000684",null,"ADHR111010000684","OK"]
["ADHR","1110","10000688",null,"ADHR111010000688","OK"]
["ADHR","1110","10000702",null,"ADHR111010000702","OK"]
["ADHR","1110","10000721",null,"ADHR111010000721","OK"]
["ADHR","1110","10000725",null,"ADHR111010000725","OK"]
["ADHR","1110","10000732",null,"ADHR111010000732","OK"]
["ADHR","1110","BUR01000",null,"ADHR1110BUR01000","OK"]
["ADHR","1110","IOR01301",null,"ADHR1110IOR01301","OK"]
["ADHR","1110","LIL01101",null,"ADHR1110LIL01101","OK"]
["ADHR","1110","RAE00022",null,"ADHR1110RAE00022","OK"]
["ADHR","1110","RES01100",null,"ADHR1110RES01100","OK"]
["ADHR","1110","RES02101",null,"ADHR1110RES02101","OK"]
["ADHR","1110","RES02102",null,"ADHR1110RES02102","OK"]
["ADHR","1110","RES02103",null,"ADHR1110RES02103","OK"]
["ADHR","1110","RES02104",null,"ADHR1110RES02104","OK"]
["ADHR","1110","RES02105",null,"ADHR1110RES02105","OK"]
["ADHR","1110","RES03000",null,"ADHR1110RES03000","OK"]
["ADHR","1110","RES03100",null,"ADHR1110RES03100","OK"]
["ADHR","1110","RES03101",null,"ADHR1110RES03101","OK"]
["ADHR","1110","RES03300",null,"ADHR1110RES03300","OK"]
["ADHR","1110","RES03301",null,"ADHR1110RES03301","OK"]
["ADHR","1110","SYS00001",null,"ADHR1110SYS00001","OK"]
["ADHR","1110","TPC01101",null,"ADHR1110TPC01101","OK"]
["ADHR","1110","WPC01101",null,"ADHR1110WPC01101","OK"]
["ADHR","1120","10000522",null,"ADHR112010000522","OK"]
["ADHR","1120","10000532",null,"ADHR112010000532","OK"]
["ADHR","1120","10000558",null,"ADHR112010000558","OK"]
["ADHR","1120","10000564",null,"ADHR112010000564","OK"]
["ADHR","1120","10000575",null,"ADHR112010000575","OK"]
["ADHR","1120","10000584",null,{"$f":"CONCATENATE(A1540,B1540,C1540)","v":"ADHR112010000584"},"OK"]
["ADHR","1120","10000611",null,"ADHR112010000611","OK"]
["ADHR","1120","10000627",null,"ADHR112010000627","OK"]
["ADHR","1120","10000631",null,"ADHR112010000631","OK"]
["ADHR","1120","10000633",null,"ADHR112010000633","OK"]
["ADHR","1120","10000636",null,"ADHR112010000636","OK"]
["ADHR","1120","10000638",null,"ADHR112010000638","OK"]
["ADHR","1120","10000643",null,"ADHR112010000643","OK"]
["ADHR","1120","10000654",null,"ADHR112010000654","OK"]
["ADHR","1120","10000657",null,"ADHR112010000657","OK"]
["ADHR","1120","10000661",null,"ADHR112010000661","OK"]
["ADHR","1120","10000668",null,"ADHR112010000668","OK"]
["ADHR","1120","10000671",null,"ADHR112010000671","OK"]
["ADHR","1120","10000674",null,"ADHR112010000674","OK"]
["ADHR","1120","10000684",null,"ADHR112010000684","OK"]
["ADHR","1120","10000688",null,"ADHR112010000688","OK"]
["ADHR","1120","10000702",null,"ADHR112010000702","OK"]
["ADHR","1120","10000721",null,"ADHR112010000721","OK"]
["ADHR","1120","10000725",null,"ADHR112010000725","OK"]
["ADHR","1120","10000732",null,"ADHR112010000732","OK"]
["ADHR","1120","BUR01000",null,"ADHR1120BUR01000","OK"]
["ADHR","1120","IOR01301",null,"ADHR1120IOR01301","OK"]
["ADHR","1120","LIL01101",null,"ADHR1120LIL01101","OK"]
["ADHR","1120","RAE00022",null,"ADHR1120RAE00022","OK"]
["ADHR","1120","RES01100",null,"ADHR1120RES01100","OK"]
["ADHR","1120","RES02101",null,"ADHR1120RES02101","OK"]
["ADHR","1120","RES02102",null,"ADHR1120RES02102","OK"]
["ADHR","1120","RES02103",null,"ADHR1120RES02103","OK"]
["ADHR","1120","RES02104",null,"ADHR1120RES02104","OK"]
["ADHR","1120","RES02105",null,"ADHR1120RES02105","OK"]
["ADHR","1120","RES03000",null,"ADHR1120RES03000","OK"]
["ADHR","1120","RES03100",null,"ADHR1120RES03100","OK"]
["ADHR","1120","RES03101",null,"ADHR1120RES03101","OK"]
["ADHR","1120","RES03300",null,"ADHR1120RES03300","OK"]
["ADHR","1120","RES03301",null,"ADHR1120RES03301","OK"]
["ADHR","1120","SYS00001",null,"ADHR1120SYS00001","OK"]
["ADHR","1120","TPC01101",null,"ADHR1120TPC01101","OK"]
["ADHR","1120","WPC01101",null,"ADHR1120WPC01101","OK"]
["ADHR","1310","10000522",null,"ADHR131010000522","OK"]
["ADHR","1310","10000532",null,"ADHR131010000532","OK"]
["ADHR","1310","10000558",null,"ADHR131010000558","OK"]
["ADHR","1310","10000564",null,"ADHR131010000564","OK"]
["ADHR","1310","10000575",null,"ADHR131010000575","OK"]
["ADHR","1310","10000584",null,"ADHR131010000584","OK"]
["ADHR","1310","10000611",null,"ADHR131010000611","OK"]
["ADHR","1310","10000627",null,"ADHR131010000627","OK"]
["ADHR","1310","10000631",null,"ADHR131010000631","OK"]
["ADHR","1310","10000633",null,"ADHR131010000633","OK"]
["ADHR","1310","10000636",null,"ADHR131010000636","OK"]
["ADHR","1310","10000638",null,"ADHR131010000638","OK"]
["ADHR","1310","10000643",null,"ADHR131010000643","OK"]
["ADHR","1310","10000654",null,"ADHR131010000654","OK"]
["ADHR","1310","10000657",null,"ADHR131010000657","OK"]
["ADHR","1310","10000661",null,"ADHR131010000661","OK"]
["ADHR","1310","10000668",null,"ADHR131010000668","OK"]
["ADHR","1310","10000671",null,"ADHR131010000671","OK"]
["ADHR","1310","10000674",null,"ADHR131010000674","OK"]
["ADHR","1310","10000684",null,"ADHR131010000684","OK"]
["ADHR","1310","10000688",null,"ADHR131010000688","OK"]
["ADHR","1310","10000702",null,"ADHR131010000702","OK"]
["ADHR","1310","10000721",null,"ADHR131010000721","OK"]
["ADHR","1310","10000725",null,"ADHR131010000725","OK"]
["ADHR","1310","10000732",null,"ADHR131010000732","OK"]
["ADHR","1310","BUR01000",null,"ADHR1310BUR01000","OK"]
["ADHR","1310","IOR01301",null,{"$f":"CONCATENATE(A1604,B1604,C1604)","v":"ADHR1310IOR01301"},"OK"]
["ADHR","1310","LIL01101",null,"ADHR1310LIL01101","OK"]
["ADHR","1310","RAE00022",null,"ADHR1310RAE00022","OK"]
["ADHR","1310","RES01100",null,"ADHR1310RES01100","OK"]
["ADHR","1310","RES02101",null,"ADHR1310RES02101","OK"]
["ADHR","1310","RES02102",null,"ADHR1310RES02102","OK"]
["ADHR","1310","RES02103",null,"ADHR1310RES02103","OK"]
["ADHR","1310","RES02104",null,"ADHR1310RES02104","OK"]
["ADHR","1310","RES02105",null,"ADHR1310RES02105","OK"]
["ADHR","1310","RES03000",null,"ADHR1310RES03000","OK"]
["ADHR","1310","RES03100",null,"ADHR1310RES03100","OK"]
["ADHR","1310","RES03101",null,"ADHR1310RES03101","OK"]
["ADHR","1310","RES03300",null,"ADHR1310RES03300","OK"]
["ADHR","1310","RES03301",null,"ADHR1310RES03301","OK"]
["ADHR","1310","SYS00001",null,"ADHR1310SYS00001","OK"]
["ADHR","1310","TPC01101",null,"ADHR1310TPC01101","OK"]
["ADHR","1310","WPC01101",null,"ADHR1310WPC01101","OK"]
["ADHR","1320","10000522",null,"ADHR132010000522","OK"]
["ADHR","1320","10000532",null,"ADHR132010000532","OK"]
["ADHR","1320","10000558",null,"ADHR132010000558","OK"]
["ADHR","1320","10000564",null,"ADHR132010000564","OK"]
["ADHR","1320","10000575",null,"ADHR132010000575","OK"]
["ADHR","1320","10000584",null,"ADHR132010000584","OK"]
["ADHR","1320","10000611",null,"ADHR132010000611","OK"]
["ADHR","1320","10000627",null,"ADHR132010000627","OK"]
["ADHR","1320","10000631",null,"ADHR132010000631","OK"]
["ADHR","1320","10000633",null,"ADHR132010000633","OK"]
["ADHR","1320","10000636",null,"ADHR132010000636","OK"]
["ADHR","1320","10000638",null,"ADHR132010000638","OK"]
["ADHR","1320","10000643",null,"ADHR132010000643","OK"]
["ADHR","1320","10000654",null,"ADHR132010000654","OK"]
["ADHR","1320","10000657",null,"ADHR132010000657","OK"]
["ADHR","1320","10000661",null,"ADHR132010000661","OK"]
["ADHR","1320","10000668",null,"ADHR132010000668","OK"]
["ADHR","1320","10000671",null,"ADHR132010000671","OK"]
["ADHR","1320","10000674",null,"ADHR132010000674","OK"]
["ADHR","1320","10000684",null,"ADHR132010000684","OK"]
["ADHR","1320","10000688",null,"ADHR132010000688","OK"]
["ADHR","1320","10000702",null,"ADHR132010000702","OK"]
["ADHR","1320","10000721",null,"ADHR132010000721","OK"]
["ADHR","1320","10000725",null,"ADHR132010000725","OK"]
["ADHR","1320","10000732",null,"ADHR132010000732","OK"]
["ADHR","1320","BUR01000",null,"ADHR1320BUR01000","OK"]
["ADHR","1320","IOR01301",null,"ADHR1320IOR01301","OK"]
["ADHR","1320","LIL01101",null,"ADHR1320LIL01101","OK"]
["ADHR","1320","RAE00022",null,"ADHR1320RAE00022","OK"]
["ADHR","1320","RES01100",null,"ADHR1320RES01100","OK"]
["ADHR","1320","RES02101",null,"ADHR1320RES02101","OK"]
["ADHR","1320","RES02102",null,"ADHR1320RES02102","OK"]
["ADHR","1320","RES02103",null,"ADHR1320RES02103","OK"]
["ADHR","1320","RES02104",null,"ADHR1320RES02104","OK"]
["ADHR","1320","RES02105",null,"ADHR1320RES02105","OK"]
["ADHR","1320","RES03000",null,"ADHR1320RES03000","OK"]
["ADHR","1320","RES03100",null,"ADHR1320RES03100","OK"]
["ADHR","1320","RES03101",null,"ADHR1320RES03101","OK"]
["ADHR","1320","RES03300",null,"ADHR1320RES03300","OK"]
["ADHR","1320","RES03301",null,"ADHR1320RES03301","OK"]
["ADHR","1320","SYS00001",null,"ADHR1320SYS00001","OK"]
["ADHR","1320","TPC01101",null,"ADHR1320TPC01101","OK"]
["ADHR","1320","WPC01101",null,"ADHR1320WPC01101","OK"]
["ADHR","1330","10000522",null,"ADHR133010000522","OK"]
["ADHR","1330","10000532",null,"ADHR133010000532","OK"]
["ADHR","1330","10000558",null,"ADHR133010000558","OK"]
["ADHR","1330","10000564",null,"ADHR133010000564","OK"]
["ADHR","1330","10000575",null,{"$f":"CONCATENATE(A1668,B1668,C1668)","v":"ADHR133010000575"},"OK"]
["ADHR","1330","10000584",null,"ADHR133010000584","OK"]
["ADHR","1330","10000611",null,"ADHR133010000611","OK"]
["ADHR","1330","10000627",null,"ADHR133010000627","OK"]
["ADHR","1330","10000631",null,"ADHR133010000631","OK"]
["ADHR","1330","10000633",null,"ADHR133010000633","OK"]
["ADHR","1330","10000636",null,"ADHR133010000636","OK"]
["ADHR","1330","10000638",null,"ADHR133010000638","OK"]
["ADHR","1330","10000643",null,"ADHR133010000643","OK"]
["ADHR","1330","10000654",null,"ADHR133010000654","OK"]
["ADHR","1330","10000657",null,"ADHR133010000657","OK"]
["ADHR","1330","10000661",null,"ADHR133010000661","OK"]
["ADHR","1330","10000668",null,"ADHR133010000668","OK"]
["ADHR","1330","10000671",null,"ADHR133010000671","OK"]
["ADHR","1330","10000674",null,"ADHR133010000674","OK"]
["ADHR","1330","10000684",null,"ADHR133010000684","OK"]
["ADHR","1330","10000688",null,"ADHR133010000688","OK"]
["ADHR","1330","10000702",null,"ADHR133010000702","OK"]
["ADHR","1330","10000721",null,"ADHR133010000721","OK"]
["ADHR","1330","10000725",null,"ADHR133010000725","OK"]
["ADHR","1330","10000732",null,"ADHR133010000732","OK"]
["ADHR","1330","BUR01000",null,"ADHR1330BUR01000","OK"]
["ADHR","1330","IOR01301",null,"ADHR1330IOR01301","OK"]
["ADHR","1330","LIL01101",null,"ADHR1330LIL01101","OK"]
["ADHR","1330","RAE00022",null,"ADHR1330RAE00022","OK"]
["ADHR","1330","RES01100",null,"ADHR1330RES01100","OK"]
["ADHR","1330","RES02101",null,"ADHR1330RES02101","OK"]
["ADHR","1330","RES02102",null,"ADHR1330RES02102","OK"]
["ADHR","1330","RES02103",null,"ADHR1330RES02103","OK"]
["ADHR","1330","RES02104",null,"ADHR1330RES02104","OK"]
["ADHR","1330","RES02105",null,"ADHR1330RES02105","OK"]
["ADHR","1330","RES03000",null,"ADHR1330RES03000","OK"]
["ADHR","1330","RES03100",null,"ADHR1330RES03100","OK"]
["ADHR","1330","RES03101",null,"ADHR1330RES03101","OK"]
["ADHR","1330","RES03300",null,"ADHR1330RES03300","OK"]
["ADHR","1330","RES03301",null,"ADHR1330RES03301","OK"]
["ADHR","1330","SYS00001",null,"ADHR1330SYS00001","OK"]
["ADHR","1330","TPC01101",null,"ADHR1330TPC01101","OK"]
["ADHR","1330","WPC01101",null,"ADHR1330WPC01101","OK"]
["ADHR","1130","10000522",null,"ADHR113010000522","OK"]
["ADHR","1130","10000532",null,"ADHR113010000532","OK"]
["ADHR","1130","10000558",null,"ADHR113010000558","OK"]
["ADHR","1130","10000564",null,"ADHR113010000564","OK"]
["ADHR","1130","10000575",null,"ADHR113010000575","OK"]
["ADHR","1130","10000584",null,"ADHR113010000584","OK"]
["ADHR","1130","10000611",null,"ADHR113010000611","OK"]
["ADHR","1130","10000627",null,"ADHR113010000627","OK"]
["ADHR","1130","10000631",null,"ADHR113010000631","OK"]
["ADHR","1130","10000633",null,"ADHR113010000633","OK"]
["ADHR","1130","10000636",null,"ADHR113010000636","OK"]
["ADHR","1130","10000638",null,"ADHR113010000638","OK"]
["ADHR","1130","10000643",null,"ADHR113010000643","OK"]
["ADHR","1130","10000654",null,"ADHR113010000654","OK"]
["ADHR","1130","10000657",null,"ADHR113010000657","OK"]
["ADHR","1130","10000661",null,"ADHR113010000661","OK"]
["ADHR","1130","10000668",null,"ADHR113010000668","OK"]
["ADHR","1130","10000671",null,"ADHR113010000671","OK"]
["ADHR","1130","10000674",null,"ADHR113010000674","OK"]
["ADHR","1130","10000684",null,"ADHR113010000684","OK"]
["ADHR","1130","10000688",null,"ADHR113010000688","OK"]
["ADHR","1130","10000702",null,"ADHR113010000702","OK"]
["ADHR","1130","10000721",null,"ADHR113010000721","OK"]
["ADHR","1130","10000725",null,"ADHR113010000725","OK"]
["ADHR","1130","10000732",null,"ADHR113010000732","OK"]
["ADHR","1130","BUR01000",null,{"$f":"CONCATENATE(A1732,B1732,C1732)","v":"ADHR1130BUR01000"},"OK"]
["ADHR","1130","IOR01301",null,"ADHR1130IOR01301","OK"]
["ADHR","1130","LIL01101",null,"ADHR1130LIL01101","OK"]
["ADHR","1130","RAE00022",null,"ADHR1130RAE00022","OK"]
["ADHR","1130","RES01100",null,"ADHR1130RES01100","OK"]
["ADHR","1130","RES02101",null,"ADHR1130RES02101","OK"]
["ADHR","1130","RES02102",null,"ADHR1130RES02102","OK"]
["ADHR","1130","RES02103",null,"ADHR1130RES02103","OK"]
["ADHR","1130","RES02104",null,"ADHR1130RES02104","OK"]
["ADHR","1130","RES02105",null,"ADHR1130RES02105","OK"]
["ADHR","1130","RES03000",null,"ADHR1130RES03000","OK"]
["ADHR","1130","RES03100",null,"ADHR1130RES03100","OK"]
["ADHR","1130","RES03101",null,"ADHR1130RES03101","OK"]
["ADHR","1130","RES03300",null,"ADHR1130RES03300","OK"]
["ADHR","1130","RES03301",null,"ADHR1130RES03301","OK"]
["ADHR","1130","SYS00001",null,"ADHR1130SYS00001","OK"]
["ADHR","1130","TPC01101",null,"ADHR1130TPC01101","OK"]
["ADHR","1130","WPC01101",null,"ADHR1130WPC01101","OK"]
["ADHR","1210","10000522",null,"ADHR121010000522","OK"]
["ADHR","1210","10000532",null,"ADHR121010000532","OK"]
["ADHR","1210","10000558",null,"ADHR121010000558","OK"]
["ADHR","1210","10000564",null,"ADHR121010000564","OK"]
["ADHR","1210","10000575",null,"ADHR121010000575","OK"]
["ADHR","1210","10000584",null,"ADHR121010000584","OK"]
["ADHR","1210","10000611",null,"ADHR121010000611","OK"]
["ADHR","1210","10000627",null,"ADHR121010000627","OK"]
["ADHR","1210","10000631",null,"ADHR121010000631","OK"]
["ADHR","1210","10000633",null,"ADHR121010000633","OK"]
["ADHR","1210","10000636",null,"ADHR121010000636","OK"]
["ADHR","1210","10000638",null,"ADHR121010000638","OK"]
["ADHR","1210","10000643",null,"ADHR121010000643","OK"]
["ADHR","1210","10000654",null,"ADHR121010000654","OK"]
["ADHR","1210","10000657",null,"ADHR121010000657","OK"]
["ADHR","1210","10000661",null,"ADHR121010000661","OK"]
["ADHR","1210","10000668",null,"ADHR121010000668","OK"]
["ADHR","1210","10000671",null,"ADHR121010000671","OK"]
["ADHR","1210","10000674",null,"ADHR121010000674","OK"]
["ADHR","1210","10000684",null,"ADHR121010000684","OK"]
["ADHR","1210","10000688",null,"ADHR121010000688","OK"]
["ADHR","1210","10000702",null,"ADHR121010000702","OK"]
["ADHR","1210","10000721",null,"ADHR121010000721","OK"]
["ADHR","1210","10000725",null,"ADHR121010000725","OK"]
["ADHR","1210","10000732",null,"ADHR121010000732","OK"]
["ADHR","1210","BUR01000",null,"ADHR1210BUR01000","OK"]
["ADHR","1210","IOR01301",null,"ADHR1210IOR01301","OK"]
["ADHR","1210","LIL01101",null,"ADHR1210LIL01101","OK"]
["ADHR","1210","RAE00022",null,"ADHR1210RAE00022","OK"]
["ADHR","1210","RES01100",null,"ADHR1210RES01100","OK"]
["ADHR","1210","RES02101",null,"ADHR1210RES02101","OK"]
["ADHR","1210","RES02102",null,"ADHR1210RES02102","OK"]
["ADHR","1210","RES02103",null,"ADHR1210RES02103","OK"]
["ADHR","1210","RES02104",null,"ADHR1210RES02104","OK"]
["ADHR","1210","RES02105",null,"ADHR1210RES02105","OK"]
["ADHR","1210","RES03000",null,"ADHR1210RES03000","OK"]
["ADHR","1210","RES03100",null,"ADHR1210RES03100","OK"]
["ADHR","1210","RES03101",null,"ADHR1210RES03101","OK"]
["ADHR","1210","RES03300",null,"ADHR1210RES03300","OK"]
["ADHR","1210","RES03301",null,"ADHR1210RES03301","OK"]
["ADHR","1210","SYS00001",null,"ADHR1210SYS00001","OK"]
["ADHR","1210","TPC01101",null,"ADHR1210TPC01101","OK"]
["ADHR","1210","WPC01101",null,"ADHR1210WPC01101","OK"]
["ADHR","1230","10000522",null,"ADHR123010000522","OK"]
["ADHR","1230","10000532",null,"ADHR123010000532","OK"]
["ADHR","1230","10000558",null,"ADHR123010000558","OK"]
["ADHR","1230","10000564",null,{"$f":"CONCATENATE(A1796,B1796,C1796)","v":"ADHR123010000564"},"OK"]
["ADHR","1230","10000575",null,"ADHR123010000575","OK"]
["ADHR","1230","10000584",null,"ADHR123010000584","OK"]
["ADHR","1230","10000611",null,"ADHR123010000611","OK"]
["ADHR","1230","10000627",null,"ADHR123010000627","OK"]
["ADHR","1230","10000631",null,"ADHR123010000631","OK"]
["ADHR","1230","10000633",null,"ADHR123010000633","OK"]
["ADHR","1230","10000636",null,"ADHR123010000636","OK"]
["ADHR","1230","10000638",null,"ADHR123010000638","OK"]
["ADHR","1230","10000643",null,"ADHR123010000643","OK"]
["ADHR","1230","10000654",null,"ADHR123010000654","OK"]
["ADHR","1230","10000657",null,"ADHR123010000657","OK"]
["ADHR","1230","10000661",null,"ADHR123010000661","OK"]
["ADHR","1230","10000668",null,"ADHR123010000668","OK"]
["ADHR","1230","10000671",null,"ADHR123010000671","OK"]
["ADHR","1230","10000674",null,"ADHR123010000674","OK"]
["ADHR","1230","10000684",null,"ADHR123010000684","OK"]
["ADHR","1230","10000688",null,"ADHR123010000688","OK"]
["ADHR","1230","10000702",null,"ADHR123010000702","OK"]
["ADHR","1230","10000721",null,"ADHR123010000721","OK"]
["ADHR","1230","10000725",null,"ADHR123010000725","OK"]
["ADHR","1230","10000732",null,"ADHR123010000732","OK"]
["ADHR","1230","BUR01000",null,"ADHR1230BUR01000","OK"]
["ADHR","1230","IOR01301",null,"ADHR1230IOR01301","OK"]
["ADHR","1230","LIL01101",null,"ADHR1230LIL01101","OK"]
["ADHR","1230","RAE00022",null,"ADHR1230RAE00022","OK"]
["ADHR","1230","RES01100",null,"ADHR1230RES01100","OK"]
["ADHR","1230","RES02101",null,"ADHR1230RES02101","OK"]
["ADHR","1230","RES02102",null,"ADHR1230RES02102","OK"]
["ADHR","1230","RES02103",null,"ADHR1230RES02103","OK"]
["ADHR","1230","RES02104",null,"ADHR1230RES02104","OK"]
["ADHR","1230","RES02105",null,"ADHR1230RES02105","OK"]
["ADHR","1230","RES03000",null,"ADHR1230RES03000","OK"]
["ADHR","1230","RES03100",null,"ADHR1230RES03100","OK"]
["ADHR","1230","RES03101",null,"ADHR1230RES03101","OK"]
["ADHR","1230","RES03300",null,"ADHR1230RES03300","OK"]
["ADHR","1230","RES03301",null,"ADHR1230RES03301","OK"]
["ADHR","1230","SYS00001",null,"ADHR1230SYS00001","OK"]
["ADHR","1230","TPC01101",null,"ADHR1230TPC01101","OK"]
["ADHR","1230","WPC01101",null,"ADHR1230WPC01101","OK"]
["ADHR","1300","10000522",null,"ADHR130010000522","OK"]
["ADHR","1300","10000532",null,"ADHR130010000532","OK"]
["ADHR","1300","10000558",null,"ADHR130010000558","OK"]
["ADHR","1300","10000564",null,"ADHR130010000564","OK"]
["ADHR","1300","10000575",null,"ADHR130010000575","OK"]
["ADHR","1300","10000584",null,"ADHR130010000584","OK"]
["ADHR","1300","10000611",null,"ADHR130010000611","OK"]
["ADHR","1300","10000627",null,"ADHR130010000627","OK"]
["ADHR","1300","10000631",null,"ADHR130010000631","OK"]
["ADHR","1300","10000633",null,"ADHR130010000633","OK"]
["ADHR","1300","10000636",null,"ADHR130010000636","OK"]
["ADHR","1300","10000638",null,"ADHR130010000638","OK"]
["ADHR","1300","10000643",null,"ADHR130010000643","OK"]
["ADHR","1300","10000654",null,"ADHR130010000654","OK"]
["ADHR","1300","10000657",null,"ADHR130010000657","OK"]
["ADHR","1300","10000661",null,"ADHR130010000661","OK"]
["ADHR","1300","10000668",null,"ADHR130010000668","OK"]
["ADHR","1300","10000671",null,"ADHR130010000671","OK"]
["ADHR","1300","10000674",null,"ADHR130010000674","OK"]
["ADHR","1300","10000684",null,"ADHR130010000684","OK"]
["ADHR","1300","10000688",null,"ADHR130010000688","OK"]
["ADHR","1300","10000702",null,"ADHR130010000702","OK"]
["ADHR","1300","10000721",null,"ADHR130010000721","OK"]
["ADHR","1300","10000725",null,"ADHR130010000725","OK"]
["ADHR","1300","10000732",null,{"$f":"CONCATENATE(A1860,B1860,C1860)","v":"ADHR130010000732"},"OK"]
["ADHR","1300","BUR01000",null,"ADHR1300BUR01000","OK"]
["ADHR","1300","IOR01301",null,"ADHR1300IOR01301","OK"]
["ADHR","1300","LIL01101",null,"ADHR1300LIL01101","OK"]
["ADHR","1300","RAE00022",null,"ADHR1300RAE00022","OK"]
["ADHR","1300","RES01100",null,"ADHR1300RES01100","OK"]
["ADHR","1300","RES02101",null,"ADHR1300RES02101","OK"]
["ADHR","1300","RES02102",null,"ADHR1300RES02102","OK"]
["ADHR","1300","RES02103",null,"ADHR1300RES02103","OK"]
["ADHR","1300","RES02104",null,"ADHR1300RES02104","OK"]
["ADHR","1300","RES02105",null,"ADHR1300RES02105","OK"]
["ADHR","1300","RES03000",null,"ADHR1300RES03000","OK"]
["ADHR","1300","RES03100",null,"ADHR1300RES03100","OK"]
["ADHR","1300","RES03101",null,"ADHR1300RES03101","OK"]
["ADHR","1300","RES03300",null,"ADHR1300RES03300","OK"]
["ADHR","1300","RES03301",null,"ADHR1300RES03301","OK"]
["ADHR","1300","SYS00001",null,"ADHR1300SYS00001","OK"]
["ADHR","1300","TPC01101",null,"ADHR1300TPC01101","OK"]
["ADHR","1300","WPC01101",null,"ADHR1300WPC01101","OK"]
["ADHS","1100","DEP01303",null,"ADHS1100DEP01303","OK"]
["ADHS","1100","DEP01307",null,"ADHS1100DEP01307","OK"]
["ADHS","1100","DEP01311",null,"ADHS1100DEP01311","OK"]
["ADHS","1100","DEP01312",null,"ADHS1100DEP01312","OK"]
["ADHS","1100","DEP01313",null,"ADHS1100DEP01313","OK"]
["ADHS","1100","DEP01314",null,"ADHS1100DEP01314","OK"]
["ADHS","1100","DIS00001",null,"ADHS1100DIS00001","OK"]
["ADHS","1100","GEN00001",null,"ADHS1100GEN00001","OK"]
["ADHS","1100","STU00002",null,"ADHS1100STU00002","OK"]
["ADHS","1110","DEP01303",null,"ADHS1110DEP01303","OK"]
["ADHS","1110","DEP01307",null,"ADHS1110DEP01307","OK"]
["ADHS","1110","DEP01311",null,"ADHS1110DEP01311","OK"]
["ADHS","1110","DEP01312",null,"ADHS1110DEP01312","OK"]
["ADHS","1110","DEP01313",null,"ADHS1110DEP01313","OK"]
["ADHS","1110","DEP01314",null,"ADHS1110DEP01314","OK"]
["ADHS","1110","DIS00001",null,"ADHS1110DIS00001","OK"]
["ADHS","1110","GEN00001",null,"ADHS1110GEN00001","OK"]
["ADHS","1110","STU00002",null,"ADHS1110STU00002","OK"]
["ADHS","1120","DEP01303",null,"ADHS1120DEP01303","OK"]
["ADHS","1120","DEP01307",null,"ADHS1120DEP01307","OK"]
["ADHS","1120","DEP01311",null,"ADHS1120DEP01311","OK"]
["ADHS","1120","DEP01312",null,"ADHS1120DEP01312","OK"]
["ADHS","1120","DEP01313",null,"ADHS1120DEP01313","OK"]
["ADHS","1120","DEP01314",null,"ADHS1120DEP01314","OK"]
["ADHS","1120","DIS00001",null,"ADHS1120DIS00001","OK"]
["ADHS","1120","GEN00001",null,"ADHS1120GEN00001","OK"]
["ADHS","1120","STU00002",null,"ADHS1120STU00002","OK"]
["ADHS","1210","DEP01303",null,"ADHS1210DEP01303","OK"]
["ADHS","1210","DEP01307",null,"ADHS1210DEP01307","OK"]
["ADHS","1210","DEP01311",null,"ADHS1210DEP01311","OK"]
["ADHS","1210","DEP01312",null,"ADHS1210DEP01312","OK"]
["ADHS","1210","DEP01313",null,"ADHS1210DEP01313","OK"]
["ADHS","1210","DEP01314",null,"ADHS1210DEP01314","OK"]
["ADHS","1210","DIS00001",null,"ADHS1210DIS00001","OK"]
["ADHS","1210","GEN00001",null,"ADHS1210GEN00001","OK"]
["ADHS","1210","STU00002",null,"ADHS1210STU00002","OK"]
["ADHS","1300","DEP01303",null,"ADHS1300DEP01303","OK"]
["ADHS","1300","DEP01307",null,"ADHS1300DEP01307","OK"]
["ADHS","1300","DEP01311",null,"ADHS1300DEP01311","OK"]
["ADHS","1300","DEP01312",null,"ADHS1300DEP01312","OK"]
["ADHS","1300","DEP01313",null,"ADHS1300DEP01313","OK"]
["ADHS","1300","DEP01314",null,"ADHS1300DEP01314","OK"]
["ADHS","1300","DIS00001",null,"ADHS1300DIS00001","OK"]
["ADHS","1300","GEN00001",null,"ADHS1300GEN00001","OK"]
["ADHS","1300","STU00002",null,"ADHS1300STU00002","OK"]
["ADHS","1310","DEP01303",null,{"$f":"CONCATENATE(A1924,B1924,C1924)","v":"ADHS1310DEP01303"},"OK"]
["ADHS","1310","DEP01307",null,"ADHS1310DEP01307","OK"]
["ADHS","1310","DEP01311",null,"ADHS1310DEP01311","OK"]
["ADHS","1310","DEP01312",null,"ADHS1310DEP01312","OK"]
["ADHS","1310","DEP01313",null,"ADHS1310DEP01313","OK"]
["ADHS","1310","DEP01314",null,"ADHS1310DEP01314","OK"]
["ADHS","1310","DIS00001",null,"ADHS1310DIS00001","OK"]
["ADHS","1310","GEN00001",null,"ADHS1310GEN00001","OK"]
["ADHS","1310","STU00002",null,"ADHS1310STU00002","OK"]
["ADHS","1320","DEP01303",null,"ADHS1320DEP01303","OK"]
["ADHS","1320","DEP01307",null,"ADHS1320DEP01307","OK"]
["ADHS","1320","DEP01311",null,"ADHS1320DEP01311","OK"]
["ADHS","1320","DEP01312",null,"ADHS1320DEP01312","OK"]
["ADHS","1320","DEP01313",null,"ADHS1320DEP01313","OK"]
["ADHS","1320","DEP01314",null,"ADHS1320DEP01314","OK"]
["ADHS","1320","DIS00001",null,"ADHS1320DIS00001","OK"]
["ADHS","1320","GEN00001",null,"ADHS1320GEN00001","OK"]
["ADHS","1320","STU00002",null,"ADHS1320STU00002","OK"]
["ADHS","1330","DEP01303",null,"ADHS1330DEP01303","OK"]
["ADHS","1330","DEP01307",null,"ADHS1330DEP01307","OK"]
["ADHS","1330","DEP01311",null,"ADHS1330DEP01311","OK"]
["ADHS","1330","DEP01312",null,"ADHS1330DEP01312","OK"]
["ADHS","1330","DEP01313",null,"ADHS1330DEP01313","OK"]
["ADHS","1330","DEP01314",null,"ADHS1330DEP01314","OK"]
["ADHS","1330","DIS00001",null,"ADHS1330DIS00001","OK"]
["ADHS","1330","GEN00001",null,"ADHS1330GEN00001","OK"]
["ADHS","1330","STU00002",null,"ADHS1330STU00002","OK"]
["ADHU","1100","DIS00001",null,"ADHU1100DIS00001","OK"]
["ADHU","1100","GEN00001",null,"ADHU1100GEN00001","OK"]
["ADHU","1100","STU00002",null,"ADHU1100STU00002","OK"]
["ADHU","1110","DIS00001",null,"ADHU1110DIS00001","OK"]
["ADHU","1110","GEN00001",null,"ADHU1110GEN00001","OK"]
["ADHU","1110","STU00002",null,"ADHU1110STU00002","OK"]
["ADHU","1120","DIS00001",null,"ADHU1120DIS00001","OK"]
["ADHU","1120","GEN00001",null,"ADHU1120GEN00001","OK"]
["ADHU","1120","STU00002",null,"ADHU1120STU00002","OK"]
["ADHU","1199","DIS00001",null,"ADHU1199DIS00001","OK"]
["ADHU","1199","GEN00001",null,"ADHU1199GEN00001","OK"]
["ADHU","1199","STU00002",null,"ADHU1199STU00002","OK"]
["ADHU","1210","DIS00001",null,"ADHU1210DIS00001","OK"]
["ADHU","1210","GEN00001",null,"ADHU1210GEN00001","OK"]
["ADHU","1210","STU00002",null,"ADHU1210STU00002","OK"]
["ADHU","1230","DIS00001",null,"ADHU1230DIS00001","OK"]
["ADHU","1230","GEN00001",null,"ADHU1230GEN00001","OK"]
["ADHU","1230","STU00002",null,"ADHU1230STU00002","OK"]
["ADHU","1300","DIS00001",null,"ADHU1300DIS00001","OK"]
["ADHU","1300","GEN00001",null,"ADHU1300GEN00001","OK"]
["ADHU","1300","STU00002",null,"ADHU1300STU00002","OK"]
["ADHU","1310","DIS00001",null,"ADHU1310DIS00001","OK"]
["ADHU","1310","GEN00001",null,"ADHU1310GEN00001","OK"]
["ADHU","1310","STU00002",null,"ADHU1310STU00002","OK"]
["ADHU","1320","DIS00001",null,"ADHU1320DIS00001","OK"]
["ADHU","1320","GEN00001",null,"ADHU1320GEN00001","OK"]
["ADHU","1320","STU00002",null,"ADHU1320STU00002","OK"]
["ADHU","1330","DIS00001",null,"ADHU1330DIS00001","OK"]
["ADHU","1330","GEN00001",null,"ADHU1330GEN00001","OK"]
["ADHU","1330","STU00002",null,"ADHU1330STU00002","OK"]
["ADLL","1100","DIS00001",null,"ADLL1100DIS00001","OK"]
["ADLL","1100","GEN00001",null,"ADLL1100GEN00001","OK"]
["ADLL","1100","STU00002",null,"ADLL1100STU00002","OK"]
["ADLL","1110","DIS00001",null,"ADLL1110DIS00001","OK"]
["ADLL","1110","GEN00001",null,"ADLL1110GEN00001","OK"]
["ADLL","1110","STU00002",null,"ADLL1110STU00002","OK"]
["ADLL","1120","DIS00001",null,"ADLL1120DIS00001","OK"]
["ADLL","1120","GEN00001",null,{"$f":"CONCATENATE(A1988,B1988,C1988)","v":"ADLL1120GEN00001"},"OK"]
["ADLL","1120","STU00002",null,"ADLL1120STU00002","OK"]
["ADLL","1199","DIS00001",null,"ADLL1199DIS00001","OK"]
["ADLL","1199","GEN00001",null,"ADLL1199GEN00001","OK"]
["ADLL","1199","STU00002",null,"ADLL1199STU00002","OK"]
["ADLL","1210","DIS00001",null,"ADLL1210DIS00001","OK"]
["ADLL","1210","GEN00001",null,"ADLL1210GEN00001","OK"]
["ADLL","1210","STU00002",null,"ADLL1210STU00002","OK"]
["ADLL","1230","DIS00001",null,"ADLL1230DIS00001","OK"]
["ADLL","1230","GEN00001",null,"ADLL1230GEN00001","OK"]
["ADLL","1230","STU00002",null,"ADLL1230STU00002","OK"]
["ADLL","1300","DIS00001",null,"ADLL1300DIS00001","OK"]
["ADLL","1300","GEN00001",null,"ADLL1300GEN00001","OK"]
["ADLL","1300","STU00002",null,"ADLL1300STU00002","OK"]
["ADLL","1310","DIS00001",null,"ADLL1310DIS00001","OK"]
["ADLL","1310","GEN00001",null,"ADLL1310GEN00001","OK"]
["ADLL","1310","STU00002",null,"ADLL1310STU00002","OK"]
["ADLL","1320","DIS00001",null,"ADLL1320DIS00001","OK"]
["ADLL","1320","GEN00001",null,"ADLL1320GEN00001","OK"]
["ADLL","1320","STU00002",null,"ADLL1320STU00002","OK"]
["ADLL","1330","DIS00001",null,"ADLL1330DIS00001","OK"]
["ADLL","1330","GEN00001",null,"ADLL1330GEN00001","OK"]
["ADLL","1330","STU00002",null,"ADLL1330STU00002","OK"]
["ADMC","1100","DEP01306",null,"ADMC1100DEP01306","OK"]
["ADMC","1100","DEP01310",null,"ADMC1100DEP01310","OK"]
["ADMC","1100","DIS00001",null,"ADMC1100DIS00001","OK"]
["ADMC","1100","GEN00001",null,"ADMC1100GEN00001","OK"]
["ADMC","1100","STU00002",null,"ADMC1100STU00002","OK"]
["ADMC","1110","DEP01306",null,"ADMC1110DEP01306","OK"]
["ADMC","1110","DEP01310",null,"ADMC1110DEP01310","OK"]
["ADMC","1110","DIS00001",null,"ADMC1110DIS00001","OK"]
["ADMC","1110","GEN00001",null,"ADMC1110GEN00001","OK"]
["ADMC","1110","STU00002",null,"ADMC1110STU00002","OK"]
["ADMC","1120","DEP01306",null,"ADMC1120DEP01306","OK"]
["ADMC","1120","DEP01310",null,"ADMC1120DEP01310","OK"]
["ADMC","1120","DIS00001",null,"ADMC1120DIS00001","OK"]
["ADMC","1120","GEN00001",null,"ADMC1120GEN00001","OK"]
["ADMC","1120","STU00002",null,"ADMC1120STU00002","OK"]
["ADMC","1310","DEP01306",null,"ADMC1310DEP01306","OK"]
["ADMC","1310","DEP01310",null,"ADMC1310DEP01310","OK"]
["ADMC","1310","DIS00001",null,"ADMC1310DIS00001","OK"]
["ADMC","1310","GEN00001",null,"ADMC1310GEN00001","OK"]
["ADMC","1310","STU00002",null,"ADMC1310STU00002","OK"]
["ADMC","1320","DEP01306",null,"ADMC1320DEP01306","OK"]
["ADMC","1320","DEP01310",null,"ADMC1320DEP01310","OK"]
["ADMC","1320","DIS00001",null,"ADMC1320DIS00001","OK"]
["ADMC","1320","GEN00001",null,"ADMC1320GEN00001","OK"]
["ADMC","1320","STU00002",null,"ADMC1320STU00002","OK"]
["ADMC","1330","DEP01306",null,"ADMC1330DEP01306","OK"]
["ADMC","1330","DEP01310",null,"ADMC1330DEP01310","OK"]
["ADMC","1330","DIS00001",null,"ADMC1330DIS00001","OK"]
["ADMC","1330","GEN00001",null,"ADMC1330GEN00001","OK"]
["ADMC","1330","STU00002",null,"ADMC1330STU00002","OK"]
["ADMC","1210","DEP01306",null,"ADMC1210DEP01306","OK"]
["ADMC","1210","DEP01310",null,"ADMC1210DEP01310","OK"]
["ADMC","1210","DIS00001",null,"ADMC1210DIS00001","OK"]
["ADMC","1210","GEN00001",null,"ADMC1210GEN00001","OK"]
["ADMC","1210","STU00002",null,"ADMC1210STU00002","OK"]
["ADMC","1300","DEP01306",null,"ADMC1300DEP01306","OK"]
["ADMC","1300","DEP01310",null,"ADMC1300DEP01310","OK"]
["ADMC","1300","DIS00001",null,"ADMC1300DIS00001","OK"]
["ADMC","1300","GEN00001",null,"ADMC1300GEN00001","OK"]
["ADMC","1300","STU00002",null,"ADMC1300STU00002","OK"]
["ADNH","1100","GEN00001",null,"ADNH1100GEN00001","OK"]
["ADNH","1110","GEN00001",null,{"$f":"CONCATENATE(A2052,B2052,C2052)","v":"ADNH1110GEN00001"},"OK"]
["ADNH","1310","GEN00001",null,"ADNH1310GEN00001","OK"]
["ADNH","1320","GEN00001",null,"ADNH1320GEN00001","OK"]
["ADNH","1230","GEN00001",null,"ADNH1230GEN00001","OK"]
["ADNH","1300","GEN00001",null,"ADNH1300GEN00001","OK"]
["ADNH","1120","GEN00001",null,"ADNH1120GEN00001","OK"]
["ADNH","1210","GEN00001",null,"ADNH1210GEN00001","OK"]
["ADPA","1100","GEN00001",null,"ADPA1100GEN00001","OK"]
["ADPA","1110","GEN00001",null,"ADPA1110GEN00001","OK"]
["ADPA","1120","GEN00001",null,"ADPA1120GEN00001","OK"]
["ADPA","1210","GEN00001",null,"ADPA1210GEN00001","OK"]
["ADPA","1230","GEN00001",null,"ADPA1230GEN00001","OK"]
["ADPA","1300","GEN00001",null,"ADPA1300GEN00001","OK"]
["ADPA","1310","GEN00001",null,"ADPA1310GEN00001","OK"]
["ADPA","1320","GEN00001",null,"ADPA1320GEN00001","OK"]
["ADPS","1100","GEN00001",null,"ADPS1100GEN00001","OK"]
["ADPS","1110","GEN00001",null,"ADPS1110GEN00001","OK"]
["ADPS","1120","GEN00001",null,"ADPS1120GEN00001","OK"]
["ADPS","1199","GEN00001",null,"ADPS1199GEN00001","OK"]
["ADPS","1210","GEN00001",null,"ADPS1210GEN00001","OK"]
["ADPS","1230","GEN00001",null,"ADPS1230GEN00001","OK"]
["ADPS","1300","GEN00001",null,"ADPS1300GEN00001","OK"]
["ADPS","1310","GEN00001",null,"ADPS1310GEN00001","OK"]
["ADPS","1320","GEN00001",null,"ADPS1320GEN00001","OK"]
["ADPS","1330","GEN00001",null,"ADPS1330GEN00001","OK"]
["ADRA","1100","DIS00001",null,"ADRA1100DIS00001","OK"]
["ADRA","1100","GCR00001",null,"ADRA1100GCR00001","OK"]
["ADRA","1100","GCR00002",null,"ADRA1100GCR00002","OK"]
["ADRA","1100","GCR00003",null,"ADRA1100GCR00003","OK"]
["ADRA","1100","GCR00004",null,"ADRA1100GCR00004","OK"]
["ADRA","1100","GCR00005",null,"ADRA1100GCR00005","OK"]
["ADRA","1100","RAE00004",null,"ADRA1100RAE00004","OK"]
["ADRA","1100","RAE00023",null,"ADRA1100RAE00023","OK"]
["ADRA","1100","RAE00024",null,"ADRA1100RAE00024","OK"]
["ADRA","1100","RAE00025",null,"ADRA1100RAE00025","OK"]
["ADRA","1100","RAE00035",null,"ADRA1100RAE00035","OK"]
["ADRA","1100","RAE00036",null,"ADRA1100RAE00036","OK"]
["ADRA","1100","RAE00037",null,"ADRA1100RAE00037","OK"]
["ADRA","1100","RAE00039",null,"ADRA1100RAE00039","OK"]
["ADRA","1100","REF01100",null,"ADRA1100REF01100","OK"]
["ADRA","1100","REF01200",null,"ADRA1100REF01200","OK"]
["ADRA","1100","REF01300",null,"ADRA1100REF01300","OK"]
["ADRA","1100","REF01400",null,"ADRA1100REF01400","OK"]
["ADRA","1100","REF01500",null,"ADRA1100REF01500","OK"]
["ADRA","1100","REF01600",null,"ADRA1100REF01600","OK"]
["ADRA","1100","REF03100",null,"ADRA1100REF03100","OK"]
["ADRA","1100","REF03200",null,"ADRA1100REF03200","OK"]
["ADRA","1100","REF03300",null,"ADRA1100REF03300","OK"]
["ADRA","1100","REF03400",null,"ADRA1100REF03400","OK"]
["ADRA","1100","REF05000",null,"ADRA1100REF05000","OK"]
["ADRA","1100","REF06000",null,"ADRA1100REF06000","OK"]
["ADRA","1100","RES00002",null,"ADRA1100RES00002","OK"]
["ADRA","1100","RES00005",null,"ADRA1100RES00005","OK"]
["ADRA","1100","RES00012",null,"ADRA1100RES00012","OK"]
["ADRA","1100","RES03000",null,"ADRA1100RES03000","OK"]
["ADRA","1100","RIT00014",null,"ADRA1100RIT00014","OK"]
["ADRA","1100","VCS00001",null,"ADRA1100VCS00001","OK"]
["ADRA","1110","DIS00001",null,"ADRA1110DIS00001","OK"]
["ADRA","1110","GCR00001",null,"ADRA1110GCR00001","OK"]
["ADRA","1110","GCR00002",null,"ADRA1110GCR00002","OK"]
["ADRA","1110","GCR00003",null,"ADRA1110GCR00003","OK"]
["ADRA","1110","GCR00004",null,"ADRA1110GCR00004","OK"]
["ADRA","1110","GCR00005",null,"ADRA1110GCR00005","OK"]
["ADRA","1110","RAE00004",null,"ADRA1110RAE00004","OK"]
["ADRA","1110","RAE00023",null,{"$f":"CONCATENATE(A2116,B2116,C2116)","v":"ADRA1110RAE00023"},"OK"]
["ADRA","1110","RAE00024",null,"ADRA1110RAE00024","OK"]
["ADRA","1110","RAE00025",null,"ADRA1110RAE00025","OK"]
["ADRA","1110","RAE00035",null,"ADRA1110RAE00035","OK"]
["ADRA","1110","RAE00036",null,"ADRA1110RAE00036","OK"]
["ADRA","1110","RAE00037",null,"ADRA1110RAE00037","OK"]
["ADRA","1110","RAE00039",null,"ADRA1110RAE00039","OK"]
["ADRA","1110","REF01100",null,"ADRA1110REF01100","OK"]
["ADRA","1110","REF01200",null,"ADRA1110REF01200","OK"]
["ADRA","1110","REF01300",null,"ADRA1110REF01300","OK"]
["ADRA","1110","REF01400",null,"ADRA1110REF01400","OK"]
["ADRA","1110","REF01500",null,"ADRA1110REF01500","OK"]
["ADRA","1110","REF01600",null,"ADRA1110REF01600","OK"]
["ADRA","1110","REF03100",null,"ADRA1110REF03100","OK"]
["ADRA","1110","REF03200",null,"ADRA1110REF03200","OK"]
["ADRA","1110","REF03300",null,"ADRA1110REF03300","OK"]
["ADRA","1110","REF03400",null,"ADRA1110REF03400","OK"]
["ADRA","1110","REF05000",null,"ADRA1110REF05000","OK"]
["ADRA","1110","REF06000",null,"ADRA1110REF06000","OK"]
["ADRA","1110","RES00002",null,"ADRA1110RES00002","OK"]
["ADRA","1110","RES00005",null,"ADRA1110RES00005","OK"]
["ADRA","1110","RES00012",null,"ADRA1110RES00012","OK"]
["ADRA","1110","RES03000",null,"ADRA1110RES03000","OK"]
["ADRA","1110","RIT00014",null,"ADRA1110RIT00014","OK"]
["ADRA","1110","VCS00001",null,"ADRA1110VCS00001","OK"]
["ADRA","1120","DIS00001",null,"ADRA1120DIS00001","OK"]
["ADRA","1120","GCR00001",null,"ADRA1120GCR00001","OK"]
["ADRA","1120","GCR00002",null,"ADRA1120GCR00002","OK"]
["ADRA","1120","GCR00003",null,"ADRA1120GCR00003","OK"]
["ADRA","1120","GCR00004",null,"ADRA1120GCR00004","OK"]
["ADRA","1120","GCR00005",null,"ADRA1120GCR00005","OK"]
["ADRA","1120","RAE00004",null,"ADRA1120RAE00004","OK"]
["ADRA","1120","RAE00023",null,"ADRA1120RAE00023","OK"]
["ADRA","1120","RAE00024",null,"ADRA1120RAE00024","OK"]
["ADRA","1120","RAE00025",null,"ADRA1120RAE00025","OK"]
["ADRA","1120","RAE00035",null,"ADRA1120RAE00035","OK"]
["ADRA","1120","RAE00036",null,"ADRA1120RAE00036","OK"]
["ADRA","1120","RAE00037",null,"ADRA1120RAE00037","OK"]
["ADRA","1120","RAE00039",null,"ADRA1120RAE00039","OK"]
["ADRA","1120","REF01100",null,"ADRA1120REF01100","OK"]
["ADRA","1120","REF01200",null,"ADRA1120REF01200","OK"]
["ADRA","1120","REF01300",null,"ADRA1120REF01300","OK"]
["ADRA","1120","REF01400",null,"ADRA1120REF01400","OK"]
["ADRA","1120","REF01500",null,"ADRA1120REF01500","OK"]
["ADRA","1120","REF01600",null,"ADRA1120REF01600","OK"]
["ADRA","1120","REF03100",null,"ADRA1120REF03100","OK"]
["ADRA","1120","REF03200",null,"ADRA1120REF03200","OK"]
["ADRA","1120","REF03300",null,"ADRA1120REF03300","OK"]
["ADRA","1120","REF03400",null,"ADRA1120REF03400","OK"]
["ADRA","1120","REF05000",null,"ADRA1120REF05000","OK"]
["ADRA","1120","REF06000",null,"ADRA1120REF06000","OK"]
["ADRA","1120","RES00002",null,"ADRA1120RES00002","OK"]
["ADRA","1120","RES00005",null,"ADRA1120RES00005","OK"]
["ADRA","1120","RES00012",null,"ADRA1120RES00012","OK"]
["ADRA","1120","RES03000",null,"ADRA1120RES03000","OK"]
["ADRA","1120","RIT00014",null,"ADRA1120RIT00014","OK"]
["ADRA","1120","VCS00001",null,"ADRA1120VCS00001","OK"]
["ADRA","1210","DIS00001",null,"ADRA1210DIS00001","OK"]
["ADRA","1210","GCR00001",null,"ADRA1210GCR00001","OK"]
["ADRA","1210","GCR00002",null,"ADRA1210GCR00002","OK"]
["ADRA","1210","GCR00003",null,"ADRA1210GCR00003","OK"]
["ADRA","1210","GCR00004",null,"ADRA1210GCR00004","OK"]
["ADRA","1210","GCR00005",null,"ADRA1210GCR00005","OK"]
["ADRA","1210","RAE00004",null,"ADRA1210RAE00004","OK"]
["ADRA","1210","RAE00023",null,{"$f":"CONCATENATE(A2180,B2180,C2180)","v":"ADRA1210RAE00023"},"OK"]
["ADRA","1210","RAE00024",null,"ADRA1210RAE00024","OK"]
["ADRA","1210","RAE00025",null,"ADRA1210RAE00025","OK"]
["ADRA","1210","RAE00035",null,"ADRA1210RAE00035","OK"]
["ADRA","1210","RAE00036",null,"ADRA1210RAE00036","OK"]
["ADRA","1210","RAE00037",null,"ADRA1210RAE00037","OK"]
["ADRA","1210","RAE00039",null,"ADRA1210RAE00039","OK"]
["ADRA","1210","REF01100",null,"ADRA1210REF01100","OK"]
["ADRA","1210","REF01200",null,"ADRA1210REF01200","OK"]
["ADRA","1210","REF01300",null,"ADRA1210REF01300","OK"]
["ADRA","1210","REF01400",null,"ADRA1210REF01400","OK"]
["ADRA","1210","REF01500",null,"ADRA1210REF01500","OK"]
["ADRA","1210","REF01600",null,"ADRA1210REF01600","OK"]
["ADRA","1210","REF03100",null,"ADRA1210REF03100","OK"]
["ADRA","1210","REF03200",null,"ADRA1210REF03200","OK"]
["ADRA","1210","REF03300",null,"ADRA1210REF03300","OK"]
["ADRA","1210","REF03400",null,"ADRA1210REF03400","OK"]
["ADRA","1210","REF05000",null,"ADRA1210REF05000","OK"]
["ADRA","1210","REF06000",null,"ADRA1210REF06000","OK"]
["ADRA","1210","RES00002",null,"ADRA1210RES00002","OK"]
["ADRA","1210","RES00005",null,"ADRA1210RES00005","OK"]
["ADRA","1210","RES00012",null,"ADRA1210RES00012","OK"]
["ADRA","1210","RES03000",null,"ADRA1210RES03000","OK"]
["ADRA","1210","RIT00014",null,"ADRA1210RIT00014","OK"]
["ADRA","1210","VCS00001",null,"ADRA1210VCS00001","OK"]
["ADRA","1230","DIS00001",null,"ADRA1230DIS00001","OK"]
["ADRA","1230","GCR00001",null,"ADRA1230GCR00001","OK"]
["ADRA","1230","GCR00002",null,"ADRA1230GCR00002","OK"]
["ADRA","1230","GCR00003",null,"ADRA1230GCR00003","OK"]
["ADRA","1230","GCR00004",null,"ADRA1230GCR00004","OK"]
["ADRA","1230","GCR00005",null,"ADRA1230GCR00005","OK"]
["ADRA","1230","RAE00004",null,"ADRA1230RAE00004","OK"]
["ADRA","1230","RAE00023",null,"ADRA1230RAE00023","OK"]
["ADRA","1230","RAE00024",null,"ADRA1230RAE00024","OK"]
["ADRA","1230","RAE00025",null,"ADRA1230RAE00025","OK"]
["ADRA","1230","RAE00035",null,"ADRA1230RAE00035","OK"]
["ADRA","1230","RAE00036",null,"ADRA1230RAE00036","OK"]
["ADRA","1230","RAE00037",null,"ADRA1230RAE00037","OK"]
["ADRA","1230","RAE00039",null,"ADRA1230RAE00039","OK"]
["ADRA","1230","REF01100",null,"ADRA1230REF01100","OK"]
["ADRA","1230","REF01200",null,"ADRA1230REF01200","OK"]
["ADRA","1230","REF01300",null,"ADRA1230REF01300","OK"]
["ADRA","1230","REF01400",null,"ADRA1230REF01400","OK"]
["ADRA","1230","REF01500",null,"ADRA1230REF01500","OK"]
["ADRA","1230","REF01600",null,"ADRA1230REF01600","OK"]
["ADRA","1230","REF03100",null,"ADRA1230REF03100","OK"]
["ADRA","1230","REF03200",null,"ADRA1230REF03200","OK"]
["ADRA","1230","REF03300",null,"ADRA1230REF03300","OK"]
["ADRA","1230","REF03400",null,"ADRA1230REF03400","OK"]
["ADRA","1230","REF05000",null,"ADRA1230REF05000","OK"]
["ADRA","1230","REF06000",null,"ADRA1230REF06000","OK"]
["ADRA","1230","RES00002",null,"ADRA1230RES00002","OK"]
["ADRA","1230","RES00005",null,"ADRA1230RES00005","OK"]
["ADRA","1230","RES00012",null,"ADRA1230RES00012","OK"]
["ADRA","1230","RES03000",null,"ADRA1230RES03000","OK"]
["ADRA","1230","RIT00014",null,"ADRA1230RIT00014","OK"]
["ADRA","1230","VCS00001",null,"ADRA1230VCS00001","OK"]
["ADRA","1330","DIS00001",null,"ADRA1330DIS00001","OK"]
["ADRA","1330","GCR00001",null,"ADRA1330GCR00001","OK"]
["ADRA","1330","GCR00002",null,"ADRA1330GCR00002","OK"]
["ADRA","1330","GCR00003",null,"ADRA1330GCR00003","OK"]
["ADRA","1330","GCR00004",null,"ADRA1330GCR00004","OK"]
["ADRA","1330","GCR00005",null,"ADRA1330GCR00005","OK"]
["ADRA","1330","RAE00004",null,"ADRA1330RAE00004","OK"]
["ADRA","1330","RAE00023",null,{"$f":"CONCATENATE(A2244,B2244,C2244)","v":"ADRA1330RAE00023"},"OK"]
["ADRA","1330","RAE00024",null,"ADRA1330RAE00024","OK"]
["ADRA","1330","RAE00025",null,"ADRA1330RAE00025","OK"]
["ADRA","1330","RAE00035",null,"ADRA1330RAE00035","OK"]
["ADRA","1330","RAE00036",null,"ADRA1330RAE00036","OK"]
["ADRA","1330","RAE00037",null,"ADRA1330RAE00037","OK"]
["ADRA","1330","RAE00039",null,"ADRA1330RAE00039","OK"]
["ADRA","1330","REF01100",null,"ADRA1330REF01100","OK"]
["ADRA","1330","REF01200",null,"ADRA1330REF01200","OK"]
["ADRA","1330","REF01300",null,"ADRA1330REF01300","OK"]
["ADRA","1330","REF01400",null,"ADRA1330REF01400","OK"]
["ADRA","1330","REF01500",null,"ADRA1330REF01500","OK"]
["ADRA","1330","REF01600",null,"ADRA1330REF01600","OK"]
["ADRA","1330","REF03100",null,"ADRA1330REF03100","OK"]
["ADRA","1330","REF03200",null,"ADRA1330REF03200","OK"]
["ADRA","1330","REF03300",null,"ADRA1330REF03300","OK"]
["ADRA","1330","REF03400",null,"ADRA1330REF03400","OK"]
["ADRA","1330","REF05000",null,"ADRA1330REF05000","OK"]
["ADRA","1330","REF06000",null,"ADRA1330REF06000","OK"]
["ADRA","1330","RES00002",null,"ADRA1330RES00002","OK"]
["ADRA","1330","RES00005",null,"ADRA1330RES00005","OK"]
["ADRA","1330","RES00012",null,"ADRA1330RES00012","OK"]
["ADRA","1330","RES03000",null,"ADRA1330RES03000","OK"]
["ADRA","1330","RIT00014",null,"ADRA1330RIT00014","OK"]
["ADRA","1330","VCS00001",null,"ADRA1330VCS00001","OK"]
["ADRA","1300","DIS00001",null,"ADRA1300DIS00001","OK"]
["ADRA","1300","GCR00001",null,"ADRA1300GCR00001","OK"]
["ADRA","1300","GCR00002",null,"ADRA1300GCR00002","OK"]
["ADRA","1300","GCR00003",null,"ADRA1300GCR00003","OK"]
["ADRA","1300","GCR00004",null,"ADRA1300GCR00004","OK"]
["ADRA","1300","GCR00005",null,"ADRA1300GCR00005","OK"]
["ADRA","1300","RAE00004",null,"ADRA1300RAE00004","OK"]
["ADRA","1300","RAE00023",null,"ADRA1300RAE00023","OK"]
["ADRA","1300","RAE00024",null,"ADRA1300RAE00024","OK"]
["ADRA","1300","RAE00025",null,"ADRA1300RAE00025","OK"]
["ADRA","1300","RAE00035",null,"ADRA1300RAE00035","OK"]
["ADRA","1300","RAE00036",null,"ADRA1300RAE00036","OK"]
["ADRA","1300","RAE00037",null,"ADRA1300RAE00037","OK"]
["ADRA","1300","RAE00039",null,"ADRA1300RAE00039","OK"]
["ADRA","1300","REF01100",null,"ADRA1300REF01100","OK"]
["ADRA","1300","REF01200",null,"ADRA1300REF01200","OK"]
["ADRA","1300","REF01300",null,"ADRA1300REF01300","OK"]
["ADRA","1300","REF01400",null,"ADRA1300REF01400","OK"]
["ADRA","1300","REF01500",null,"ADRA1300REF01500","OK"]
["ADRA","1300","REF01600",null,"ADRA1300REF01600","OK"]
["ADRA","1300","REF03100",null,"ADRA1300REF03100","OK"]
["ADRA","1300","REF03200",null,"ADRA1300REF03200","OK"]
["ADRA","1300","REF03300",null,"ADRA1300REF03300","OK"]
["ADRA","1300","REF03400",null,"ADRA1300REF03400","OK"]
["ADRA","1300","REF05000",null,"ADRA1300REF05000","OK"]
["ADRA","1300","REF06000",null,"ADRA1300REF06000","OK"]
["ADRA","1300","RES00002",null,"ADRA1300RES00002","OK"]
["ADRA","1300","RES00005",null,"ADRA1300RES00005","OK"]
["ADRA","1300","RES00012",null,"ADRA1300RES00012","OK"]
["ADRA","1300","RES03000",null,"ADRA1300RES03000","OK"]
["ADRA","1300","RIT00014",null,"ADRA1300RIT00014","OK"]
["ADRA","1300","VCS00001",null,"ADRA1300VCS00001","OK"]
["ADRA","1310","DIS00001",null,"ADRA1310DIS00001","OK"]
["ADRA","1310","GCR00001",null,"ADRA1310GCR00001","OK"]
["ADRA","1310","GCR00002",null,"ADRA1310GCR00002","OK"]
["ADRA","1310","GCR00003",null,"ADRA1310GCR00003","OK"]
["ADRA","1310","GCR00004",null,"ADRA1310GCR00004","OK"]
["ADRA","1310","GCR00005",null,"ADRA1310GCR00005","OK"]
["ADRA","1310","RAE00004",null,"ADRA1310RAE00004","OK"]
["ADRA","1310","RAE00023",null,{"$f":"CONCATENATE(A2308,B2308,C2308)","v":"ADRA1310RAE00023"},"OK"]
["ADRA","1310","RAE00024",null,"ADRA1310RAE00024","OK"]
["ADRA","1310","RAE00025",null,"ADRA1310RAE00025","OK"]
["ADRA","1310","RAE00035",null,"ADRA1310RAE00035","OK"]
["ADRA","1310","RAE00036",null,"ADRA1310RAE00036","OK"]
["ADRA","1310","RAE00037",null,"ADRA1310RAE00037","OK"]
["ADRA","1310","RAE00039",null,"ADRA1310RAE00039","OK"]
["ADRA","1310","REF01100",null,"ADRA1310REF01100","OK"]
["ADRA","1310","REF01200",null,"ADRA1310REF01200","OK"]
["ADRA","1310","REF01300",null,"ADRA1310REF01300","OK"]
["ADRA","1310","REF01400",null,"ADRA1310REF01400","OK"]
["ADRA","1310","REF01500",null,"ADRA1310REF01500","OK"]
["ADRA","1310","REF01600",null,"ADRA1310REF01600","OK"]
["ADRA","1310","REF03100",null,"ADRA1310REF03100","OK"]
["ADRA","1310","REF03200",null,"ADRA1310REF03200","OK"]
["ADRA","1310","REF03300",null,"ADRA1310REF03300","OK"]
["ADRA","1310","REF03400",null,"ADRA1310REF03400","OK"]
["ADRA","1310","REF05000",null,"ADRA1310REF05000","OK"]
["ADRA","1310","REF06000",null,"ADRA1310REF06000","OK"]
["ADRA","1310","RES00002",null,"ADRA1310RES00002","OK"]
["ADRA","1310","RES00005",null,"ADRA1310RES00005","OK"]
["ADRA","1310","RES00012",null,"ADRA1310RES00012","OK"]
["ADRA","1310","RES03000",null,"ADRA1310RES03000","OK"]
["ADRA","1310","RIT00014",null,"ADRA1310RIT00014","OK"]
["ADRA","1310","VCS00001",null,"ADRA1310VCS00001","OK"]
["ADRA","1320","DIS00001",null,"ADRA1320DIS00001","OK"]
["ADRA","1320","GCR00001",null,"ADRA1320GCR00001","OK"]
["ADRA","1320","GCR00002",null,"ADRA1320GCR00002","OK"]
["ADRA","1320","GCR00003",null,"ADRA1320GCR00003","OK"]
["ADRA","1320","GCR00004",null,"ADRA1320GCR00004","OK"]
["ADRA","1320","GCR00005",null,"ADRA1320GCR00005","OK"]
["ADRA","1320","RAE00004",null,"ADRA1320RAE00004","OK"]
["ADRA","1320","RAE00023",null,"ADRA1320RAE00023","OK"]
["ADRA","1320","RAE00024",null,"ADRA1320RAE00024","OK"]
["ADRA","1320","RAE00025",null,"ADRA1320RAE00025","OK"]
["ADRA","1320","RAE00035",null,"ADRA1320RAE00035","OK"]
["ADRA","1320","RAE00036",null,"ADRA1320RAE00036","OK"]
["ADRA","1320","RAE00037",null,"ADRA1320RAE00037","OK"]
["ADRA","1320","RAE00039",null,"ADRA1320RAE00039","OK"]
["ADRA","1320","REF01100",null,"ADRA1320REF01100","OK"]
["ADRA","1320","REF01200",null,"ADRA1320REF01200","OK"]
["ADRA","1320","REF01300",null,"ADRA1320REF01300","OK"]
["ADRA","1320","REF01400",null,"ADRA1320REF01400","OK"]
["ADRA","1320","REF01500",null,"ADRA1320REF01500","OK"]
["ADRA","1320","REF01600",null,"ADRA1320REF01600","OK"]
["ADRA","1320","REF03100",null,"ADRA1320REF03100","OK"]
["ADRA","1320","REF03200",null,"ADRA1320REF03200","OK"]
["ADRA","1320","REF03300",null,"ADRA1320REF03300","OK"]
["ADRA","1320","REF03400",null,"ADRA1320REF03400","OK"]
["ADRA","1320","REF05000",null,"ADRA1320REF05000","OK"]
["ADRA","1320","REF06000",null,"ADRA1320REF06000","OK"]
["ADRA","1320","RES00002",null,"ADRA1320RES00002","OK"]
["ADRA","1320","RES00005",null,"ADRA1320RES00005","OK"]
["ADRA","1320","RES00012",null,"ADRA1320RES00012","OK"]
["ADRA","1320","RES03000",null,"ADRA1320RES03000","OK"]
["ADRA","1320","RIT00014",null,"ADRA1320RIT00014","OK"]
["ADRA","1320","VCS00001",null,"ADRA1320VCS00001","OK"]
["ADSB","1100","10000615",null,"ADSB110010000615","OK"]
["ADSB","1100","CUR00001",null,"ADSB1100CUR00001","OK"]
["ADSB","1100","ENG00001",null,"ADSB1100ENG00001","OK"]
["ADSB","1100","GEN00001",null,"ADSB1100GEN00001","OK"]
["ADSB","1100","ITT00001",null,"ADSB1100ITT00001","OK"]
["ADSB","1100","ITT00002",null,"ADSB1100ITT00002","OK"]
["ADSB","1100","OFS01000",null,"ADSB1100OFS01000","OK"]
["ADSB","1100","SDI01301",null,{"$f":"CONCATENATE(A2372,B2372,C2372)","v":"ADSB1100SDI01301"},"OK"]
["ADSB","1100","TDA00010",null,"ADSB1100TDA00010","OK"]
["ADSB","1110","10000615",null,"ADSB111010000615","OK"]
["ADSB","1110","CUR00001",null,"ADSB1110CUR00001","OK"]
["ADSB","1110","ENG00001",null,"ADSB1110ENG00001","OK"]
["ADSB","1110","GEN00001",null,"ADSB1110GEN00001","OK"]
["ADSB","1110","ITT00001",null,"ADSB1110ITT00001","OK"]
["ADSB","1110","ITT00002",null,"ADSB1110ITT00002","OK"]
["ADSB","1110","OFS01000",null,"ADSB1110OFS01000","OK"]
["ADSB","1110","SDI01301",null,"ADSB1110SDI01301","OK"]
["ADSB","1110","TDA00010",null,"ADSB1110TDA00010","OK"]
["ADSB","1120","10000615",null,"ADSB112010000615","OK"]
["ADSB","1120","CUR00001",null,"ADSB1120CUR00001","OK"]
["ADSB","1120","ENG00001",null,"ADSB1120ENG00001","OK"]
["ADSB","1120","GEN00001",null,"ADSB1120GEN00001","OK"]
["ADSB","1120","ITT00001",null,"ADSB1120ITT00001","OK"]
["ADSB","1120","ITT00002",null,"ADSB1120ITT00002","OK"]
["ADSB","1120","OFS01000",null,"ADSB1120OFS01000","OK"]
["ADSB","1120","SDI01301",null,"ADSB1120SDI01301","OK"]
["ADSB","1120","TDA00010",null,"ADSB1120TDA00010","OK"]
["ADSB","1199","10000615",null,"ADSB119910000615","OK"]
["ADSB","1199","CUR00001",null,"ADSB1199CUR00001","OK"]
["ADSB","1199","ENG00001",null,"ADSB1199ENG00001","OK"]
["ADSB","1199","GEN00001",null,"ADSB1199GEN00001","OK"]
["ADSB","1199","ITT00001",null,"ADSB1199ITT00001","OK"]
["ADSB","1199","ITT00002",null,"ADSB1199ITT00002","OK"]
["ADSB","1199","OFS01000",null,"ADSB1199OFS01000","OK"]
["ADSB","1199","SDI01301",null,"ADSB1199SDI01301","OK"]
["ADSB","1199","TDA00010",null,"ADSB1199TDA00010","OK"]
["ADSB","1320","10000615",null,"ADSB132010000615","OK"]
["ADSB","1320","CUR00001",null,"ADSB1320CUR00001","OK"]
["ADSB","1320","ENG00001",null,"ADSB1320ENG00001","OK"]
["ADSB","1320","GEN00001",null,"ADSB1320GEN00001","OK"]
["ADSB","1320","ITT00001",null,"ADSB1320ITT00001","OK"]
["ADSB","1320","ITT00002",null,"ADSB1320ITT00002","OK"]
["ADSB","1320","OFS01000",null,"ADSB1320OFS01000","OK"]
["ADSB","1320","SDI01301",null,"ADSB1320SDI01301","OK"]
["ADSB","1320","TDA00010",null,"ADSB1320TDA00010","OK"]
["ADSB","1330","10000615",null,"ADSB133010000615","OK"]
["ADSB","1330","CUR00001",null,"ADSB1330CUR00001","OK"]
["ADSB","1330","ENG00001",null,"ADSB1330ENG00001","OK"]
["ADSB","1330","GEN00001",null,"ADSB1330GEN00001","OK"]
["ADSB","1330","ITT00001",null,"ADSB1330ITT00001","OK"]
["ADSB","1330","ITT00002",null,"ADSB1330ITT00002","OK"]
["ADSB","1330","OFS01000",null,"ADSB1330OFS01000","OK"]
["ADSB","1330","SDI01301",null,"ADSB1330SDI01301","OK"]
["ADSB","1330","TDA00010",null,"ADSB1330TDA00010","OK"]
["ADSB","1300","10000615",null,"ADSB130010000615","OK"]
["ADSB","1300","CUR00001",null,"ADSB1300CUR00001","OK"]
["ADSB","1300","ENG00001",null,"ADSB1300ENG00001","OK"]
["ADSB","1300","GEN00001",null,"ADSB1300GEN00001","OK"]
["ADSB","1300","ITT00001",null,"ADSB1300ITT00001","OK"]
["ADSB","1300","ITT00002",null,"ADSB1300ITT00002","OK"]
["ADSB","1300","OFS01000",null,"ADSB1300OFS01000","OK"]
["ADSB","1300","SDI01301",null,"ADSB1300SDI01301","OK"]
["ADSB","1300","TDA00010",null,"ADSB1300TDA00010","OK"]
["ADSB","1310","10000615",null,"ADSB131010000615","OK"]
["ADSB","1310","CUR00001",null,"ADSB1310CUR00001","OK"]
["ADSB","1310","ENG00001",null,"ADSB1310ENG00001","OK"]
["ADSB","1310","GEN00001",null,"ADSB1310GEN00001","OK"]
["ADSB","1310","ITT00001",null,"ADSB1310ITT00001","OK"]
["ADSB","1310","ITT00002",null,"ADSB1310ITT00002","OK"]
["ADSB","1310","OFS01000",null,"ADSB1310OFS01000","OK"]
["ADSB","1310","SDI01301",null,"ADSB1310SDI01301","OK"]
["ADSB","1310","TDA00010",null,{"$f":"CONCATENATE(A2436,B2436,C2436)","v":"ADSB1310TDA00010"},"OK"]
["ADSE","1100","10000639",null,"ADSE110010000639","OK"]
["ADSE","1100","ENT01401",null,"ADSE1100ENT01401","OK"]
["ADSE","1100","PHY00001",null,"ADSE1100PHY00001","OK"]
["ADSE","1100","SDN01401",null,"ADSE1100SDN01401","OK"]
["ADSE","1100","SHO00001",null,"ADSE1100SHO00001","OK"]
["ADSE","1100","SHO00002",null,"ADSE1100SHO00002","OK"]
["ADSE","1110","10000639",null,"ADSE111010000639","OK"]
["ADSE","1110","ENT01401",null,"ADSE1110ENT01401","OK"]
["ADSE","1110","PHY00001",null,"ADSE1110PHY00001","OK"]
["ADSE","1110","SDN01401",null,"ADSE1110SDN01401","OK"]
["ADSE","1110","SHO00001",null,"ADSE1110SHO00001","OK"]
["ADSE","1110","SHO00002",null,"ADSE1110SHO00002","OK"]
["ADSE","1120","10000639",null,"ADSE112010000639","OK"]
["ADSE","1120","ENT01401",null,"ADSE1120ENT01401","OK"]
["ADSE","1120","PHY00001",null,"ADSE1120PHY00001","OK"]
["ADSE","1120","SDN01401",null,"ADSE1120SDN01401","OK"]
["ADSE","1120","SHO00001",null,"ADSE1120SHO00001","OK"]
["ADSE","1120","SHO00002",null,"ADSE1120SHO00002","OK"]
["ADSE","1210","10000639",null,"ADSE121010000639","OK"]
["ADSE","1210","ENT01401",null,"ADSE1210ENT01401","OK"]
["ADSE","1210","PHY00001",null,"ADSE1210PHY00001","OK"]
["ADSE","1210","SDN01401",null,"ADSE1210SDN01401","OK"]
["ADSE","1210","SHO00001",null,"ADSE1210SHO00001","OK"]
["ADSE","1210","SHO00002",null,"ADSE1210SHO00002","OK"]
["ADSE","1230","10000639",null,"ADSE123010000639","OK"]
["ADSE","1230","ENT01401",null,"ADSE1230ENT01401","OK"]
["ADSE","1230","PHY00001",null,"ADSE1230PHY00001","OK"]
["ADSE","1230","SDN01401",null,"ADSE1230SDN01401","OK"]
["ADSE","1230","SHO00001",null,"ADSE1230SHO00001","OK"]
["ADSE","1230","SHO00002",null,"ADSE1230SHO00002","OK"]
["ADSE","1300","10000639",null,"ADSE130010000639","OK"]
["ADSE","1300","ENT01401",null,"ADSE1300ENT01401","OK"]
["ADSE","1300","PHY00001",null,"ADSE1300PHY00001","OK"]
["ADSE","1300","SDN01401",null,"ADSE1300SDN01401","OK"]
["ADSE","1300","SHO00001",null,"ADSE1300SHO00001","OK"]
["ADSE","1300","SHO00002",null,"ADSE1300SHO00002","OK"]
["ADSE","1310","10000639",null,"ADSE131010000639","OK"]
["ADSE","1310","ENT01401",null,"ADSE1310ENT01401","OK"]
["ADSE","1310","PHY00001",null,"ADSE1310PHY00001","OK"]
["ADSE","1310","SDN01401",null,"ADSE1310SDN01401","OK"]
["ADSE","1310","SHO00001",null,"ADSE1310SHO00001","OK"]
["ADSE","1310","SHO00002",null,"ADSE1310SHO00002","OK"]
["ADSE","1320","10000639",null,"ADSE132010000639","OK"]
["ADSE","1320","ENT01401",null,"ADSE1320ENT01401","OK"]
["ADSE","1320","PHY00001",null,"ADSE1320PHY00001","OK"]
["ADSE","1320","SDN01401",null,"ADSE1320SDN01401","OK"]
["ADSE","1320","SHO00001",null,"ADSE1320SHO00001","OK"]
["ADSE","1320","SHO00002",null,"ADSE1320SHO00002","OK"]
["ADSE","1330","10000639",null,"ADSE133010000639","OK"]
["ADSE","1330","ENT01401",null,"ADSE1330ENT01401","OK"]
["ADSE","1330","PHY00001",null,"ADSE1330PHY00001","OK"]
["ADSE","1330","SDN01401",null,"ADSE1330SDN01401","OK"]
["ADSE","1330","SHO00001",null,"ADSE1330SHO00001","OK"]
["ADSE","1330","SHO00002",null,"ADSE1330SHO00002","OK"]
["ADSF","1188","GEN00001",null,"ADSF1188GEN00001","OK"]
["ADSF","1300","GEN00001",null,"ADSF1300GEN00001","OK"]
["ADSF","1310","GEN00001",null,"ADSF1310GEN00001","OK"]
["ADSF","1320","GEN00001",null,"ADSF1320GEN00001","OK"]
["ADSF","1330","GEN00001",null,"ADSF1330GEN00001","OK"]
["ADSO","1100","10000641",null,"ADSO110010000641","OK"]
["ADSO","1100","10000676",null,"ADSO110010000676","OK"]
["ADSO","1100","DIS00001",null,"ADSO1100DIS00001","OK"]
["ADSO","1100","FRE01301",null,"ADSO1100FRE01301","OK"]
["ADSO","1100","GEN00001",null,{"$f":"CONCATENATE(A2500,B2500,C2500)","v":"ADSO1100GEN00001"},"OK"]
["ADSO","1100","INI00047",null,"ADSO1100INI00047","OK"]
["ADSO","1100","STU00002",null,"ADSO1100STU00002","OK"]
["ADSO","1100","TSC00001",null,"ADSO1100TSC00001","OK"]
["ADSO","1100","UNE00001",null,"ADSO1100UNE00001","OK"]
["ADSO","1110","10000641",null,"ADSO111010000641","OK"]
["ADSO","1110","10000676",null,"ADSO111010000676","OK"]
["ADSO","1110","DIS00001",null,"ADSO1110DIS00001","OK"]
["ADSO","1110","FRE01301",null,"ADSO1110FRE01301","OK"]
["ADSO","1110","GEN00001",null,"ADSO1110GEN00001","OK"]
["ADSO","1110","INI00047",null,"ADSO1110INI00047","OK"]
["ADSO","1110","STU00002",null,"ADSO1110STU00002","OK"]
["ADSO","1110","TSC00001",null,"ADSO1110TSC00001","OK"]
["ADSO","1110","UNE00001",null,"ADSO1110UNE00001","OK"]
["ADSO","1330","10000641",null,"ADSO133010000641","OK"]
["ADSO","1330","10000676",null,"ADSO133010000676","OK"]
["ADSO","1330","DIS00001",null,"ADSO1330DIS00001","OK"]
["ADSO","1330","FRE01301",null,"ADSO1330FRE01301","OK"]
["ADSO","1330","GEN00001",null,"ADSO1330GEN00001","OK"]
["ADSO","1330","INI00047",null,"ADSO1330INI00047","OK"]
["ADSO","1330","STU00002",null,"ADSO1330STU00002","OK"]
["ADSO","1330","TSC00001",null,"ADSO1330TSC00001","OK"]
["ADSO","1330","UNE00001",null,"ADSO1330UNE00001","OK"]
["ADSO","1601","10000641",null,"ADSO160110000641","OK"]
["ADSO","1601","10000676",null,"ADSO160110000676","OK"]
["ADSO","1601","DIS00001",null,"ADSO1601DIS00001","OK"]
["ADSO","1601","FRE01301",null,"ADSO1601FRE01301","OK"]
["ADSO","1601","GEN00001",null,"ADSO1601GEN00001","OK"]
["ADSO","1601","INI00047",null,"ADSO1601INI00047","OK"]
["ADSO","1601","STU00002",null,"ADSO1601STU00002","OK"]
["ADSO","1601","TSC00001",null,"ADSO1601TSC00001","OK"]
["ADSO","1601","UNE00001",null,"ADSO1601UNE00001","OK"]
["ADSO","1300","10000641",null,"ADSO130010000641","OK"]
["ADSO","1300","10000676",null,"ADSO130010000676","OK"]
["ADSO","1300","DIS00001",null,"ADSO1300DIS00001","OK"]
["ADSO","1300","FRE01301",null,"ADSO1300FRE01301","OK"]
["ADSO","1300","GEN00001",null,"ADSO1300GEN00001","OK"]
["ADSO","1300","INI00047",null,"ADSO1300INI00047","OK"]
["ADSO","1300","STU00002",null,"ADSO1300STU00002","OK"]
["ADSO","1300","TSC00001",null,"ADSO1300TSC00001","OK"]
["ADSO","1300","UNE00001",null,"ADSO1300UNE00001","OK"]
["ADSO","1310","10000641",null,"ADSO131010000641","OK"]
["ADSO","1310","10000676",null,"ADSO131010000676","OK"]
["ADSO","1310","DIS00001",null,"ADSO1310DIS00001","OK"]
["ADSO","1310","FRE01301",null,"ADSO1310FRE01301","OK"]
["ADSO","1310","GEN00001",null,"ADSO1310GEN00001","OK"]
["ADSO","1310","INI00047",null,"ADSO1310INI00047","OK"]
["ADSO","1310","STU00002",null,"ADSO1310STU00002","OK"]
["ADSO","1310","TSC00001",null,"ADSO1310TSC00001","OK"]
["ADSO","1310","UNE00001",null,"ADSO1310UNE00001","OK"]
["ADSO","1320","10000641",null,"ADSO132010000641","OK"]
["ADSO","1320","10000676",null,"ADSO132010000676","OK"]
["ADSO","1320","DIS00001",null,"ADSO1320DIS00001","OK"]
["ADSO","1320","FRE01301",null,"ADSO1320FRE01301","OK"]
["ADSO","1320","GEN00001",null,"ADSO1320GEN00001","OK"]
["ADSO","1320","INI00047",null,"ADSO1320INI00047","OK"]
["ADSO","1320","STU00002",null,"ADSO1320STU00002","OK"]
["ADSO","1320","TSC00001",null,"ADSO1320TSC00001","OK"]
["ADSO","1320","UNE00001",null,"ADSO1320UNE00001","OK"]
["ADSO","1120","10000641",null,"ADSO112010000641","OK"]
["ADSO","1120","10000676",null,"ADSO112010000676","OK"]
["ADSO","1120","DIS00001",null,"ADSO1120DIS00001","OK"]
["ADSO","1120","FRE01301",null,"ADSO1120FRE01301","OK"]
["ADSO","1120","GEN00001",null,"ADSO1120GEN00001","OK"]
["ADSO","1120","INI00047",null,{"$f":"CONCATENATE(A2564,B2564,C2564)","v":"ADSO1120INI00047"},"OK"]
["ADSO","1120","STU00002",null,"ADSO1120STU00002","OK"]
["ADSO","1120","TSC00001",null,"ADSO1120TSC00001","OK"]
["ADSO","1120","UNE00001",null,"ADSO1120UNE00001","OK"]
["ADSO","1130","10000641",null,"ADSO113010000641","OK"]
["ADSO","1130","10000676",null,"ADSO113010000676","OK"]
["ADSO","1130","DIS00001",null,"ADSO1130DIS00001","OK"]
["ADSO","1130","FRE01301",null,"ADSO1130FRE01301","OK"]
["ADSO","1130","GEN00001",null,"ADSO1130GEN00001","OK"]
["ADSO","1130","INI00047",null,"ADSO1130INI00047","OK"]
["ADSO","1130","STU00002",null,"ADSO1130STU00002","OK"]
["ADSO","1130","TSC00001",null,"ADSO1130TSC00001","OK"]
["ADSO","1130","UNE00001",null,"ADSO1130UNE00001","OK"]
["ADSO","1199","10000641",null,"ADSO119910000641","OK"]
["ADSO","1199","10000676",null,"ADSO119910000676","OK"]
["ADSO","1199","DIS00001",null,"ADSO1199DIS00001","OK"]
["ADSO","1199","FRE01301",null,"ADSO1199FRE01301","OK"]
["ADSO","1199","GEN00001",null,"ADSO1199GEN00001","OK"]
["ADSO","1199","INI00047",null,"ADSO1199INI00047","OK"]
["ADSO","1199","STU00002",null,"ADSO1199STU00002","OK"]
["ADSO","1199","TSC00001",null,"ADSO1199TSC00001","OK"]
["ADSO","1199","UNE00001",null,"ADSO1199UNE00001","OK"]
["ADSO","1210","10000641",null,"ADSO121010000641","OK"]
["ADSO","1210","10000676",null,"ADSO121010000676","OK"]
["ADSO","1210","DIS00001",null,"ADSO1210DIS00001","OK"]
["ADSO","1210","FRE01301",null,"ADSO1210FRE01301","OK"]
["ADSO","1210","GEN00001",null,"ADSO1210GEN00001","OK"]
["ADSO","1210","INI00047",null,"ADSO1210INI00047","OK"]
["ADSO","1210","STU00002",null,"ADSO1210STU00002","OK"]
["ADSO","1210","TSC00001",null,"ADSO1210TSC00001","OK"]
["ADSO","1210","UNE00001",null,"ADSO1210UNE00001","OK"]
["ADSO","1230","10000641",null,"ADSO123010000641","OK"]
["ADSO","1230","10000676",null,"ADSO123010000676","OK"]
["ADSO","1230","DIS00001",null,"ADSO1230DIS00001","OK"]
["ADSO","1230","FRE01301",null,"ADSO1230FRE01301","OK"]
["ADSO","1230","GEN00001",null,"ADSO1230GEN00001","OK"]
["ADSO","1230","INI00047",null,"ADSO1230INI00047","OK"]
["ADSO","1230","STU00002",null,"ADSO1230STU00002","OK"]
["ADSO","1230","TSC00001",null,"ADSO1230TSC00001","OK"]
["ADSO","1230","UNE00001",null,"ADSO1230UNE00001","OK"]
["ADSR","1100","10000469",null,"ADSR110010000469","OK"]
["ADSR","1100","10000542",null,"ADSR110010000542","OK"]
["ADSR","1100","10000559",null,"ADSR110010000559","OK"]
["ADSR","1100","10000590",null,"ADSR110010000590","OK"]
["ADSR","1100","10000591",null,"ADSR110010000591","OK"]
["ADSR","1100","10000592",null,"ADSR110010000592","OK"]
["ADSR","1100","10000604",null,"ADSR110010000604","OK"]
["ADSR","1100","10000608",null,"ADSR110010000608","OK"]
["ADSR","1100","10000609",null,"ADSR110010000609","OK"]
["ADSR","1100","10000610",null,"ADSR110010000610","OK"]
["ADSR","1100","10000620",null,"ADSR110010000620","OK"]
["ADSR","1100","10000624",null,"ADSR110010000624","OK"]
["ADSR","1100","10000626",null,"ADSR110010000626","OK"]
["ADSR","1100","10000628",null,"ADSR110010000628","OK"]
["ADSR","1100","10000629",null,"ADSR110010000629","OK"]
["ADSR","1100","10000634",null,"ADSR110010000634","OK"]
["ADSR","1100","10000637",null,"ADSR110010000637","OK"]
["ADSR","1100","10000646",null,"ADSR110010000646","OK"]
["ADSR","1100","10000647",null,"ADSR110010000647","OK"]
["ADSR","1100","10000650",null,"ADSR110010000650","OK"]
["ADSR","1100","10000664",null,"ADSR110010000664","OK"]
["ADSR","1100","10000665",null,"ADSR110010000665","OK"]
["ADSR","1100","10000673",null,"ADSR110010000673","OK"]
["ADSR","1100","10000681",null,"ADSR110010000681","OK"]
["ADSR","1100","10000689",null,{"$f":"CONCATENATE(A2628,B2628,C2628)","v":"ADSR110010000689"},"OK"]
["ADSR","1100","10000690",null,"ADSR110010000690","OK"]
["ADSR","1100","10000696",null,"ADSR110010000696","OK"]
["ADSR","1100","10000698",null,"ADSR110010000698","OK"]
["ADSR","1100","10000703",null,"ADSR110010000703","OK"]
["ADSR","1100","10000707",null,"ADSR110010000707","OK"]
["ADSR","1100","10000709",null,"ADSR110010000709","OK"]
["ADSR","1100","10000712",null,"ADSR110010000712","OK"]
["ADSR","1100","PHD01403",null,"ADSR1100PHD01403","OK"]
["ADSR","1100","RES01401",null,"ADSR1100RES01401","OK"]
["ADSR","1100","RES02401",null,"ADSR1100RES02401","OK"]
["ADSR","1110","10000469",null,"ADSR111010000469","OK"]
["ADSR","1110","10000542",null,"ADSR111010000542","OK"]
["ADSR","1110","10000559",null,"ADSR111010000559","OK"]
["ADSR","1110","10000590",null,"ADSR111010000590","OK"]
["ADSR","1110","10000591",null,"ADSR111010000591","OK"]
["ADSR","1110","10000592",null,"ADSR111010000592","OK"]
["ADSR","1110","10000604",null,"ADSR111010000604","OK"]
["ADSR","1110","10000608",null,"ADSR111010000608","OK"]
["ADSR","1110","10000609",null,"ADSR111010000609","OK"]
["ADSR","1110","10000610",null,"ADSR111010000610","OK"]
["ADSR","1110","10000620",null,"ADSR111010000620","OK"]
["ADSR","1110","10000624",null,"ADSR111010000624","OK"]
["ADSR","1110","10000626",null,"ADSR111010000626","OK"]
["ADSR","1110","10000628",null,"ADSR111010000628","OK"]
["ADSR","1110","10000629",null,"ADSR111010000629","OK"]
["ADSR","1110","10000634",null,"ADSR111010000634","OK"]
["ADSR","1110","10000637",null,"ADSR111010000637","OK"]
["ADSR","1110","10000646",null,"ADSR111010000646","OK"]
["ADSR","1110","10000647",null,"ADSR111010000647","OK"]
["ADSR","1110","10000650",null,"ADSR111010000650","OK"]
["ADSR","1110","10000664",null,"ADSR111010000664","OK"]
["ADSR","1110","10000665",null,"ADSR111010000665","OK"]
["ADSR","1110","10000673",null,"ADSR111010000673","OK"]
["ADSR","1110","10000681",null,"ADSR111010000681","OK"]
["ADSR","1110","10000689",null,"ADSR111010000689","OK"]
["ADSR","1110","10000690",null,"ADSR111010000690","OK"]
["ADSR","1110","10000696",null,"ADSR111010000696","OK"]
["ADSR","1110","10000698",null,"ADSR111010000698","OK"]
["ADSR","1110","10000703",null,"ADSR111010000703","OK"]
["ADSR","1110","10000707",null,"ADSR111010000707","OK"]
["ADSR","1110","10000709",null,"ADSR111010000709","OK"]
["ADSR","1110","10000712",null,"ADSR111010000712","OK"]
["ADSR","1110","PHD01403",null,"ADSR1110PHD01403","OK"]
["ADSR","1110","RES01401",null,"ADSR1110RES01401","OK"]
["ADSR","1110","RES02401",null,"ADSR1110RES02401","OK"]
["ADSR","1320","10000469",null,"ADSR132010000469","OK"]
["ADSR","1320","10000542",null,"ADSR132010000542","OK"]
["ADSR","1320","10000559",null,"ADSR132010000559","OK"]
["ADSR","1320","10000590",null,"ADSR132010000590","OK"]
["ADSR","1320","10000591",null,"ADSR132010000591","OK"]
["ADSR","1320","10000592",null,"ADSR132010000592","OK"]
["ADSR","1320","10000604",null,"ADSR132010000604","OK"]
["ADSR","1320","10000608",null,"ADSR132010000608","OK"]
["ADSR","1320","10000609",null,"ADSR132010000609","OK"]
["ADSR","1320","10000610",null,"ADSR132010000610","OK"]
["ADSR","1320","10000620",null,"ADSR132010000620","OK"]
["ADSR","1320","10000624",null,"ADSR132010000624","OK"]
["ADSR","1320","10000626",null,"ADSR132010000626","OK"]
["ADSR","1320","10000628",null,"ADSR132010000628","OK"]
["ADSR","1320","10000629",null,"ADSR132010000629","OK"]
["ADSR","1320","10000634",null,"ADSR132010000634","OK"]
["ADSR","1320","10000637",null,"ADSR132010000637","OK"]
["ADSR","1320","10000646",null,"ADSR132010000646","OK"]
["ADSR","1320","10000647",null,{"$f":"CONCATENATE(A2692,B2692,C2692)","v":"ADSR132010000647"},"OK"]
["ADSR","1320","10000650",null,"ADSR132010000650","OK"]
["ADSR","1320","10000664",null,"ADSR132010000664","OK"]
["ADSR","1320","10000665",null,"ADSR132010000665","OK"]
["ADSR","1320","10000673",null,"ADSR132010000673","OK"]
["ADSR","1320","10000681",null,"ADSR132010000681","OK"]
["ADSR","1320","10000689",null,"ADSR132010000689","OK"]
["ADSR","1320","10000690",null,"ADSR132010000690","OK"]
["ADSR","1320","10000696",null,"ADSR132010000696","OK"]
["ADSR","1320","10000698",null,"ADSR132010000698","OK"]
["ADSR","1320","10000703",null,"ADSR132010000703","OK"]
["ADSR","1320","10000707",null,"ADSR132010000707","OK"]
["ADSR","1320","10000709",null,"ADSR132010000709","OK"]
["ADSR","1320","10000712",null,"ADSR132010000712","OK"]
["ADSR","1320","PHD01403",null,"ADSR1320PHD01403","OK"]
["ADSR","1320","RES01401",null,"ADSR1320RES01401","OK"]
["ADSR","1320","RES02401",null,"ADSR1320RES02401","OK"]
["ADSR","1330","10000469",null,"ADSR133010000469","OK"]
["ADSR","1330","10000542",null,"ADSR133010000542","OK"]
["ADSR","1330","10000559",null,"ADSR133010000559","OK"]
["ADSR","1330","10000590",null,"ADSR133010000590","OK"]
["ADSR","1330","10000591",null,"ADSR133010000591","OK"]
["ADSR","1330","10000592",null,"ADSR133010000592","OK"]
["ADSR","1330","10000604",null,"ADSR133010000604","OK"]
["ADSR","1330","10000608",null,"ADSR133010000608","OK"]
["ADSR","1330","10000609",null,"ADSR133010000609","OK"]
["ADSR","1330","10000610",null,"ADSR133010000610","OK"]
["ADSR","1330","10000620",null,"ADSR133010000620","OK"]
["ADSR","1330","10000624",null,"ADSR133010000624","OK"]
["ADSR","1330","10000626",null,"ADSR133010000626","OK"]
["ADSR","1330","10000628",null,"ADSR133010000628","OK"]
["ADSR","1330","10000629",null,"ADSR133010000629","OK"]
["ADSR","1330","10000634",null,"ADSR133010000634","OK"]
["ADSR","1330","10000637",null,"ADSR133010000637","OK"]
["ADSR","1330","10000646",null,"ADSR133010000646","OK"]
["ADSR","1330","10000647",null,"ADSR133010000647","OK"]
["ADSR","1330","10000650",null,"ADSR133010000650","OK"]
["ADSR","1330","10000664",null,"ADSR133010000664","OK"]
["ADSR","1330","10000665",null,"ADSR133010000665","OK"]
["ADSR","1330","10000673",null,"ADSR133010000673","OK"]
["ADSR","1330","10000681",null,"ADSR133010000681","OK"]
["ADSR","1330","10000689",null,"ADSR133010000689","OK"]
["ADSR","1330","10000690",null,"ADSR133010000690","OK"]
["ADSR","1330","10000696",null,"ADSR133010000696","OK"]
["ADSR","1330","10000698",null,"ADSR133010000698","OK"]
["ADSR","1330","10000703",null,"ADSR133010000703","OK"]
["ADSR","1330","10000707",null,"ADSR133010000707","OK"]
["ADSR","1330","10000709",null,"ADSR133010000709","OK"]
["ADSR","1330","10000712",null,"ADSR133010000712","OK"]
["ADSR","1330","PHD01403",null,"ADSR1330PHD01403","OK"]
["ADSR","1330","RES01401",null,"ADSR1330RES01401","OK"]
["ADSR","1330","RES02401",null,"ADSR1330RES02401","OK"]
["ADSR","1300","10000469",null,"ADSR130010000469","OK"]
["ADSR","1300","10000542",null,"ADSR130010000542","OK"]
["ADSR","1300","10000559",null,"ADSR130010000559","OK"]
["ADSR","1300","10000590",null,"ADSR130010000590","OK"]
["ADSR","1300","10000591",null,"ADSR130010000591","OK"]
["ADSR","1300","10000592",null,"ADSR130010000592","OK"]
["ADSR","1300","10000604",null,"ADSR130010000604","OK"]
["ADSR","1300","10000608",null,"ADSR130010000608","OK"]
["ADSR","1300","10000609",null,"ADSR130010000609","OK"]
["ADSR","1300","10000610",null,"ADSR130010000610","OK"]
["ADSR","1300","10000620",null,"ADSR130010000620","OK"]
["ADSR","1300","10000624",null,"ADSR130010000624","OK"]
["ADSR","1300","10000626",null,{"$f":"CONCATENATE(A2756,B2756,C2756)","v":"ADSR130010000626"},"OK"]
["ADSR","1300","10000628",null,"ADSR130010000628","OK"]
["ADSR","1300","10000629",null,"ADSR130010000629","OK"]
["ADSR","1300","10000634",null,"ADSR130010000634","OK"]
["ADSR","1300","10000637",null,"ADSR130010000637","OK"]
["ADSR","1300","10000646",null,"ADSR130010000646","OK"]
["ADSR","1300","10000647",null,"ADSR130010000647","OK"]
["ADSR","1300","10000650",null,"ADSR130010000650","OK"]
["ADSR","1300","10000664",null,"ADSR130010000664","OK"]
["ADSR","1300","10000665",null,"ADSR130010000665","OK"]
["ADSR","1300","10000673",null,"ADSR130010000673","OK"]
["ADSR","1300","10000681",null,"ADSR130010000681","OK"]
["ADSR","1300","10000689",null,"ADSR130010000689","OK"]
["ADSR","1300","10000690",null,"ADSR130010000690","OK"]
["ADSR","1300","10000696",null,"ADSR130010000696","OK"]
["ADSR","1300","10000698",null,"ADSR130010000698","OK"]
["ADSR","1300","10000703",null,"ADSR130010000703","OK"]
["ADSR","1300","10000707",null,"ADSR130010000707","OK"]
["ADSR","1300","10000709",null,"ADSR130010000709","OK"]
["ADSR","1300","10000712",null,"ADSR130010000712","OK"]
["ADSR","1300","PHD01403",null,"ADSR1300PHD01403","OK"]
["ADSR","1300","RES01401",null,"ADSR1300RES01401","OK"]
["ADSR","1300","RES02401",null,"ADSR1300RES02401","OK"]
["ADSR","1310","10000469",null,"ADSR131010000469","OK"]
["ADSR","1310","10000542",null,"ADSR131010000542","OK"]
["ADSR","1310","10000559",null,"ADSR131010000559","OK"]
["ADSR","1310","10000590",null,"ADSR131010000590","OK"]
["ADSR","1310","10000591",null,"ADSR131010000591","OK"]
["ADSR","1310","10000592",null,"ADSR131010000592","OK"]
["ADSR","1310","10000604",null,"ADSR131010000604","OK"]
["ADSR","1310","10000608",null,"ADSR131010000608","OK"]
["ADSR","1310","10000609",null,"ADSR131010000609","OK"]
["ADSR","1310","10000610",null,"ADSR131010000610","OK"]
["ADSR","1310","10000620",null,"ADSR131010000620","OK"]
["ADSR","1310","10000624",null,"ADSR131010000624","OK"]
["ADSR","1310","10000626",null,"ADSR131010000626","OK"]
["ADSR","1310","10000628",null,"ADSR131010000628","OK"]
["ADSR","1310","10000629",null,"ADSR131010000629","OK"]
["ADSR","1310","10000634",null,"ADSR131010000634","OK"]
["ADSR","1310","10000637",null,"ADSR131010000637","OK"]
["ADSR","1310","10000646",null,"ADSR131010000646","OK"]
["ADSR","1310","10000647",null,"ADSR131010000647","OK"]
["ADSR","1310","10000650",null,"ADSR131010000650","OK"]
["ADSR","1310","10000664",null,"ADSR131010000664","OK"]
["ADSR","1310","10000665",null,"ADSR131010000665","OK"]
["ADSR","1310","10000673",null,"ADSR131010000673","OK"]
["ADSR","1310","10000681",null,"ADSR131010000681","OK"]
["ADSR","1310","10000689",null,"ADSR131010000689","OK"]
["ADSR","1310","10000690",null,"ADSR131010000690","OK"]
["ADSR","1310","10000696",null,"ADSR131010000696","OK"]
["ADSR","1310","10000698",null,"ADSR131010000698","OK"]
["ADSR","1310","10000703",null,"ADSR131010000703","OK"]
["ADSR","1310","10000707",null,"ADSR131010000707","OK"]
["ADSR","1310","10000709",null,"ADSR131010000709","OK"]
["ADSR","1310","10000712",null,"ADSR131010000712","OK"]
["ADSR","1310","PHD01403",null,"ADSR1310PHD01403","OK"]
["ADSR","1310","RES01401",null,"ADSR1310RES01401","OK"]
["ADSR","1310","RES02401",null,"ADSR1310RES02401","OK"]
["ADSR","1210","10000469",null,"ADSR121010000469","OK"]
["ADSR","1210","10000542",null,"ADSR121010000542","OK"]
["ADSR","1210","10000559",null,"ADSR121010000559","OK"]
["ADSR","1210","10000590",null,"ADSR121010000590","OK"]
["ADSR","1210","10000591",null,"ADSR121010000591","OK"]
["ADSR","1210","10000592",null,"ADSR121010000592","OK"]
["ADSR","1210","10000604",null,{"$f":"CONCATENATE(A2820,B2820,C2820)","v":"ADSR121010000604"},"OK"]
["ADSR","1210","10000608",null,"ADSR121010000608","OK"]
["ADSR","1210","10000609",null,"ADSR121010000609","OK"]
["ADSR","1210","10000610",null,"ADSR121010000610","OK"]
["ADSR","1210","10000620",null,"ADSR121010000620","OK"]
["ADSR","1210","10000624",null,"ADSR121010000624","OK"]
["ADSR","1210","10000626",null,"ADSR121010000626","OK"]
["ADSR","1210","10000628",null,"ADSR121010000628","OK"]
["ADSR","1210","10000629",null,"ADSR121010000629","OK"]
["ADSR","1210","10000634",null,"ADSR121010000634","OK"]
["ADSR","1210","10000637",null,"ADSR121010000637","OK"]
["ADSR","1210","10000646",null,"ADSR121010000646","OK"]
["ADSR","1210","10000647",null,"ADSR121010000647","OK"]
["ADSR","1210","10000650",null,"ADSR121010000650","OK"]
["ADSR","1210","10000664",null,"ADSR121010000664","OK"]
["ADSR","1210","10000665",null,"ADSR121010000665","OK"]
["ADSR","1210","10000673",null,"ADSR121010000673","OK"]
["ADSR","1210","10000681",null,"ADSR121010000681","OK"]
["ADSR","1210","10000689",null,"ADSR121010000689","OK"]
["ADSR","1210","10000690",null,"ADSR121010000690","OK"]
["ADSR","1210","10000696",null,"ADSR121010000696","OK"]
["ADSR","1210","10000698",null,"ADSR121010000698","OK"]
["ADSR","1210","10000703",null,"ADSR121010000703","OK"]
["ADSR","1210","10000707",null,"ADSR121010000707","OK"]
["ADSR","1210","10000709",null,"ADSR121010000709","OK"]
["ADSR","1210","10000712",null,"ADSR121010000712","OK"]
["ADSR","1210","PHD01403",null,"ADSR1210PHD01403","OK"]
["ADSR","1210","RES01401",null,"ADSR1210RES01401","OK"]
["ADSR","1210","RES02401",null,"ADSR1210RES02401","OK"]
["ADSR","1230","10000469",null,"ADSR123010000469","OK"]
["ADSR","1230","10000542",null,"ADSR123010000542","OK"]
["ADSR","1230","10000559",null,"ADSR123010000559","OK"]
["ADSR","1230","10000590",null,"ADSR123010000590","OK"]
["ADSR","1230","10000591",null,"ADSR123010000591","OK"]
["ADSR","1230","10000592",null,"ADSR123010000592","OK"]
["ADSR","1230","10000604",null,"ADSR123010000604","OK"]
["ADSR","1230","10000608",null,"ADSR123010000608","OK"]
["ADSR","1230","10000609",null,"ADSR123010000609","OK"]
["ADSR","1230","10000610",null,"ADSR123010000610","OK"]
["ADSR","1230","10000620",null,"ADSR123010000620","OK"]
["ADSR","1230","10000624",null,"ADSR123010000624","OK"]
["ADSR","1230","10000626",null,"ADSR123010000626","OK"]
["ADSR","1230","10000628",null,"ADSR123010000628","OK"]
["ADSR","1230","10000629",null,"ADSR123010000629","OK"]
["ADSR","1230","10000634",null,"ADSR123010000634","OK"]
["ADSR","1230","10000637",null,"ADSR123010000637","OK"]
["ADSR","1230","10000646",null,"ADSR123010000646","OK"]
["ADSR","1230","10000647",null,"ADSR123010000647","OK"]
["ADSR","1230","10000650",null,"ADSR123010000650","OK"]
["ADSR","1230","10000664",null,"ADSR123010000664","OK"]
["ADSR","1230","10000665",null,"ADSR123010000665","OK"]
["ADSR","1230","10000673",null,"ADSR123010000673","OK"]
["ADSR","1230","10000681",null,"ADSR123010000681","OK"]
["ADSR","1230","10000689",null,"ADSR123010000689","OK"]
["ADSR","1230","10000690",null,"ADSR123010000690","OK"]
["ADSR","1230","10000696",null,"ADSR123010000696","OK"]
["ADSR","1230","10000698",null,"ADSR123010000698","OK"]
["ADSR","1230","10000703",null,"ADSR123010000703","OK"]
["ADSR","1230","10000707",null,"ADSR123010000707","OK"]
["ADSR","1230","10000709",null,"ADSR123010000709","OK"]
["ADSR","1230","10000712",null,"ADSR123010000712","OK"]
["ADSR","1230","PHD01403",null,"ADSR1230PHD01403","OK"]
["ADSR","1230","RES01401",null,"ADSR1230RES01401","OK"]
["ADSR","1230","RES02401",null,"ADSR1230RES02401","OK"]
["ADSR","1120","10000469",null,{"$f":"CONCATENATE(A2884,B2884,C2884)","v":"ADSR112010000469"},"OK"]
["ADSR","1120","10000542",null,"ADSR112010000542","OK"]
["ADSR","1120","10000559",null,"ADSR112010000559","OK"]
["ADSR","1120","10000590",null,"ADSR112010000590","OK"]
["ADSR","1120","10000591",null,"ADSR112010000591","OK"]
["ADSR","1120","10000592",null,"ADSR112010000592","OK"]
["ADSR","1120","10000604",null,"ADSR112010000604","OK"]
["ADSR","1120","10000608",null,"ADSR112010000608","OK"]
["ADSR","1120","10000609",null,"ADSR112010000609","OK"]
["ADSR","1120","10000610",null,"ADSR112010000610","OK"]
["ADSR","1120","10000620",null,"ADSR112010000620","OK"]
["ADSR","1120","10000624",null,"ADSR112010000624","OK"]
["ADSR","1120","10000626",null,"ADSR112010000626","OK"]
["ADSR","1120","10000628",null,"ADSR112010000628","OK"]
["ADSR","1120","10000629",null,"ADSR112010000629","OK"]
["ADSR","1120","10000634",null,"ADSR112010000634","OK"]
["ADSR","1120","10000637",null,"ADSR112010000637","OK"]
["ADSR","1120","10000646",null,"ADSR112010000646","OK"]
["ADSR","1120","10000647",null,"ADSR112010000647","OK"]
["ADSR","1120","10000650",null,"ADSR112010000650","OK"]
["ADSR","1120","10000664",null,"ADSR112010000664","OK"]
["ADSR","1120","10000665",null,"ADSR112010000665","OK"]
["ADSR","1120","10000673",null,"ADSR112010000673","OK"]
["ADSR","1120","10000681",null,"ADSR112010000681","OK"]
["ADSR","1120","10000689",null,"ADSR112010000689","OK"]
["ADSR","1120","10000690",null,"ADSR112010000690","OK"]
["ADSR","1120","10000696",null,"ADSR112010000696","OK"]
["ADSR","1120","10000698",null,"ADSR112010000698","OK"]
["ADSR","1120","10000703",null,"ADSR112010000703","OK"]
["ADSR","1120","10000707",null,"ADSR112010000707","OK"]
["ADSR","1120","10000709",null,"ADSR112010000709","OK"]
["ADSR","1120","10000712",null,"ADSR112010000712","OK"]
["ADSR","1120","PHD01403",null,"ADSR1120PHD01403","OK"]
["ADSR","1120","RES01401",null,"ADSR1120RES01401","OK"]
["ADSR","1120","RES02401",null,"ADSR1120RES02401","OK"]
["ADSS","1100","DEP01306",null,"ADSS1100DEP01306","OK"]
["ADSS","1100","DEP01313",null,"ADSS1100DEP01313","OK"]
["ADSS","1100","DEP01314",null,"ADSS1100DEP01314","OK"]
["ADSS","1100","FTR00405",null,"ADSS1100FTR00405","OK"]
["ADSS","1100","FTR00406",null,"ADSS1100FTR00406","OK"]
["ADSS","1100","GEN00001",null,"ADSS1100GEN00001","OK"]
["ADSS","1110","DEP01306",null,"ADSS1110DEP01306","OK"]
["ADSS","1110","DEP01313",null,"ADSS1110DEP01313","OK"]
["ADSS","1110","DEP01314",null,"ADSS1110DEP01314","OK"]
["ADSS","1110","FTR00405",null,"ADSS1110FTR00405","OK"]
["ADSS","1110","FTR00406",null,"ADSS1110FTR00406","OK"]
["ADSS","1110","GEN00001",null,"ADSS1110GEN00001","OK"]
["ADSS","1120","DEP01306",null,"ADSS1120DEP01306","OK"]
["ADSS","1120","DEP01313",null,"ADSS1120DEP01313","OK"]
["ADSS","1120","DEP01314",null,"ADSS1120DEP01314","OK"]
["ADSS","1120","FTR00405",null,"ADSS1120FTR00405","OK"]
["ADSS","1120","FTR00406",null,"ADSS1120FTR00406","OK"]
["ADSS","1120","GEN00001",null,"ADSS1120GEN00001","OK"]
["ADSS","1320","DEP01306",null,"ADSS1320DEP01306","OK"]
["ADSS","1320","DEP01313",null,"ADSS1320DEP01313","OK"]
["ADSS","1320","DEP01314",null,"ADSS1320DEP01314","OK"]
["ADSS","1320","FTR00405",null,"ADSS1320FTR00405","OK"]
["ADSS","1320","FTR00406",null,"ADSS1320FTR00406","OK"]
["ADSS","1320","GEN00001",null,"ADSS1320GEN00001","OK"]
["ADSS","1330","DEP01306",null,"ADSS1330DEP01306","OK"]
["ADSS","1330","DEP01313",null,"ADSS1330DEP01313","OK"]
["ADSS","1330","DEP01314",null,{"$f":"CONCATENATE(A2945,B2945,C2945)","v":"ADSS1330DEP01314"},"OK"]
["ADSS","1330","FTR00405",null,"ADSS1330FTR00405","OK"]
["ADSS","1330","FTR00406",null,"ADSS1330FTR00406","OK"]
["ADSS","1330","GEN00001",null,"ADSS1330GEN00001","OK"]
["ADSS","1210","DEP01306",null,"ADSS1210DEP01306","OK"]
["ADSS","1210","DEP01313",null,"ADSS1210DEP01313","OK"]
["ADSS","1210","DEP01314",null,"ADSS1210DEP01314","OK"]
["ADSS","1210","FTR00405",null,"ADSS1210FTR00405","OK"]
["ADSS","1210","FTR00406",null,"ADSS1210FTR00406","OK"]
["ADSS","1210","GEN00001",null,"ADSS1210GEN00001","OK"]
["ADSS","1230","DEP01306",null,"ADSS1230DEP01306","OK"]
["ADSS","1230","DEP01313",null,"ADSS1230DEP01313","OK"]
["ADSS","1230","DEP01314",null,"ADSS1230DEP01314","OK"]
["ADSS","1230","FTR00405",null,"ADSS1230FTR00405","OK"]
["ADSS","1230","FTR00406",null,"ADSS1230FTR00406","OK"]
["ADSS","1230","GEN00001",null,"ADSS1230GEN00001","OK"]
["ADSS","1300","DEP01306",null,"ADSS1300DEP01306","OK"]
["ADSS","1300","DEP01313",null,"ADSS1300DEP01313","OK"]
["ADSS","1300","DEP01314",null,"ADSS1300DEP01314","OK"]
["ADSS","1300","FTR00405",null,"ADSS1300FTR00405","OK"]
["ADSS","1300","FTR00406",null,"ADSS1300FTR00406","OK"]
["ADSS","1300","GEN00001",null,"ADSS1300GEN00001","OK"]
["ADSS","1310","DEP01306",null,"ADSS1310DEP01306","OK"]
["ADSS","1310","DEP01313",null,"ADSS1310DEP01313","OK"]
["ADSS","1310","DEP01314",null,"ADSS1310DEP01314","OK"]
["ADSS","1310","FTR00405",null,"ADSS1310FTR00405","OK"]
["ADSS","1310","FTR00406",null,"ADSS1310FTR00406","OK"]
["ADSS","1310","GEN00001",null,"ADSS1310GEN00001","OK"]
["ADTE","1100","DIS00001",null,"ADTE1100DIS00001","OK"]
["ADTE","1100","EDD00001",null,"ADTE1100EDD00001","OK"]
["ADTE","1100","EDU00A06",null,"ADTE1100EDU00A06","OK"]
["ADTE","1100","EDU00A20",null,"ADTE1100EDU00A20","OK"]
["ADTE","1100","EMP00001",null,"ADTE1100EMP00001","OK"]
["ADTE","1100","GEN00001",null,"ADTE1100GEN00001","OK"]
["ADTE","1100","HCH01301",null,"ADTE1100HCH01301","OK"]
["ADTE","1100","HEF00004",null,"ADTE1100HEF00004","OK"]
["ADTE","1100","HEF00014",null,"ADTE1100HEF00014","OK"]
["ADTE","1100","KOR00001",null,"ADTE1100KOR00001","OK"]
["ADTE","1100","RAM00001",null,"ADTE1100RAM00001","OK"]
["ADTE","1100","STU00002",null,"ADTE1100STU00002","OK"]
["ADTE","1100","YEH00001",null,"ADTE1100YEH00001","OK"]
["ADTE","1110","DIS00001",null,"ADTE1110DIS00001","OK"]
["ADTE","1110","EDD00001",null,"ADTE1110EDD00001","OK"]
["ADTE","1110","EDU00A06",null,"ADTE1110EDU00A06","OK"]
["ADTE","1110","EDU00A20",null,"ADTE1110EDU00A20","OK"]
["ADTE","1110","EMP00001",null,"ADTE1110EMP00001","OK"]
["ADTE","1110","GEN00001",null,"ADTE1110GEN00001","OK"]
["ADTE","1110","HCH01301",null,"ADTE1110HCH01301","OK"]
["ADTE","1110","HEF00004",null,"ADTE1110HEF00004","OK"]
["ADTE","1110","HEF00014",null,"ADTE1110HEF00014","OK"]
["ADTE","1110","KOR00001",null,"ADTE1110KOR00001","OK"]
["ADTE","1110","RAM00001",null,"ADTE1110RAM00001","OK"]
["ADTE","1110","STU00002",null,"ADTE1110STU00002","OK"]
["ADTE","1110","YEH00001",null,"ADTE1110YEH00001","OK"]
["ADTE","1120","DIS00001",null,"ADTE1120DIS00001","OK"]
["ADTE","1120","EDD00001",null,"ADTE1120EDD00001","OK"]
["ADTE","1120","EDU00A06",null,"ADTE1120EDU00A06","OK"]
["ADTE","1120","EDU00A20",null,"ADTE1120EDU00A20","OK"]
["ADTE","1120","EMP00001",null,"ADTE1120EMP00001","OK"]
["ADTE","1120","GEN00001",null,"ADTE1120GEN00001","OK"]
["ADTE","1120","HCH01301",null,"ADTE1120HCH01301","OK"]
["ADTE","1120","HEF00004",null,"ADTE1120HEF00004","OK"]
["ADTE","1120","HEF00014",null,"ADTE1120HEF00014","OK"]
["ADTE","1120","KOR00001",null,"ADTE1120KOR00001","OK"]
["ADTE","1120","RAM00001",null,{"$f":"CONCATENATE(A3009,B3009,C3009)","v":"ADTE1120RAM00001"},"OK"]
["ADTE","1120","STU00002",null,"ADTE1120STU00002","OK"]
["ADTE","1120","YEH00001",null,"ADTE1120YEH00001","OK"]
["ADTE","1300","DIS00001",null,"ADTE1300DIS00001","OK"]
["ADTE","1300","EDD00001",null,"ADTE1300EDD00001","OK"]
["ADTE","1300","EDU00A06",null,"ADTE1300EDU00A06","OK"]
["ADTE","1300","EDU00A20",null,"ADTE1300EDU00A20","OK"]
["ADTE","1300","EMP00001",null,"ADTE1300EMP00001","OK"]
["ADTE","1300","GEN00001",null,"ADTE1300GEN00001","OK"]
["ADTE","1300","HCH01301",null,"ADTE1300HCH01301","OK"]
["ADTE","1300","HEF00004",null,"ADTE1300HEF00004","OK"]
["ADTE","1300","HEF00014",null,"ADTE1300HEF00014","OK"]
["ADTE","1300","KOR00001",null,"ADTE1300KOR00001","OK"]
["ADTE","1300","RAM00001",null,"ADTE1300RAM00001","OK"]
["ADTE","1300","STU00002",null,"ADTE1300STU00002","OK"]
["ADTE","1300","YEH00001",null,"ADTE1300YEH00001","OK"]
["ADTE","1310","DIS00001",null,"ADTE1310DIS00001","OK"]
["ADTE","1310","EDD00001",null,"ADTE1310EDD00001","OK"]
["ADTE","1310","EDU00A06",null,"ADTE1310EDU00A06","OK"]
["ADTE","1310","EDU00A20",null,"ADTE1310EDU00A20","OK"]
["ADTE","1310","EMP00001",null,"ADTE1310EMP00001","OK"]
["ADTE","1310","GEN00001",null,"ADTE1310GEN00001","OK"]
["ADTE","1310","HCH01301",null,"ADTE1310HCH01301","OK"]
["ADTE","1310","HEF00004",null,"ADTE1310HEF00004","OK"]
["ADTE","1310","HEF00014",null,"ADTE1310HEF00014","OK"]
["ADTE","1310","KOR00001",null,"ADTE1310KOR00001","OK"]
["ADTE","1310","RAM00001",null,{"$f":"CONCATENATE(A3035,B3035,C3035)","v":"ADTE1310RAM00001"},"OK"]
["ADTE","1310","STU00002",null,{"$f":"CONCATENATE(A3036,B3036,C3036)","v":"ADTE1310STU00002"},"OK"]
["ADTE","1310","YEH00001",null,"ADTE1310YEH00001","OK"]
["ADTE","1320","DIS00001",null,"ADTE1320DIS00001","OK"]
["ADTE","1320","EDD00001",null,"ADTE1320EDD00001","OK"]
["ADTE","1320","EDU00A06",null,"ADTE1320EDU00A06","OK"]
["ADTE","1320","EDU00A20",null,"ADTE1320EDU00A20","OK"]
["ADTE","1320","EMP00001",null,"ADTE1320EMP00001","OK"]
["ADTE","1320","GEN00001",null,"ADTE1320GEN00001","OK"]
["ADTE","1320","HCH01301",null,"ADTE1320HCH01301","OK"]
["ADTE","1320","HEF00004",null,"ADTE1320HEF00004","OK"]
["ADTE","1320","HEF00014",null,"ADTE1320HEF00014","OK"]
["ADTE","1320","KOR00001",null,"ADTE1320KOR00001","OK"]
["ADTE","1320","RAM00001",null,"ADTE1320RAM00001","OK"]
["ADTE","1320","STU00002",null,"ADTE1320STU00002","OK"]
["ADTE","1320","YEH00001",null,"ADTE1320YEH00001","OK"]
["ADTE","1330","DIS00001",null,"ADTE1330DIS00001","OK"]
["ADTE","1330","EDD00001",null,"ADTE1330EDD00001","OK"]
["ADTE","1330","EDU00A06",null,"ADTE1330EDU00A06","OK"]
["ADTE","1330","EDU00A20",null,"ADTE1330EDU00A20","OK"]
["ADTE","1330","EMP00001",null,"ADTE1330EMP00001","OK"]
["ADTE","1330","GEN00001",null,"ADTE1330GEN00001","OK"]
["ADTE","1330","HCH01301",null,"ADTE1330HCH01301","OK"]
["ADTE","1330","HEF00004",null,"ADTE1330HEF00004","OK"]
["ADTE","1330","HEF00014",null,"ADTE1330HEF00014","OK"]
["ADTE","1330","KOR00001",null,"ADTE1330KOR00001","OK"]
["ADTE","1330","RAM00001",null,"ADTE1330RAM00001","OK"]
["ADTE","1330","STU00002",null,"ADTE1330STU00002","OK"]
["ADTE","1330","YEH00001",null,"ADTE1330YEH00001","OK"]
["ASCR","1300","GEN00001",null,"ASCR1300GEN00001","OK"]
["ASCR","1300","SBU08005",null,"ASCR1300SBU08005","OK"]
["ASCR","1300","SBU08009",null,"ASCR1300SBU08009","OK"]
["ASCR","1310","GEN00001",null,"ASCR1310GEN00001","OK"]
["ASCR","1310","SBU08005",null,"ASCR1310SBU08005","OK"]
["ASCR","1310","SBU08009",null,"ASCR1310SBU08009","OK"]
["ASCR","1320","GEN00001",null,"ASCR1320GEN00001","OK"]
["ASCR","1320","SBU08005",null,"ASCR1320SBU08005","OK"]
["ASCR","1320","SBU08009",null,"ASCR1320SBU08009","OK"]
["ASCR","1330","GEN00001",null,"ASCR1330GEN00001","OK"]
["ASCR","1330","SBU08005",null,"ASCR1330SBU08005","OK"]
["ASCR","1330","SBU08009",null,"ASCR1330SBU08009","OK"]
["ASIC","1210","GEN00001",null,"ASIC1210GEN00001","OK"]
["ASIC","1210","ITC00001",null,"ASIC1210ITC00001","OK"]
["ASIC","1210","ITC00002",null,"ASIC1210ITC00002","OK"]
["ASIC","1210","ITC00003",null,"ASIC1210ITC00003","OK"]
["ASIC","1210","ITC00004",null,"ASIC1210ITC00004","OK"]
["ASIC","1210","ITC00005",null,"ASIC1210ITC00005","OK"]
["ASIC","1210","ITC00006",null,"ASIC1210ITC00006","OK"]
["ASIC","1210","ITC00007",null,"ASIC1210ITC00007","OK"]
["ASIC","1210","ITC00008",null,"ASIC1210ITC00008","OK"]
["ASIC","1210","ITC00009",null,"ASIC1210ITC00009","OK"]
["ASIC","1210","ITC00010",null,"ASIC1210ITC00010","OK"]
["ASIC","1210","ITC00017",null,"ASIC1210ITC00017","OK"]
["ASIC","1210","ITC00018",null,"ASIC1210ITC00018","OK"]
["ASIC","1210","ITC00019",null,"ASIC1210ITC00019","OK"]
["ASIC","1210","ITC00020",null,"ASIC1210ITC00020","OK"]
["ASIC","1210","ITC00021",null,"ASIC1210ITC00021","OK"]
["ASIC","1210","ITC00022",null,"ASIC1210ITC00022","OK"]
["ASIC","1210","ITC00023",null,"ASIC1210ITC00023","OK"]
["ASIC","1210","ITC00024",null,"ASIC1210ITC00024","OK"]
["ASIC","1300","GEN00001",null,"ASIC1300GEN00001","OK"]
["ASIC","1300","ITC00001",null,"ASIC1300ITC00001","OK"]
["ASIC","1300","ITC00002",null,"ASIC1300ITC00002","OK"]
["ASIC","1300","ITC00003",null,"ASIC1300ITC00003","OK"]
["ASIC","1300","ITC00004",null,"ASIC1300ITC00004","OK"]
["ASIC","1300","ITC00005",null,{"$f":"CONCATENATE(A3100,B3100,C3100)","v":"ASIC1300ITC00005"},"OK"]
["ASIC","1300","ITC00006",null,"ASIC1300ITC00006","OK"]
["ASIC","1300","ITC00007",null,"ASIC1300ITC00007","OK"]
["ASIC","1300","ITC00008",null,"ASIC1300ITC00008","OK"]
["ASIC","1300","ITC00009",null,"ASIC1300ITC00009","OK"]
["ASIC","1300","ITC00010",null,"ASIC1300ITC00010","OK"]
["ASIC","1300","ITC00017",null,"ASIC1300ITC00017","OK"]
["ASIC","1300","ITC00018",null,"ASIC1300ITC00018","OK"]
["ASIC","1300","ITC00019",null,"ASIC1300ITC00019","OK"]
["ASIC","1300","ITC00020",null,"ASIC1300ITC00020","OK"]
["ASIC","1300","ITC00021",null,"ASIC1300ITC00021","OK"]
["ASIC","1300","ITC00022",null,"ASIC1300ITC00022","OK"]
["ASIC","1300","ITC00023",null,"ASIC1300ITC00023","OK"]
["ASIC","1300","ITC00024",null,"ASIC1300ITC00024","OK"]
["ASIC","1310","GEN00001",null,"ASIC1310GEN00001","OK"]
["ASIC","1310","ITC00001",null,"ASIC1310ITC00001","OK"]
["ASIC","1310","ITC00002",null,"ASIC1310ITC00002","OK"]
["ASIC","1310","ITC00003",null,"ASIC1310ITC00003","OK"]
["ASIC","1310","ITC00004",null,"ASIC1310ITC00004","OK"]
["ASIC","1310","ITC00005",null,"ASIC1310ITC00005","OK"]
["ASIC","1310","ITC00006",null,"ASIC1310ITC00006","OK"]
["ASIC","1310","ITC00007",null,"ASIC1310ITC00007","OK"]
["ASIC","1310","ITC00008",null,"ASIC1310ITC00008","OK"]
["ASIC","1310","ITC00009",null,"ASIC1310ITC00009","OK"]
["ASIC","1310","ITC00010",null,"ASIC1310ITC00010","OK"]
["ASIC","1310","ITC00017",null,"ASIC1310ITC00017","OK"]
["ASIC","1310","ITC00018",null,"ASIC1310ITC00018","OK"]
["ASIC","1310","ITC00019",null,"ASIC1310ITC00019","OK"]
["ASIC","1310","ITC00020",null,"ASIC1310ITC00020","OK"]
["ASIC","1310","ITC00021",null,"ASIC1310ITC00021","OK"]
["ASIC","1310","ITC00022",null,"ASIC1310ITC00022","OK"]
["ASIC","1310","ITC00023",null,"ASIC1310ITC00023","OK"]
["ASIC","1310","ITC00024",null,"ASIC1310ITC00024","OK"]
["ASIC","1320","GEN00001",null,"ASIC1320GEN00001","OK"]
["ASIC","1320","ITC00001",null,"ASIC1320ITC00001","OK"]
["ASIC","1320","ITC00002",null,"ASIC1320ITC00002","OK"]
["ASIC","1320","ITC00003",null,"ASIC1320ITC00003","OK"]
["ASIC","1320","ITC00004",null,"ASIC1320ITC00004","OK"]
["ASIC","1320","ITC00005",null,"ASIC1320ITC00005","OK"]
["ASIC","1320","ITC00006",null,"ASIC1320ITC00006","OK"]
["ASIC","1320","ITC00007",null,"ASIC1320ITC00007","OK"]
["ASIC","1320","ITC00008",null,"ASIC1320ITC00008","OK"]
["ASIC","1320","ITC00009",null,"ASIC1320ITC00009","OK"]
["ASIC","1320","ITC00010",null,"ASIC1320ITC00010","OK"]
["ASIC","1320","ITC00017",null,"ASIC1320ITC00017","OK"]
["ASIC","1320","ITC00018",null,"ASIC1320ITC00018","OK"]
["ASIC","1320","ITC00019",null,"ASIC1320ITC00019","OK"]
["ASIC","1320","ITC00020",null,"ASIC1320ITC00020","OK"]
["ASIC","1320","ITC00021",null,"ASIC1320ITC00021","OK"]
["ASIC","1320","ITC00022",null,"ASIC1320ITC00022","OK"]
["ASIC","1320","ITC00023",null,"ASIC1320ITC00023","OK"]
["ASIC","1320","ITC00024",null,"ASIC1320ITC00024","OK"]
["ASIC","1330","GEN00001",null,"ASIC1330GEN00001","OK"]
["ASIC","1330","ITC00001",null,"ASIC1330ITC00001","OK"]
["ASIC","1330","ITC00002",null,"ASIC1330ITC00002","OK"]
["ASIC","1330","ITC00003",null,"ASIC1330ITC00003","OK"]
["ASIC","1330","ITC00004",null,"ASIC1330ITC00004","OK"]
["ASIC","1330","ITC00005",null,"ASIC1330ITC00005","OK"]
["ASIC","1330","ITC00006",null,"ASIC1330ITC00006","OK"]
["ASIC","1330","ITC00007",null,"ASIC1330ITC00007","OK"]
["ASIC","1330","ITC00008",null,"ASIC1330ITC00008","OK"]
["ASIC","1330","ITC00009",null,"ASIC1330ITC00009","OK"]
["ASIC","1330","ITC00010",null,"ASIC1330ITC00010","OK"]
["ASIC","1330","ITC00017",null,"ASIC1330ITC00017","OK"]
["ASIC","1330","ITC00018",null,{"$f":"CONCATENATE(A3164,B3164,C3164)","v":"ASIC1330ITC00018"},"OK"]
["ASIC","1330","ITC00019",null,"ASIC1330ITC00019","OK"]
["ASIC","1330","ITC00020",null,"ASIC1330ITC00020","OK"]
["ASIC","1330","ITC00021",null,"ASIC1330ITC00021","OK"]
["ASIC","1330","ITC00022",null,"ASIC1330ITC00022","OK"]
["ASIC","1330","ITC00023",null,"ASIC1330ITC00023","OK"]
["ASIC","1330","ITC00024",null,"ASIC1330ITC00024","OK"]
["ASIR","1210","GEN00001",null,"ASIR1210GEN00001","OK"]
["ASIR","1210","ITC00001",null,"ASIR1210ITC00001","OK"]
["ASIR","1210","ITC00002",null,"ASIR1210ITC00002","OK"]
["ASIR","1210","ITC00003",null,"ASIR1210ITC00003","OK"]
["ASIR","1210","ITC00004",null,"ASIR1210ITC00004","OK"]
["ASIR","1210","ITC00005",null,"ASIR1210ITC00005","OK"]
["ASIR","1210","ITC00006",null,"ASIR1210ITC00006","OK"]
["ASIR","1210","ITC00007",null,"ASIR1210ITC00007","OK"]
["ASIR","1210","ITC00008",null,"ASIR1210ITC00008","OK"]
["ASIR","1210","ITC00009",null,"ASIR1210ITC00009","OK"]
["ASIR","1210","ITC00010",null,"ASIR1210ITC00010","OK"]
["ASIR","1210","ITC00017",null,"ASIR1210ITC00017","OK"]
["ASIR","1210","ITC00018",null,"ASIR1210ITC00018","OK"]
["ASIR","1210","ITC00019",null,"ASIR1210ITC00019","OK"]
["ASIR","1210","ITC00020",null,"ASIR1210ITC00020","OK"]
["ASIR","1210","ITC00021",null,"ASIR1210ITC00021","OK"]
["ASIR","1210","ITC00022",null,"ASIR1210ITC00022","OK"]
["ASIR","1210","ITC00023",null,"ASIR1210ITC00023","OK"]
["ASIR","1210","ITC00024",null,"ASIR1210ITC00024","OK"]
["ASIR","1300","GEN00001",null,"ASIR1300GEN00001","OK"]
["ASIR","1300","ITC00001",null,"ASIR1300ITC00001","OK"]
["ASIR","1300","ITC00002",null,"ASIR1300ITC00002","OK"]
["ASIR","1300","ITC00003",null,"ASIR1300ITC00003","OK"]
["ASIR","1300","ITC00004",null,"ASIR1300ITC00004","OK"]
["ASIR","1300","ITC00005",null,"ASIR1300ITC00005","OK"]
["ASIR","1300","ITC00006",null,"ASIR1300ITC00006","OK"]
["ASIR","1300","ITC00007",null,"ASIR1300ITC00007","OK"]
["ASIR","1300","ITC00008",null,"ASIR1300ITC00008","OK"]
["ASIR","1300","ITC00009",null,"ASIR1300ITC00009","OK"]
["ASIR","1300","ITC00010",null,"ASIR1300ITC00010","OK"]
["ASIR","1300","ITC00017",null,"ASIR1300ITC00017","OK"]
["ASIR","1300","ITC00018",null,"ASIR1300ITC00018","OK"]
["ASIR","1300","ITC00019",null,"ASIR1300ITC00019","OK"]
["ASIR","1300","ITC00020",null,"ASIR1300ITC00020","OK"]
["ASIR","1300","ITC00021",null,"ASIR1300ITC00021","OK"]
["ASIR","1300","ITC00022",null,"ASIR1300ITC00022","OK"]
["ASIR","1300","ITC00023",null,"ASIR1300ITC00023","OK"]
["ASIR","1300","ITC00024",null,"ASIR1300ITC00024","OK"]
["ASIR","1310","GEN00001",null,"ASIR1310GEN00001","OK"]
["ASIR","1310","ITC00001",null,"ASIR1310ITC00001","OK"]
["ASIR","1310","ITC00002",null,"ASIR1310ITC00002","OK"]
["ASIR","1310","ITC00003",null,"ASIR1310ITC00003","OK"]
["ASIR","1310","ITC00004",null,"ASIR1310ITC00004","OK"]
["ASIR","1310","ITC00005",null,"ASIR1310ITC00005","OK"]
["ASIR","1310","ITC00006",null,"ASIR1310ITC00006","OK"]
["ASIR","1310","ITC00007",null,"ASIR1310ITC00007","OK"]
["ASIR","1310","ITC00008",null,"ASIR1310ITC00008","OK"]
["ASIR","1310","ITC00009",null,"ASIR1310ITC00009","OK"]
["ASIR","1310","ITC00010",null,"ASIR1310ITC00010","OK"]
["ASIR","1310","ITC00017",null,"ASIR1310ITC00017","OK"]
["ASIR","1310","ITC00018",null,"ASIR1310ITC00018","OK"]
["ASIR","1310","ITC00019",null,"ASIR1310ITC00019","OK"]
["ASIR","1310","ITC00020",null,"ASIR1310ITC00020","OK"]
["ASIR","1310","ITC00021",null,"ASIR1310ITC00021","OK"]
["ASIR","1310","ITC00022",null,"ASIR1310ITC00022","OK"]
["ASIR","1310","ITC00023",null,"ASIR1310ITC00023","OK"]
["ASIR","1310","ITC00024",null,"ASIR1310ITC00024","OK"]
["ASIR","1320","GEN00001",null,{"$f":"CONCATENATE(A3228,B3228,C3228)","v":"ASIR1320GEN00001"},"OK"]
["ASIR","1320","ITC00001",null,"ASIR1320ITC00001","OK"]
["ASIR","1320","ITC00002",null,"ASIR1320ITC00002","OK"]
["ASIR","1320","ITC00003",null,"ASIR1320ITC00003","OK"]
["ASIR","1320","ITC00004",null,"ASIR1320ITC00004","OK"]
["ASIR","1320","ITC00005",null,"ASIR1320ITC00005","OK"]
["ASIR","1320","ITC00006",null,"ASIR1320ITC00006","OK"]
["ASIR","1320","ITC00007",null,"ASIR1320ITC00007","OK"]
["ASIR","1320","ITC00008",null,"ASIR1320ITC00008","OK"]
["ASIR","1320","ITC00009",null,"ASIR1320ITC00009","OK"]
["ASIR","1320","ITC00010",null,"ASIR1320ITC00010","OK"]
["ASIR","1320","ITC00017",null,"ASIR1320ITC00017","OK"]
["ASIR","1320","ITC00018",null,"ASIR1320ITC00018","OK"]
["ASIR","1320","ITC00019",null,"ASIR1320ITC00019","OK"]
["ASIR","1320","ITC00020",null,"ASIR1320ITC00020","OK"]
["ASIR","1320","ITC00021",null,"ASIR1320ITC00021","OK"]
["ASIR","1320","ITC00022",null,"ASIR1320ITC00022","OK"]
["ASIR","1320","ITC00023",null,"ASIR1320ITC00023","OK"]
["ASIR","1320","ITC00024",null,"ASIR1320ITC00024","OK"]
["ASIR","1330","GEN00001",null,"ASIR1330GEN00001","OK"]
["ASIR","1330","ITC00001",null,"ASIR1330ITC00001","OK"]
["ASIR","1330","ITC00002",null,"ASIR1330ITC00002","OK"]
["ASIR","1330","ITC00003",null,"ASIR1330ITC00003","OK"]
["ASIR","1330","ITC00004",null,"ASIR1330ITC00004","OK"]
["ASIR","1330","ITC00005",null,"ASIR1330ITC00005","OK"]
["ASIR","1330","ITC00006",null,"ASIR1330ITC00006","OK"]
["ASIR","1330","ITC00007",null,"ASIR1330ITC00007","OK"]
["ASIR","1330","ITC00008",null,"ASIR1330ITC00008","OK"]
["ASIR","1330","ITC00009",null,"ASIR1330ITC00009","OK"]
["ASIR","1330","ITC00010",null,"ASIR1330ITC00010","OK"]
["ASIR","1330","ITC00017",null,"ASIR1330ITC00017","OK"]
["ASIR","1330","ITC00018",null,"ASIR1330ITC00018","OK"]
["ASIR","1330","ITC00019",null,"ASIR1330ITC00019","OK"]
["ASIR","1330","ITC00020",null,"ASIR1330ITC00020","OK"]
["ASIR","1330","ITC00021",null,"ASIR1330ITC00021","OK"]
["ASIR","1330","ITC00022",null,"ASIR1330ITC00022","OK"]
["ASIR","1330","ITC00023",null,"ASIR1330ITC00023","OK"]
["ASIR","1330","ITC00024",null,"ASIR1330ITC00024","OK"]
["ASIT","1210","GEN00001",null,"ASIT1210GEN00001","OK"]
["ASIT","1300","GEN00001",null,"ASIT1300GEN00001","OK"]
["ASIT","1310","GEN00001",null,"ASIT1310GEN00001","OK"]
["ASIT","1320","GEN00001",null,"ASIT1320GEN00001","OK"]
["ASIT","1330","GEN00001",null,"ASIT1330GEN00001","OK"]
["ASLI","1199","GEN00001",null,"ASLI1199GEN00001","OK"]
["ASLI","1199","LIB00001",null,"ASLI1199LIB00001","OK"]
["ASLI","1199","LIB00002",null,"ASLI1199LIB00002","OK"]
["ASLI","1199","LTC00001",null,"ASLI1199LTC00001","OK"]
["ASLI","1199","LTR00001",null,"ASLI1199LTR00001","OK"]
["ASLI","1199","TDA00016",null,"ASLI1199TDA00016","OK"]
["ASLI","1300","GEN00001",null,"ASLI1300GEN00001","OK"]
["ASLI","1300","LIB00001",null,"ASLI1300LIB00001","OK"]
["ASLI","1300","LIB00002",null,"ASLI1300LIB00002","OK"]
["ASLI","1300","LTC00001",null,"ASLI1300LTC00001","OK"]
["ASLI","1300","LTR00001",null,"ASLI1300LTR00001","OK"]
["ASLI","1300","TDA00016",null,"ASLI1300TDA00016","OK"]
["ASLI","1310","GEN00001",null,"ASLI1310GEN00001","OK"]
["ASLI","1310","LIB00001",null,"ASLI1310LIB00001","OK"]
["ASLI","1310","LIB00002",null,"ASLI1310LIB00002","OK"]
["ASLI","1310","LTC00001",null,"ASLI1310LTC00001","OK"]
["ASLI","1310","LTR00001",null,"ASLI1310LTR00001","OK"]
["ASLI","1310","TDA00016",null,"ASLI1310TDA00016","OK"]
["ASLI","1320","GEN00001",null,"ASLI1320GEN00001","OK"]
["ASLI","1320","LIB00001",null,"ASLI1320LIB00001","OK"]
["ASLI","1320","LIB00002",null,"ASLI1320LIB00002","OK"]
["ASLI","1320","LTC00001",null,{"$f":"CONCATENATE(A3292,B3292,C3292)","v":"ASLI1320LTC00001"},"OK"]
["ASLI","1320","LTR00001",null,"ASLI1320LTR00001","OK"]
["ASLI","1320","TDA00016",null,"ASLI1320TDA00016","OK"]
["ASLI","1330","GEN00001",null,"ASLI1330GEN00001","OK"]
["ASLI","1330","LIB00001",null,"ASLI1330LIB00001","OK"]
["ASLI","1330","LIB00002",null,"ASLI1330LIB00002","OK"]
["ASLI","1330","LTC00001",null,"ASLI1330LTC00001","OK"]
["ASLI","1330","LTR00001",null,"ASLI1330LTR00001","OK"]
["ASLI","1330","TDA00016",null,"ASLI1330TDA00016","OK"]
["ASPT","1210","GEN00001",null,"ASPT1210GEN00001","OK"]
["ASPT","1300","GEN00001",null,"ASPT1300GEN00001","OK"]
["ASPT","1310","GEN00001",null,"ASPT1310GEN00001","OK"]
["ASPT","1320","GEN00001",null,"ASPT1320GEN00001","OK"]
["ASPT","1330","GEN00001",null,"ASPT1330GEN00001","OK"]
["GEIR","1199","GEN00001",null,"GEIR1199GEN00001","OK"]
["GEIR","1199","IRU01000",null,"GEIR1199IRU01000","OK"]
["GEIR","1199","SRE02000",null,"GEIR1199SRE02000","OK"]
["GEIR","1199","SRE02010",null,"GEIR1199SRE02010","OK"]
["GEIR","1199","SRE02020",null,"GEIR1199SRE02020","OK"]
["GEIR","1199","TUR01000",null,"GEIR1199TUR01000","OK"]
["GEIR","1300","GEN00001",null,"GEIR1300GEN00001","OK"]
["GEIR","1300","IRU01000",null,"GEIR1300IRU01000","OK"]
["GEIR","1300","SRE02000",null,"GEIR1300SRE02000","OK"]
["GEIR","1300","SRE02010",null,"GEIR1300SRE02010","OK"]
["GEIR","1300","SRE02020",null,"GEIR1300SRE02020","OK"]
["GEIR","1300","TUR01000",null,"GEIR1300TUR01000","OK"]
["GEIR","1310","GEN00001",null,"GEIR1310GEN00001","OK"]
["GEIR","1310","IRU01000",null,"GEIR1310IRU01000","OK"]
["GEIR","1310","SRE02000",null,"GEIR1310SRE02000","OK"]
["GEIR","1310","SRE02010",null,"GEIR1310SRE02010","OK"]
["GEIR","1310","SRE02020",null,"GEIR1310SRE02020","OK"]
["GEIR","1310","TUR01000",null,"GEIR1310TUR01000","OK"]
["GEIR","1320","GEN00001",null,"GEIR1320GEN00001","OK"]
["GEIR","1320","IRU01000",null,"GEIR1320IRU01000","OK"]
["GEIR","1320","SRE02000",null,"GEIR1320SRE02000","OK"]
["GEIR","1320","SRE02010",null,"GEIR1320SRE02010","OK"]
["GEIR","1320","SRE02020",null,"GEIR1320SRE02020","OK"]
["GEIR","1320","TUR01000",null,"GEIR1320TUR01000","OK"]
["GEIR","1330","GEN00001",null,"GEIR1330GEN00001","OK"]
["GEIR","1330","IRU01000",null,"GEIR1330IRU01000","OK"]
["GEIR","1330","SRE02000",null,"GEIR1330SRE02000","OK"]
["GEIR","1330","SRE02010",null,"GEIR1330SRE02010","OK"]
["GEIR","1330","SRE02020",null,"GEIR1330SRE02020","OK"]
["GEIR","1330","TUR01000",null,"GEIR1330TUR01000","OK"]
["OICB","1100","CFG00001",null,"OICB1100CFG00001","OK"]
["OICB","1100","CFG00002",null,"OICB1100CFG00002","OK"]
["OICB","1100","CRC00001",null,"OICB1100CRC00001","OK"]
["OICB","1100","GEN00001",null,"OICB1100GEN00001","OK"]
["OICB","1100","RET00001",null,"OICB1100RET00001","OK"]
["OICB","1100","SBU05001",null,"OICB1100SBU05001","OK"]
["OICB","1100","SBU05002",null,"OICB1100SBU05002","OK"]
["OICB","1100","SBU05003",null,"OICB1100SBU05003","OK"]
["OICB","1100","SBU05004",null,{"$f":"CONCATENATE(A3344,B3344,C3344)","v":"OICB1100SBU05004"},"OK"]
["OICB","1100","SBU05005",null,"OICB1100SBU05005","OK"]
["OICB","1100","SBU05006",null,"OICB1100SBU05006","OK"]
["OICB","1100","SBU05007",null,"OICB1100SBU05007","OK"]
["OICB","1100","SBU05008",null,"OICB1100SBU05008","OK"]
["OICB","1100","SBU05009",null,"OICB1100SBU05009","OK"]
["OICB","1100","SBU05010",null,"OICB1100SBU05010","OK"]
["OICB","1100","SBU05011",null,"OICB1100SBU05011","OK"]
["OICB","1100","SBU05012",null,"OICB1100SBU05012","OK"]
["OICB","1100","SBU05013",null,"OICB1100SBU05013","OK"]
["OICB","1199","CFG00001",null,"OICB1199CFG00001","OK"]
["OICB","1199","CFG00002",null,"OICB1199CFG00002","OK"]
["OICB","1199","CRC00001",null,"OICB1199CRC00001","OK"]
["OICB","1199","GEN00001",null,"OICB1199GEN00001","OK"]
["OICB","1199","RET00001",null,"OICB1199RET00001","OK"]
["OICB","1199","SBU05001",null,"OICB1199SBU05001","OK"]
["OICB","1199","SBU05002",null,"OICB1199SBU05002","OK"]
["OICB","1199","SBU05003",null,"OICB1199SBU05003","OK"]
["OICB","1199","SBU05004",null,"OICB1199SBU05004","OK"]
["OICB","1199","SBU05005",null,"OICB1199SBU05005","OK"]
["OICB","1199","SBU05006",null,"OICB1199SBU05006","OK"]
["OICB","1199","SBU05007",null,"OICB1199SBU05007","OK"]
["OICB","1199","SBU05008",null,"OICB1199SBU05008","OK"]
["OICB","1199","SBU05009",null,"OICB1199SBU05009","OK"]
["OICB","1199","SBU05010",null,"OICB1199SBU05010","OK"]
["OICB","1199","SBU05011",null,"OICB1199SBU05011","OK"]
["OICB","1199","SBU05012",null,"OICB1199SBU05012","OK"]
["OICB","1199","SBU05013",null,"OICB1199SBU05013","OK"]
["OICB","1210","CFG00001",null,"OICB1210CFG00001","OK"]
["OICB","1210","CFG00002",null,"OICB1210CFG00002","OK"]
["OICB","1210","CRC00001",null,"OICB1210CRC00001","OK"]
["OICB","1210","GEN00001",null,"OICB1210GEN00001","OK"]
["OICB","1210","RET00001",null,"OICB1210RET00001","OK"]
["OICB","1210","SBU05001",null,"OICB1210SBU05001","OK"]
["OICB","1210","SBU05002",null,"OICB1210SBU05002","OK"]
["OICB","1210","SBU05003",null,"OICB1210SBU05003","OK"]
["OICB","1210","SBU05004",null,"OICB1210SBU05004","OK"]
["OICB","1210","SBU05005",null,"OICB1210SBU05005","OK"]
["OICB","1210","SBU05006",null,"OICB1210SBU05006","OK"]
["OICB","1210","SBU05007",null,"OICB1210SBU05007","OK"]
["OICB","1210","SBU05008",null,"OICB1210SBU05008","OK"]
["OICB","1210","SBU05009",null,"OICB1210SBU05009","OK"]
["OICB","1210","SBU05010",null,"OICB1210SBU05010","OK"]
["OICB","1210","SBU05011",null,"OICB1210SBU05011","OK"]
["OICB","1210","SBU05012",null,"OICB1210SBU05012","OK"]
["OICB","1210","SBU05013",null,"OICB1210SBU05013","OK"]
["OICB","1330","CFG00001",null,"OICB1330CFG00001","OK"]
["OICB","1330","CFG00002",null,"OICB1330CFG00002","OK"]
["OICB","1330","CRC00001",null,"OICB1330CRC00001","OK"]
["OICB","1330","GEN00001",null,"OICB1330GEN00001","OK"]
["OICB","1330","RET00001",null,"OICB1330RET00001","OK"]
["OICB","1330","SBU05001",null,"OICB1330SBU05001","OK"]
["OICB","1330","SBU05002",null,"OICB1330SBU05002","OK"]
["OICB","1330","SBU05003",null,"OICB1330SBU05003","OK"]
["OICB","1330","SBU05004",null,"OICB1330SBU05004","OK"]
["OICB","1330","SBU05005",null,"OICB1330SBU05005","OK"]
["OICB","1330","SBU05006",null,"OICB1330SBU05006","OK"]
["OICB","1330","SBU05007",null,"OICB1330SBU05007","OK"]
["OICB","1330","SBU05008",null,"OICB1330SBU05008","OK"]
["OICB","1330","SBU05009",null,"OICB1330SBU05009","OK"]
["OICB","1330","SBU05010",null,"OICB1330SBU05010","OK"]
["OICB","1330","SBU05011",null,"OICB1330SBU05011","OK"]
["OICB","1330","SBU05012",null,"OICB1330SBU05012","OK"]
["OICB","1330","SBU05013",null,"OICB1330SBU05013","OK"]
["OICB","1600","CFG00001",null,{"$f":"CONCATENATE(A3408,B3408,C3408)","v":"OICB1600CFG00001"},"OK"]
["OICB","1600","CFG00002",null,"OICB1600CFG00002","OK"]
["OICB","1600","CRC00001",null,"OICB1600CRC00001","OK"]
["OICB","1600","GEN00001",null,"OICB1600GEN00001","OK"]
["OICB","1600","RET00001",null,"OICB1600RET00001","OK"]
["OICB","1600","SBU05001",null,"OICB1600SBU05001","OK"]
["OICB","1600","SBU05002",null,"OICB1600SBU05002","OK"]
["OICB","1600","SBU05003",null,"OICB1600SBU05003","OK"]
["OICB","1600","SBU05004",null,"OICB1600SBU05004","OK"]
["OICB","1600","SBU05005",null,"OICB1600SBU05005","OK"]
["OICB","1600","SBU05006",null,"OICB1600SBU05006","OK"]
["OICB","1600","SBU05007",null,"OICB1600SBU05007","OK"]
["OICB","1600","SBU05008",null,"OICB1600SBU05008","OK"]
["OICB","1600","SBU05009",null,"OICB1600SBU05009","OK"]
["OICB","1600","SBU05010",null,"OICB1600SBU05010","OK"]
["OICB","1600","SBU05011",null,"OICB1600SBU05011","OK"]
["OICB","1600","SBU05012",null,"OICB1600SBU05012","OK"]
["OICB","1600","SBU05013",null,"OICB1600SBU05013","OK"]
["OICB","1601","CFG00001",null,"OICB1601CFG00001","OK"]
["OICB","1601","CFG00002",null,"OICB1601CFG00002","OK"]
["OICB","1601","CRC00001",null,"OICB1601CRC00001","OK"]
["OICB","1601","GEN00001",null,"OICB1601GEN00001","OK"]
["OICB","1601","RET00001",null,"OICB1601RET00001","OK"]
["OICB","1601","SBU05001",null,"OICB1601SBU05001","OK"]
["OICB","1601","SBU05002",null,"OICB1601SBU05002","OK"]
["OICB","1601","SBU05003",null,"OICB1601SBU05003","OK"]
["OICB","1601","SBU05004",null,"OICB1601SBU05004","OK"]
["OICB","1601","SBU05005",null,"OICB1601SBU05005","OK"]
["OICB","1601","SBU05006",null,"OICB1601SBU05006","OK"]
["OICB","1601","SBU05007",null,"OICB1601SBU05007","OK"]
["OICB","1601","SBU05008",null,"OICB1601SBU05008","OK"]
["OICB","1601","SBU05009",null,"OICB1601SBU05009","OK"]
["OICB","1601","SBU05010",null,"OICB1601SBU05010","OK"]
["OICB","1601","SBU05011",null,"OICB1601SBU05011","OK"]
["OICB","1601","SBU05012",null,"OICB1601SBU05012","OK"]
["OICB","1601","SBU05013",null,"OICB1601SBU05013","OK"]
["OICB","1300","CFG00001",null,"OICB1300CFG00001","OK"]
["OICB","1300","CFG00002",null,"OICB1300CFG00002","OK"]
["OICB","1300","CRC00001",null,"OICB1300CRC00001","OK"]
["OICB","1300","GEN00001",null,"OICB1300GEN00001","OK"]
["OICB","1300","RET00001",null,"OICB1300RET00001","OK"]
["OICB","1300","SBU05001",null,"OICB1300SBU05001","OK"]
["OICB","1300","SBU05002",null,"OICB1300SBU05002","OK"]
["OICB","1300","SBU05003",null,"OICB1300SBU05003","OK"]
["OICB","1300","SBU05004",null,"OICB1300SBU05004","OK"]
["OICB","1300","SBU05005",null,"OICB1300SBU05005","OK"]
["OICB","1300","SBU05006",null,"OICB1300SBU05006","OK"]
["OICB","1300","SBU05007",null,"OICB1300SBU05007","OK"]
["OICB","1300","SBU05008",null,"OICB1300SBU05008","OK"]
["OICB","1300","SBU05009",null,"OICB1300SBU05009","OK"]
["OICB","1300","SBU05010",null,"OICB1300SBU05010","OK"]
["OICB","1300","SBU05011",null,"OICB1300SBU05011","OK"]
["OICB","1300","SBU05012",null,"OICB1300SBU05012","OK"]
["OICB","1300","SBU05013",null,"OICB1300SBU05013","OK"]
["OICB","1310","CFG00001",null,"OICB1310CFG00001","OK"]
["OICB","1310","CFG00002",null,"OICB1310CFG00002","OK"]
["OICB","1310","CRC00001",null,"OICB1310CRC00001","OK"]
["OICB","1310","GEN00001",null,"OICB1310GEN00001","OK"]
["OICB","1310","RET00001",null,"OICB1310RET00001","OK"]
["OICB","1310","SBU05001",null,"OICB1310SBU05001","OK"]
["OICB","1310","SBU05002",null,"OICB1310SBU05002","OK"]
["OICB","1310","SBU05003",null,"OICB1310SBU05003","OK"]
["OICB","1310","SBU05004",null,"OICB1310SBU05004","OK"]
["OICB","1310","SBU05005",null,"OICB1310SBU05005","OK"]
["OICB","1310","SBU05006",null,{"$f":"CONCATENATE(A3472,B3472,C3472)","v":"OICB1310SBU05006"},"OK"]
["OICB","1310","SBU05007",null,"OICB1310SBU05007","OK"]
["OICB","1310","SBU05008",null,"OICB1310SBU05008","OK"]
["OICB","1310","SBU05009",null,"OICB1310SBU05009","OK"]
["OICB","1310","SBU05010",null,"OICB1310SBU05010","OK"]
["OICB","1310","SBU05011",null,"OICB1310SBU05011","OK"]
["OICB","1310","SBU05012",null,"OICB1310SBU05012","OK"]
["OICB","1310","SBU05013",null,"OICB1310SBU05013","OK"]
["OICB","1320","CFG00001",null,"OICB1320CFG00001","OK"]
["OICB","1320","CFG00002",null,"OICB1320CFG00002","OK"]
["OICB","1320","CRC00001",null,"OICB1320CRC00001","OK"]
["OICB","1320","GEN00001",null,"OICB1320GEN00001","OK"]
["OICB","1320","RET00001",null,"OICB1320RET00001","OK"]
["OICB","1320","SBU05001",null,"OICB1320SBU05001","OK"]
["OICB","1320","SBU05002",null,"OICB1320SBU05002","OK"]
["OICB","1320","SBU05003",null,"OICB1320SBU05003","OK"]
["OICB","1320","SBU05004",null,"OICB1320SBU05004","OK"]
["OICB","1320","SBU05005",null,"OICB1320SBU05005","OK"]
["OICB","1320","SBU05006",null,"OICB1320SBU05006","OK"]
["OICB","1320","SBU05007",null,"OICB1320SBU05007","OK"]
["OICB","1320","SBU05008",null,"OICB1320SBU05008","OK"]
["OICB","1320","SBU05009",null,"OICB1320SBU05009","OK"]
["OICB","1320","SBU05010",null,"OICB1320SBU05010","OK"]
["OICB","1320","SBU05011",null,"OICB1320SBU05011","OK"]
["OICB","1320","SBU05012",null,"OICB1320SBU05012","OK"]
["OICB","1320","SBU05013",null,"OICB1320SBU05013","OK"]
["OIHM","1110","GEN00001",null,"OIHM1110GEN00001","OK"]
["OIHM","1110","IMP02324",null,"OIHM1110IMP02324","OK"]
["OIHM","1110","IMP02425",null,"OIHM1110IMP02425","OK"]
["OIHM","1120","GEN00001",null,"OIHM1120GEN00001","OK"]
["OIHM","1120","IMP02324",null,"OIHM1120IMP02324","OK"]
["OIHM","1120","IMP02425",null,"OIHM1120IMP02425","OK"]
["OIHM","1121","GEN00001",null,"OIHM1121GEN00001","OK"]
["OIHM","1121","IMP02324",null,"OIHM1121IMP02324","OK"]
["OIHM","1121","IMP02425",null,"OIHM1121IMP02425","OK"]
["OIHM","1188","GEN00001",null,"OIHM1188GEN00001","OK"]
["OIHM","1188","IMP02324",null,"OIHM1188IMP02324","OK"]
["OIHM","1188","IMP02425",null,"OIHM1188IMP02425","OK"]
["OIHM","1199","GEN00001",null,"OIHM1199GEN00001","OK"]
["OIHM","1199","IMP02324",null,"OIHM1199IMP02324","OK"]
["OIHM","1199","IMP02425",null,"OIHM1199IMP02425","OK"]
["OIHM","1300","GEN00001",null,"OIHM1300GEN00001","OK"]
["OIHM","1300","IMP02324",null,"OIHM1300IMP02324","OK"]
["OIHM","1300","IMP02425",null,"OIHM1300IMP02425","OK"]
["OIHM","1310","GEN00001",null,"OIHM1310GEN00001","OK"]
["OIHM","1310","IMP02324",null,"OIHM1310IMP02324","OK"]
["OIHM","1310","IMP02425",null,"OIHM1310IMP02425","OK"]
["OIHM","1320","GEN00001",null,"OIHM1320GEN00001","OK"]
["OIHM","1320","IMP02324",null,"OIHM1320IMP02324","OK"]
["OIHM","1320","IMP02425",null,"OIHM1320IMP02425","OK"]
["OIHM","1330","GEN00001",null,"OIHM1330GEN00001","OK"]
["OIHM","1330","IMP02324",null,"OIHM1330IMP02324","OK"]
["OIHM","1330","IMP02425",null,"OIHM1330IMP02425","OK"]
["OIPC","1188","GEN00001",null,"OIPC1188GEN00001","OK"]
["OIPC","1188","SBU02001",null,"OIPC1188SBU02001","OK"]
["OIPC","1300","GEN00001",null,"OIPC1300GEN00001","OK"]
["OIPC","1300","SBU02001",null,"OIPC1300SBU02001","OK"]
["OIPC","1310","GEN00001",null,"OIPC1310GEN00001","OK"]
["OIPC","1310","SBU02001",null,"OIPC1310SBU02001","OK"]
["OIPC","1320","GEN00001",null,"OIPC1320GEN00001","OK"]
["OIPC","1320","SBU02001",null,"OIPC1320SBU02001","OK"]
["OIPC","1330","GEN00001",null,"OIPC1330GEN00001","OK"]
["OIPC","1330","SBU02001",null,"OIPC1330SBU02001","OK"]
["OSAV","1188","CON00005",null,"OSAV1188CON00005","OK"]
["OSAV","1188","DIS00001",null,{"$f":"CONCATENATE(A3536,B3536,C3536)","v":"OSAV1188DIS00001"},"OK"]
["OSAV","1188","ERP02014",null,"OSAV1188ERP02014","OK"]
["OSAV","1188","GEN00001",null,"OSAV1188GEN00001","OK"]
["OSAV","1188","IMB00001",null,"OSAV1188IMB00001","OK"]
["OSAV","1188","LTC00001",null,"OSAV1188LTC00001","OK"]
["OSAV","1199","CON00005",null,"OSAV1199CON00005","OK"]
["OSAV","1199","DIS00001",null,"OSAV1199DIS00001","OK"]
["OSAV","1199","ERP02014",null,"OSAV1199ERP02014","OK"]
["OSAV","1199","GEN00001",null,"OSAV1199GEN00001","OK"]
["OSAV","1199","IMB00001",null,"OSAV1199IMB00001","OK"]
["OSAV","1199","LTC00001",null,"OSAV1199LTC00001","OK"]
["OSAV","1300","CON00005",null,"OSAV1300CON00005","OK"]
["OSAV","1300","DIS00001",null,"OSAV1300DIS00001","OK"]
["OSAV","1300","ERP02014",null,"OSAV1300ERP02014","OK"]
["OSAV","1300","GEN00001",null,"OSAV1300GEN00001","OK"]
["OSAV","1300","IMB00001",null,"OSAV1300IMB00001","OK"]
["OSAV","1300","LTC00001",null,"OSAV1300LTC00001","OK"]
["OSAV","1310","CON00005",null,"OSAV1310CON00005","OK"]
["OSAV","1310","DIS00001",null,"OSAV1310DIS00001","OK"]
["OSAV","1310","ERP02014",null,"OSAV1310ERP02014","OK"]
["OSAV","1310","GEN00001",null,"OSAV1310GEN00001","OK"]
["OSAV","1310","IMB00001",null,"OSAV1310IMB00001","OK"]
["OSAV","1310","LTC00001",null,"OSAV1310LTC00001","OK"]
["OSAV","1320","CON00005",null,"OSAV1320CON00005","OK"]
["OSAV","1320","DIS00001",null,"OSAV1320DIS00001","OK"]
["OSAV","1320","ERP02014",null,"OSAV1320ERP02014","OK"]
["OSAV","1320","GEN00001",null,"OSAV1320GEN00001","OK"]
["OSAV","1320","IMB00001",null,"OSAV1320IMB00001","OK"]
["OSAV","1320","LTC00001",null,"OSAV1320LTC00001","OK"]
["OSAV","1330","CON00005",null,"OSAV1330CON00005","OK"]
["OSAV","1330","DIS00001",null,"OSAV1330DIS00001","OK"]
["OSAV","1330","ERP02014",null,"OSAV1330ERP02014","OK"]
["OSAV","1330","GEN00001",null,"OSAV1330GEN00001","OK"]
["OSAV","1330","IMB00001",null,"OSAV1330IMB00001","OK"]
["OSAV","1330","LTC00001",null,"OSAV1330LTC00001","OK"]
["OSES","1130","BEL00001",null,"OSES1130BEL00001","OK"]
["OSES","1130","GEN00001",null,"OSES1130GEN00001","OK"]
["OSES","1130","SAD01000",null,"OSES1130SAD01000","OK"]
["OSES","1130","SAD01040",null,"OSES1130SAD01040","OK"]
["OSES","1135","BEL00001",null,"OSES1135BEL00001","OK"]
["OSES","1135","GEN00001",null,"OSES1135GEN00001","OK"]
["OSES","1135","SAD01000",null,"OSES1135SAD01000","OK"]
["OSES","1135","SAD01040",null,"OSES1135SAD01040","OK"]
["OSES","1199","BEL00001",null,"OSES1199BEL00001","OK"]
["OSES","1199","GEN00001",null,"OSES1199GEN00001","OK"]
["OSES","1199","SAD01000",null,"OSES1199SAD01000","OK"]
["OSES","1199","SAD01040",null,"OSES1199SAD01040","OK"]
["OSES","1300","BEL00001",null,"OSES1300BEL00001","OK"]
["OSES","1300","GEN00001",null,"OSES1300GEN00001","OK"]
["OSES","1300","SAD01000",null,"OSES1300SAD01000","OK"]
["OSES","1300","SAD01040",null,"OSES1300SAD01040","OK"]
["OSES","1310","BEL00001",null,"OSES1310BEL00001","OK"]
["OSES","1310","GEN00001",null,"OSES1310GEN00001","OK"]
["OSES","1310","SAD01000",null,"OSES1310SAD01000","OK"]
["OSES","1310","SAD01040",null,"OSES1310SAD01040","OK"]
["OSES","1320","BEL00001",null,"OSES1320BEL00001","OK"]
["OSES","1320","GEN00001",null,"OSES1320GEN00001","OK"]
["OSES","1320","SAD01000",null,"OSES1320SAD01000","OK"]
["OSES","1320","SAD01040",null,"OSES1320SAD01040","OK"]
["OSES","1330","BEL00001",null,"OSES1330BEL00001","OK"]
["OSES","1330","GEN00001",null,"OSES1330GEN00001","OK"]
["OSES","1330","SAD01000",null,"OSES1330SAD01000","OK"]
["OSES","1330","SAD01040",null,"OSES1330SAD01040","OK"]
["OSGH","1310","SLA00001",null,"OSGH1310SLA00001","OK"]
["OSGH","1320","SLA00001",null,{"$f":"CONCATENATE(A3600,B3600,C3600)","v":"OSGH1320SLA00001"},"OK"]
["OSGH","1330","SLA00001",null,"OSGH1330SLA00001","OK"]
["OSGH","1300","SLA00001",null,"OSGH1300SLA00001","OK"]
["OSGR","1300","GEN00001",null,"OSGR1300GEN00001","OK"]
["OSGR","1300","MAR00002",null,"OSGR1300MAR00002","OK"]
["OSGR","1310","GEN00001",null,"OSGR1310GEN00001","OK"]
["OSGR","1310","MAR00002",null,"OSGR1310MAR00002","OK"]
["OSGR","1320","GEN00001",null,"OSGR1320GEN00001","OK"]
["OSGR","1320","MAR00002",null,"OSGR1320MAR00002","OK"]
["OSGR","1330","GEN00001",null,"OSGR1330GEN00001","OK"]
["OSGR","1330","MAR00002",null,"OSGR1330MAR00002","OK"]
["OSIN","1120","INI00052",null,"OSIN1120INI00052","OK"]
["OSIN","1120","INI01000",null,"OSIN1120INI01000","OK"]
["OSIN","1310","INI00052",null,"OSIN1310INI00052","OK"]
["OSIN","1310","INI01000",null,"OSIN1310INI01000","OK"]
["OSIN","1320","INI00052",null,"OSIN1320INI00052","OK"]
["OSIN","1320","INI01000",null,"OSIN1320INI01000","OK"]
["OSIN","1330","INI00052",null,"OSIN1330INI00052","OK"]
["OSIN","1330","INI01000",null,"OSIN1330INI01000","OK"]
["OSRC","1199","CHA00001",null,"OSRC1199CHA00001","OK"]
["OSRC","1199","CON00005",null,"OSRC1199CON00005","OK"]
["OSRC","1199","ERP02014",null,"OSRC1199ERP02014","OK"]
["OSRC","1199","IMB00001",null,"OSRC1199IMB00001","OK"]
["OSRC","1300","CHA00001",null,"OSRC1300CHA00001","OK"]
["OSRC","1300","CON00005",null,"OSRC1300CON00005","OK"]
["OSRC","1300","ERP02014",null,"OSRC1300ERP02014","OK"]
["OSRC","1300","IMB00001",null,"OSRC1300IMB00001","OK"]
["OSRC","1310","CHA00001",null,"OSRC1310CHA00001","OK"]
["OSRC","1310","CON00005",null,"OSRC1310CON00005","OK"]
["OSRC","1310","ERP02014",null,"OSRC1310ERP02014","OK"]
["OSRC","1310","IMB00001",null,"OSRC1310IMB00001","OK"]
["OSRC","1320","CHA00001",null,"OSRC1320CHA00001","OK"]
["OSRC","1320","CON00005",null,"OSRC1320CON00005","OK"]
["OSRC","1320","ERP02014",null,"OSRC1320ERP02014","OK"]
["OSRC","1320","IMB00001",null,"OSRC1320IMB00001","OK"]
["OSRC","1330","CHA00001",null,"OSRC1330CHA00001","OK"]
["OSRC","1330","CON00005",null,"OSRC1330CON00005","OK"]
["OSRC","1330","ERP02014",null,"OSRC1330ERP02014","OK"]
["OSRC","1330","IMB00001",null,"OSRC1330IMB00001","OK"]
["OSSL","1300","10000615",null,"OSSL130010000615","OK"]
["OSSL","1300","BEL00001",null,"OSSL1300BEL00001","OK"]
["OSSL","1300","GEN00001",null,"OSSL1300GEN00001","OK"]
["OSSL","1300","SDW01000",null,"OSSL1300SDW01000","OK"]
["OSSL","1300","SFI00001",null,"OSSL1300SFI00001","OK"]
["OSSL","1300","SRT00001",null,"OSSL1300SRT00001","OK"]
["OSSL","1300","SRT00002",null,"OSSL1300SRT00002","OK"]
["OSSL","1310","10000615",null,"OSSL131010000615","OK"]
["OSSL","1310","BEL00001",null,"OSSL1310BEL00001","OK"]
["OSSL","1310","GEN00001",null,"OSSL1310GEN00001","OK"]
["OSSL","1310","SDW01000",null,"OSSL1310SDW01000","OK"]
["OSSL","1310","SFI00001",null,"OSSL1310SFI00001","OK"]
["OSSL","1310","SRT00001",null,"OSSL1310SRT00001","OK"]
["OSSL","1310","SRT00002",null,"OSSL1310SRT00002","OK"]
["OSSL","1320","10000615",null,"OSSL132010000615","OK"]
["OSSL","1320","BEL00001",null,"OSSL1320BEL00001","OK"]
["OSSL","1320","GEN00001",null,"OSSL1320GEN00001","OK"]
["OSSL","1320","SDW01000",null,"OSSL1320SDW01000","OK"]
["OSSL","1320","SFI00001",null,"OSSL1320SFI00001","OK"]
["OSSL","1320","SRT00001",null,"OSSL1320SRT00001","OK"]
["OSSL","1320","SRT00002",null,"OSSL1320SRT00002","OK"]
["OSSL","1330","10000615",null,"OSSL133010000615","OK"]
["OSSL","1330","BEL00001",null,"OSSL1330BEL00001","OK"]
["OSSL","1330","GEN00001",null,"OSSL1330GEN00001","OK"]
["OSSL","1330","SDW01000",null,"OSSL1330SDW01000","OK"]
["OSSL","1330","SFI00001",null,{"$f":"CONCATENATE(A3664,B3664,C3664)","v":"OSSL1330SFI00001"},"OK"]
["OSSL","1330","SRT00001",null,"OSSL1330SRT00001","OK"]
["OSSL","1330","SRT00002",null,"OSSL1330SRT00002","OK"]
["PRCP","1199","GEN00001",null,"PRCP1199GEN00001","OK"]
["PRCP","1330","GEN00001",null,"PRCP1330GEN00001","OK"]
["PRCP","1450","GEN00001",null,"PRCP1450GEN00001","OK"]
["PRCP","1300","GEN00001",null,"PRCP1300GEN00001","OK"]
["PRCP","1310","GEN00001",null,"PRCP1310GEN00001","OK"]
["PRCP","1320","GEN00001",null,"PRCP1320GEN00001","OK"]
["PRCS","1199","CON00001",null,"PRCS1199CON00001","OK"]
["PRCS","1199","GAR00001",null,"PRCS1199GAR00001","OK"]
["PRCS","1199","GEN00001",null,"PRCS1199GEN00001","OK"]
["PRCS","1450","CON00001",null,"PRCS1450CON00001","OK"]
["PRCS","1450","GAR00001",null,"PRCS1450GAR00001","OK"]
["PRCS","1450","GEN00001",null,"PRCS1450GEN00001","OK"]
["PRCS","1300","CON00001",null,"PRCS1300CON00001","OK"]
["PRCS","1300","GAR00001",null,"PRCS1300GAR00001","OK"]
["PRCS","1300","GEN00001",null,"PRCS1300GEN00001","OK"]
["PRCS","1310","CON00001",null,"PRCS1310CON00001","OK"]
["PRCS","1310","GAR00001",null,"PRCS1310GAR00001","OK"]
["PRCS","1310","GEN00001",null,"PRCS1310GEN00001","OK"]
["PRDS","1300","GEN00001",null,"PRDS1300GEN00001","OK"]
["PRDS","1600","GEN00001",null,"PRDS1600GEN00001","OK"]
["PRDS","1601","GEN00001",null,"PRDS1601GEN00001","OK"]
["PRDS","1604","GEN00001",null,"PRDS1604GEN00001","OK"]
["PREA","1199","ENE00001",null,"PREA1199ENE00001","OK"]
["PREA","1199","GAR00001",null,"PREA1199GAR00001","OK"]
["PREA","1199","GEN00001",null,"PREA1199GEN00001","OK"]
["PREA","1300","ENE00001",null,"PREA1300ENE00001","OK"]
["PREA","1300","GAR00001",null,"PREA1300GAR00001","OK"]
["PREA","1300","GEN00001",null,"PREA1300GEN00001","OK"]
["PREA","1305","ENE00001",null,"PREA1305ENE00001","OK"]
["PREA","1305","GAR00001",null,"PREA1305GAR00001","OK"]
["PREA","1305","GEN00001",null,"PREA1305GEN00001","OK"]
["PREA","1310","ENE00001",null,"PREA1310ENE00001","OK"]
["PREA","1310","GAR00001",null,"PREA1310GAR00001","OK"]
["PREA","1310","GEN00001",null,"PREA1310GEN00001","OK"]
["PREA","1320","ENE00001",null,"PREA1320ENE00001","OK"]
["PREA","1320","GAR00001",null,"PREA1320GAR00001","OK"]
["PREA","1320","GEN00001",null,"PREA1320GEN00001","OK"]
["PREA","1330","ENE00001",null,"PREA1330ENE00001","OK"]
["PREA","1330","GAR00001",null,"PREA1330GAR00001","OK"]
["PREA","1330","GEN00001",null,"PREA1330GEN00001","OK"]
["PREA","1430","ENE00001",null,"PREA1430ENE00001","OK"]
["PREA","1430","GAR00001",null,"PREA1430GAR00001","OK"]
["PREA","1430","GEN00001",null,"PREA1430GEN00001","OK"]
["PREA","1600","ENE00001",null,"PREA1600ENE00001","OK"]
["PREA","1600","GAR00001",null,"PREA1600GAR00001","OK"]
["PREA","1600","GEN00001",null,"PREA1600GEN00001","OK"]
["PRGM","1320","COM00001",null,"PRGM1320COM00001","OK"]
["PRGM","1320","CON00001",null,"PRGM1320CON00001","OK"]
["PRGM","1320","ENE00001",null,"PRGM1320ENE00001","OK"]
["PRGM","1320","GEN00001",null,"PRGM1320GEN00001","OK"]
["PRGM","1320","GM000001",null,"PRGM1320GM000001","OK"]
["PRGM","1320","SUS00001",null,"PRGM1320SUS00001","OK"]
["PRGM","1330","COM00001",null,"PRGM1330COM00001","OK"]
["PRGM","1330","CON00001",null,"PRGM1330CON00001","OK"]
["PRGM","1330","ENE00001",null,"PRGM1330ENE00001","OK"]
["PRGM","1330","GEN00001",null,"PRGM1330GEN00001","OK"]
["PRGM","1330","GM000001",null,"PRGM1330GM000001","OK"]
["PRGM","1330","SUS00001",null,"PRGM1330SUS00001","OK"]
["PRGM","1430","COM00001",null,"PRGM1430COM00001","OK"]
["PRGM","1430","CON00001",null,"PRGM1430CON00001","OK"]
["PRGM","1430","ENE00001",null,"PRGM1430ENE00001","OK"]
["PRGM","1430","GEN00001",null,{"$f":"CONCATENATE(A3728,B3728,C3728)","v":"PRGM1430GEN00001"},"OK"]
["PRGM","1430","GM000001",null,"PRGM1430GM000001","OK"]
["PRGM","1430","SUS00001",null,"PRGM1430SUS00001","OK"]
["RCAC","1300","GEN00001",null,"RCAC1300GEN00001","OK"]
["RCAC","1300","NSC00001",null,"RCAC1300NSC00001","OK"]
["RCAC","1300","SBU01001",null,"RCAC1300SBU01001","OK"]
["RCAC","1300","SBU01002",null,"RCAC1300SBU01002","OK"]
["RCAC","1300","SBU01003",null,"RCAC1300SBU01003","OK"]
["RCAC","1300","SBU01004",null,"RCAC1300SBU01004","OK"]
["RCAC","1300","SBU01005",null,"RCAC1300SBU01005","OK"]
["RCAC","1300","SBU01006",null,"RCAC1300SBU01006","OK"]
["RCAC","1300","SBU01007",null,"RCAC1300SBU01007","OK"]
["RCAC","1300","SBU01008",null,"RCAC1300SBU01008","OK"]
["RCAC","1300","SBU01009",null,"RCAC1300SBU01009","OK"]
["RCAC","1310","GEN00001",null,"RCAC1310GEN00001","OK"]
["RCAC","1310","NSC00001",null,"RCAC1310NSC00001","OK"]
["RCAC","1310","SBU01001",null,"RCAC1310SBU01001","OK"]
["RCAC","1310","SBU01002",null,"RCAC1310SBU01002","OK"]
["RCAC","1310","SBU01003",null,"RCAC1310SBU01003","OK"]
["RCAC","1310","SBU01004",null,"RCAC1310SBU01004","OK"]
["RCAC","1310","SBU01005",null,"RCAC1310SBU01005","OK"]
["RCAC","1310","SBU01006",null,"RCAC1310SBU01006","OK"]
["RCAC","1310","SBU01007",null,"RCAC1310SBU01007","OK"]
["RCAC","1310","SBU01008",null,"RCAC1310SBU01008","OK"]
["RCAC","1310","SBU01009",null,"RCAC1310SBU01009","OK"]
["RCAC","1320","GEN00001",null,"RCAC1320GEN00001","OK"]
["RCAC","1320","NSC00001",null,"RCAC1320NSC00001","OK"]
["RCAC","1320","SBU01001",null,"RCAC1320SBU01001","OK"]
["RCAC","1320","SBU01002",null,"RCAC1320SBU01002","OK"]
["RCAC","1320","SBU01003",null,"RCAC1320SBU01003","OK"]
["RCAC","1320","SBU01004",null,"RCAC1320SBU01004","OK"]
["RCAC","1320","SBU01005",null,"RCAC1320SBU01005","OK"]
["RCAC","1320","SBU01006",null,"RCAC1320SBU01006","OK"]
["RCAC","1320","SBU01007",null,"RCAC1320SBU01007","OK"]
["RCAC","1320","SBU01008",null,"RCAC1320SBU01008","OK"]
["RCAC","1320","SBU01009",null,"RCAC1320SBU01009","OK"]
["RCAC","1330","GEN00001",null,"RCAC1330GEN00001","OK"]
["RCAC","1330","NSC00001",null,"RCAC1330NSC00001","OK"]
["RCAC","1330","SBU01001",null,"RCAC1330SBU01001","OK"]
["RCAC","1330","SBU01002",null,"RCAC1330SBU01002","OK"]
["RCAC","1330","SBU01003",null,"RCAC1330SBU01003","OK"]
["RCAC","1330","SBU01004",null,"RCAC1330SBU01004","OK"]
["RCAC","1330","SBU01005",null,"RCAC1330SBU01005","OK"]
["RCAC","1330","SBU01006",null,"RCAC1330SBU01006","OK"]
["RCAC","1330","SBU01007",null,"RCAC1330SBU01007","OK"]
["RCAC","1330","SBU01008",null,"RCAC1330SBU01008","OK"]
["RCAC","1330","SBU01009",null,"RCAC1330SBU01009","OK"]
["RCAC","1600","GEN00001",null,"RCAC1600GEN00001","OK"]
["RCAC","1600","NSC00001",null,"RCAC1600NSC00001","OK"]
["RCAC","1600","SBU01001",null,"RCAC1600SBU01001","OK"]
["RCAC","1600","SBU01002",null,"RCAC1600SBU01002","OK"]
["RCAC","1600","SBU01003",null,"RCAC1600SBU01003","OK"]
["RCAC","1600","SBU01004",null,"RCAC1600SBU01004","OK"]
["RCAC","1600","SBU01005",null,"RCAC1600SBU01005","OK"]
["RCAC","1600","SBU01006",null,"RCAC1600SBU01006","OK"]
["RCAC","1600","SBU01007",null,"RCAC1600SBU01007","OK"]
["RCAC","1600","SBU01008",null,"RCAC1600SBU01008","OK"]
["RCAC","1600","SBU01009",null,"RCAC1600SBU01009","OK"]
["RCAC","1601","GEN00001",null,"RCAC1601GEN00001","OK"]
["RCAC","1601","NSC00001",null,"RCAC1601NSC00001","OK"]
["RCAC","1601","SBU01001",null,"RCAC1601SBU01001","OK"]
["RCAC","1601","SBU01002",null,"RCAC1601SBU01002","OK"]
["RCAC","1601","SBU01003",null,"RCAC1601SBU01003","OK"]
["RCAC","1601","SBU01004",null,"RCAC1601SBU01004","OK"]
["RCAC","1601","SBU01005",null,{"$f":"CONCATENATE(A3792,B3792,C3792)","v":"RCAC1601SBU01005"},"OK"]
["RCAC","1601","SBU01006",null,"RCAC1601SBU01006","OK"]
["RCAC","1601","SBU01007",null,"RCAC1601SBU01007","OK"]
["RCAC","1601","SBU01008",null,"RCAC1601SBU01008","OK"]
["RCAC","1601","SBU01009",null,"RCAC1601SBU01009","OK"]
["RCCH","1199","CFG00001",null,"RCCH1199CFG00001","OK"]
["RCCH","1199","CFG00002",null,"RCCH1199CFG00002","OK"]
["RCCH","1199","CRC00001",null,"RCCH1199CRC00001","OK"]
["RCCH","1199","GEN00001",null,"RCCH1199GEN00001","OK"]
["RCCH","1199","INT00001",null,"RCCH1199INT00001","OK"]
["RCCH","1199","INT00028",null,"RCCH1199INT00028","OK"]
["RCCH","1199","RET00001",null,"RCCH1199RET00001","OK"]
["RCCH","1199","SBU03001",null,"RCCH1199SBU03001","OK"]
["RCCH","1199","SBU04001",null,"RCCH1199SBU04001","OK"]
["RCCH","1199","SBU04002",null,"RCCH1199SBU04002","OK"]
["RCCH","1199","SBU04003",null,"RCCH1199SBU04003","OK"]
["RCCH","1199","SBU04004",null,"RCCH1199SBU04004","OK"]
["RCCH","1199","SBU04012",null,"RCCH1199SBU04012","OK"]
["RCCH","1199","SBU04013",null,"RCCH1199SBU04013","OK"]
["RCCH","1199","SBU04014",null,"RCCH1199SBU04014","OK"]
["RCCH","1199","SBU04015",null,"RCCH1199SBU04015","OK"]
["RCCH","1199","SBU10001",null,"RCCH1199SBU10001","OK"]
["RCCH","1199","SBU10002",null,"RCCH1199SBU10002","OK"]
["RCCH","1199","UNI00001",null,"RCCH1199UNI00001","OK"]
["RCCH","1199","UNI00002",null,"RCCH1199UNI00002","OK"]
["RCCH","1300","CFG00001",null,"RCCH1300CFG00001","OK"]
["RCCH","1300","CFG00002",null,"RCCH1300CFG00002","OK"]
["RCCH","1300","CRC00001",null,"RCCH1300CRC00001","OK"]
["RCCH","1300","GEN00001",null,"RCCH1300GEN00001","OK"]
["RCCH","1300","INT00001",null,"RCCH1300INT00001","OK"]
["RCCH","1300","INT00028",null,"RCCH1300INT00028","OK"]
["RCCH","1300","RET00001",null,"RCCH1300RET00001","OK"]
["RCCH","1300","SBU03001",null,"RCCH1300SBU03001","OK"]
["RCCH","1300","SBU04001",null,"RCCH1300SBU04001","OK"]
["RCCH","1300","SBU04002",null,"RCCH1300SBU04002","OK"]
["RCCH","1300","SBU04003",null,"RCCH1300SBU04003","OK"]
["RCCH","1300","SBU04004",null,"RCCH1300SBU04004","OK"]
["RCCH","1300","SBU04012",null,"RCCH1300SBU04012","OK"]
["RCCH","1300","SBU04013",null,"RCCH1300SBU04013","OK"]
["RCCH","1300","SBU04014",null,"RCCH1300SBU04014","OK"]
["RCCH","1300","SBU04015",null,{"$f":"CONCATENATE(A3832,B3832,C3832)","v":"RCCH1300SBU04015"},"OK"]
["RCCH","1300","SBU10001",null,"RCCH1300SBU10001","OK"]
["RCCH","1300","SBU10002",null,"RCCH1300SBU10002","OK"]
["RCCH","1300","UNI00001",null,"RCCH1300UNI00001","OK"]
["RCCH","1300","UNI00002",null,"RCCH1300UNI00002","OK"]
["RCCH","1310","CFG00001",null,"RCCH1310CFG00001","OK"]
["RCCH","1310","CFG00002",null,"RCCH1310CFG00002","OK"]
["RCCH","1310","CRC00001",null,"RCCH1310CRC00001","OK"]
["RCCH","1310","GEN00001",null,"RCCH1310GEN00001","OK"]
["RCCH","1310","INT00001",null,"RCCH1310INT00001","OK"]
["RCCH","1310","INT00028",null,"RCCH1310INT00028","OK"]
["RCCH","1310","RET00001",null,"RCCH1310RET00001","OK"]
["RCCH","1310","SBU03001",null,"RCCH1310SBU03001","OK"]
["RCCH","1310","SBU04001",null,"RCCH1310SBU04001","OK"]
["RCCH","1310","SBU04002",null,"RCCH1310SBU04002","OK"]
["RCCH","1310","SBU04003",null,"RCCH1310SBU04003","OK"]
["RCCH","1310","SBU04004",null,"RCCH1310SBU04004","OK"]
["RCCH","1310","SBU04012",null,"RCCH1310SBU04012","OK"]
["RCCH","1310","SBU04013",null,"RCCH1310SBU04013","OK"]
["RCCH","1310","SBU04014",null,"RCCH1310SBU04014","OK"]
["RCCH","1310","SBU04015",null,"RCCH1310SBU04015","OK"]
["RCCH","1310","SBU10001",null,"RCCH1310SBU10001","OK"]
["RCCH","1310","SBU10002",null,"RCCH1310SBU10002","OK"]
["RCCH","1310","UNI00001",null,"RCCH1310UNI00001","OK"]
["RCCH","1310","UNI00002",null,"RCCH1310UNI00002","OK"]
["RCCH","1320","CFG00001",null,"RCCH1320CFG00001","OK"]
["RCCH","1320","CFG00002",null,"RCCH1320CFG00002","OK"]
["RCCH","1320","CRC00001",null,"RCCH1320CRC00001","OK"]
["RCCH","1320","GEN00001",null,"RCCH1320GEN00001","OK"]
["RCCH","1320","INT00001",null,"RCCH1320INT00001","OK"]
["RCCH","1320","INT00028",null,"RCCH1320INT00028","OK"]
["RCCH","1320","RET00001",null,"RCCH1320RET00001","OK"]
["RCCH","1320","SBU03001",null,"RCCH1320SBU03001","OK"]
["RCCH","1320","SBU04001",null,"RCCH1320SBU04001","OK"]
["RCCH","1320","SBU04002",null,"RCCH1320SBU04002","OK"]
["RCCH","1320","SBU04003",null,"RCCH1320SBU04003","OK"]
["RCCH","1320","SBU04004",null,"RCCH1320SBU04004","OK"]
["RCCH","1320","SBU04012",null,"RCCH1320SBU04012","OK"]
["RCCH","1320","SBU04013",null,"RCCH1320SBU04013","OK"]
["RCCH","1320","SBU04014",null,"RCCH1320SBU04014","OK"]
["RCCH","1320","SBU04015",null,"RCCH1320SBU04015","OK"]
["RCCH","1320","SBU10001",null,"RCCH1320SBU10001","OK"]
["RCCH","1320","SBU10002",null,"RCCH1320SBU10002","OK"]
["RCCH","1320","UNI00001",null,"RCCH1320UNI00001","OK"]
["RCCH","1320","UNI00002",null,"RCCH1320UNI00002","OK"]
["RCCH","1330","CFG00001",null,"RCCH1330CFG00001","OK"]
["RCCH","1330","CFG00002",null,"RCCH1330CFG00002","OK"]
["RCCH","1330","CRC00001",null,"RCCH1330CRC00001","OK"]
["RCCH","1330","GEN00001",null,"RCCH1330GEN00001","OK"]
["RCCH","1330","INT00001",null,"RCCH1330INT00001","OK"]
["RCCH","1330","INT00028",null,"RCCH1330INT00028","OK"]
["RCCH","1330","RET00001",null,"RCCH1330RET00001","OK"]
["RCCH","1330","SBU03001",null,"RCCH1330SBU03001","OK"]
["RCCH","1330","SBU04001",null,"RCCH1330SBU04001","OK"]
["RCCH","1330","SBU04002",null,"RCCH1330SBU04002","OK"]
["RCCH","1330","SBU04003",null,"RCCH1330SBU04003","OK"]
["RCCH","1330","SBU04004",null,"RCCH1330SBU04004","OK"]
["RCCH","1330","SBU04012",null,"RCCH1330SBU04012","OK"]
["RCCH","1330","SBU04013",null,"RCCH1330SBU04013","OK"]
["RCCH","1330","SBU04014",null,"RCCH1330SBU04014","OK"]
["RCCH","1330","SBU04015",null,"RCCH1330SBU04015","OK"]
["RCCH","1330","SBU10001",null,"RCCH1330SBU10001","OK"]
["RCCH","1330","SBU10002",null,"RCCH1330SBU10002","OK"]
["RCCH","1330","UNI00001",null,"RCCH1330UNI00001","OK"]
["RCCH","1330","UNI00002",null,{"$f":"CONCATENATE(A3896,B3896,C3896)","v":"RCCH1330UNI00002"},"OK"]
["RCCH","1500","CFG00001",null,"RCCH1500CFG00001","OK"]
["RCCH","1500","CFG00002",null,"RCCH1500CFG00002","OK"]
["RCCH","1500","CRC00001",null,"RCCH1500CRC00001","OK"]
["RCCH","1500","GEN00001",null,"RCCH1500GEN00001","OK"]
["RCCH","1500","INT00001",null,"RCCH1500INT00001","OK"]
["RCCH","1500","INT00028",null,"RCCH1500INT00028","OK"]
["RCCH","1500","RET00001",null,"RCCH1500RET00001","OK"]
["RCCH","1500","SBU03001",null,"RCCH1500SBU03001","OK"]
["RCCH","1500","SBU04001",null,"RCCH1500SBU04001","OK"]
["RCCH","1500","SBU04002",null,"RCCH1500SBU04002","OK"]
["RCCH","1500","SBU04003",null,"RCCH1500SBU04003","OK"]
["RCCH","1500","SBU04004",null,"RCCH1500SBU04004","OK"]
["RCCH","1500","SBU04012",null,"RCCH1500SBU04012","OK"]
["RCCH","1500","SBU04013",null,"RCCH1500SBU04013","OK"]
["RCCH","1500","SBU04014",null,"RCCH1500SBU04014","OK"]
["RCCH","1500","SBU04015",null,"RCCH1500SBU04015","OK"]
["RCCH","1500","SBU10001",null,"RCCH1500SBU10001","OK"]
["RCCH","1500","SBU10002",null,"RCCH1500SBU10002","OK"]
["RCCH","1500","UNI00001",null,"RCCH1500UNI00001","OK"]
["RCCH","1500","UNI00002",null,"RCCH1500UNI00002","OK"]
["RCCO","1188","CMA00001",null,"RCCO1188CMA00001","OK"]
["RCCO","1188","CPA00002",null,"RCCO1188CPA00002","OK"]
["RCCO","1188","CPA00003",null,"RCCO1188CPA00003","OK"]
["RCCO","1188","CPA00004",null,"RCCO1188CPA00004","OK"]
["RCCO","1188","CPA00005",null,"RCCO1188CPA00005","OK"]
["RCCO","1188","CPA00006",null,"RCCO1188CPA00006","OK"]
["RCCO","1188","CPA00007",null,"RCCO1188CPA00007","OK"]
["RCCO","1188","FOU00001",null,"RCCO1188FOU00001","OK"]
["RCCO","1188","GEN00001",null,"RCCO1188GEN00001","OK"]
["RCCO","1188","ORP00001",null,"RCCO1188ORP00001","OK"]
["RCCO","1188","SBU07001",null,"RCCO1188SBU07001","OK"]
["RCCO","1199","CMA00001",null,"RCCO1199CMA00001","OK"]
["RCCO","1199","CPA00002",null,"RCCO1199CPA00002","OK"]
["RCCO","1199","CPA00003",null,"RCCO1199CPA00003","OK"]
["RCCO","1199","CPA00004",null,"RCCO1199CPA00004","OK"]
["RCCO","1199","CPA00005",null,"RCCO1199CPA00005","OK"]
["RCCO","1199","CPA00006",null,"RCCO1199CPA00006","OK"]
["RCCO","1199","CPA00007",null,"RCCO1199CPA00007","OK"]
["RCCO","1199","FOU00001",null,"RCCO1199FOU00001","OK"]
["RCCO","1199","GEN00001",null,"RCCO1199GEN00001","OK"]
["RCCO","1199","ORP00001",null,"RCCO1199ORP00001","OK"]
["RCCO","1199","SBU07001",null,"RCCO1199SBU07001","OK"]
["RCCO","1300","CMA00001",null,"RCCO1300CMA00001","OK"]
["RCCO","1300","CPA00002",null,"RCCO1300CPA00002","OK"]
["RCCO","1300","CPA00003",null,"RCCO1300CPA00003","OK"]
["RCCO","1300","CPA00004",null,"RCCO1300CPA00004","OK"]
["RCCO","1300","CPA00005",null,"RCCO1300CPA00005","OK"]
["RCCO","1300","CPA00006",null,"RCCO1300CPA00006","OK"]
["RCCO","1300","CPA00007",null,"RCCO1300CPA00007","OK"]
["RCCO","1300","FOU00001",null,"RCCO1300FOU00001","OK"]
["RCCO","1300","GEN00001",null,{"$f":"CONCATENATE(A3947,B3947,C3947)","v":"RCCO1300GEN00001"},"OK"]
["RCCO","1300","ORP00001",null,"RCCO1300ORP00001","OK"]
["RCCO","1300","SBU07001",null,"RCCO1300SBU07001","OK"]
["RCCO","1310","CMA00001",null,"RCCO1310CMA00001","OK"]
["RCCO","1310","CPA00002",null,"RCCO1310CPA00002","OK"]
["RCCO","1310","CPA00003",null,"RCCO1310CPA00003","OK"]
["RCCO","1310","CPA00004",null,"RCCO1310CPA00004","OK"]
["RCCO","1310","CPA00005",null,"RCCO1310CPA00005","OK"]
["RCCO","1310","CPA00006",null,"RCCO1310CPA00006","OK"]
["RCCO","1310","CPA00007",null,"RCCO1310CPA00007","OK"]
["RCCO","1310","FOU00001",null,"RCCO1310FOU00001","OK"]
["RCCO","1310","GEN00001",null,"RCCO1310GEN00001","OK"]
["RCCO","1310","ORP00001",null,"RCCO1310ORP00001","OK"]
["RCCO","1310","SBU07001",null,"RCCO1310SBU07001","OK"]
["RCCO","1320","CMA00001",null,"RCCO1320CMA00001","OK"]
["RCCO","1320","CPA00002",null,"RCCO1320CPA00002","OK"]
["RCCO","1320","CPA00003",null,"RCCO1320CPA00003","OK"]
["RCCO","1320","CPA00004",null,"RCCO1320CPA00004","OK"]
["RCCO","1320","CPA00005",null,"RCCO1320CPA00005","OK"]
["RCCO","1320","CPA00006",null,"RCCO1320CPA00006","OK"]
["RCCO","1320","CPA00007",null,"RCCO1320CPA00007","OK"]
["RCCO","1320","FOU00001",null,"RCCO1320FOU00001","OK"]
["RCCO","1320","GEN00001",null,"RCCO1320GEN00001","OK"]
["RCCO","1320","ORP00001",null,"RCCO1320ORP00001","OK"]
["RCCO","1320","SBU07001",null,"RCCO1320SBU07001","OK"]
["RCCO","1330","CMA00001",null,"RCCO1330CMA00001","OK"]
["RCCO","1330","CPA00002",null,"RCCO1330CPA00002","OK"]
["RCCO","1330","CPA00003",null,"RCCO1330CPA00003","OK"]
["RCCO","1330","CPA00004",null,"RCCO1330CPA00004","OK"]
["RCCO","1330","CPA00005",null,"RCCO1330CPA00005","OK"]
["RCCO","1330","CPA00006",null,"RCCO1330CPA00006","OK"]
["RCCO","1330","CPA00007",null,"RCCO1330CPA00007","OK"]
["RCCO","1330","FOU00001",null,"RCCO1330FOU00001","OK"]
["RCCO","1330","GEN00001",null,"RCCO1330GEN00001","OK"]
["RCCO","1330","ORP00001",null,"RCCO1330ORP00001","OK"]
["RCCO","1330","SBU07001",null,"RCCO1330SBU07001","OK"]
["RCCO","1601","CMA00001",null,"RCCO1601CMA00001","OK"]
["RCCO","1601","CPA00002",null,"RCCO1601CPA00002","OK"]
["RCCO","1601","CPA00003",null,"RCCO1601CPA00003","OK"]
["RCCO","1601","CPA00004",null,"RCCO1601CPA00004","OK"]
["RCCO","1601","CPA00005",null,"RCCO1601CPA00005","OK"]
["RCCO","1601","CPA00006",null,"RCCO1601CPA00006","OK"]
["RCCO","1601","CPA00007",null,"RCCO1601CPA00007","OK"]
["RCCO","1601","FOU00001",null,"RCCO1601FOU00001","OK"]
["RCCO","1601","GEN00001",null,"RCCO1601GEN00001","OK"]
["RCCO","1601","ORP00001",null,"RCCO1601ORP00001","OK"]
["RCCO","1601","SBU07001",null,"RCCO1601SBU07001","OK"]

{"sheet":"Summary","index":1,"n_rows":62,"n_cols":22,"rows_kept":62,"cut":false,"hidden":true,"merged":[[59,17,59,18],[59,19,59,21],[60,19,60,21],[61,17,61,18],[61,19,61,21],[0,0,0,21],[1,0,1,21],[2,0,2,21],[3,0,3,21],[5,17,5,18],[5,2,5,4],[5,9,5,13],[57,17,57,18],[57,19,57,21],[58,19,58,21],[8,2,8,3],[8,16,8,18],[56,19,56,21]]}
["Hourly Paid Timesheet "]
["Hand in by published deadline"]
["Supervisor must sign at bottom enable payment"]
["Failure to sign may delay payment "]
[]
[null,"Faculty/Area:","Summary",null,null,null,null,null,"Budget Holder:",null,null,null,null,null,null,null,"Month:",null,null,null,null,{"$f":"IF(Template!V6=\"\",\"\",CONCATENATE(LEFT(Template!V6,4),\"-\",RIGHT(LEFT(Template!V6,4),2)+1))","v":""}]
[]
[]
["No","Employee","Name",null,"Department","Work Details","Work Type","Date ","Date ","Total Hours","Rate","Annual","Total Hours","Pay","Holiday Pay","Total Pay","Agresso Coding"]
[null,"Number","Forename","Surname",null,"(brief overview)",null,"From","To","Worked","£","Leave","Accrued","£","£","£","Cost Centre","Account Code","Project Code"]
[]
[{"$f":"IF(Template!A12=\"\",\"\",CONCATENATE(Template!$V$6,\".\",IF(Template!A12<10,CONCATENATE(\"0\",Template!A12),Template!A12)))","v":""},{"$f":"IF(Template!B12=\"\",\"\",Template!B12)","v":""},{"$f":"IF(Template!C12=\"\",\"\",Template!C12)","v":""},{"$f":"IF(Template!D12=\"\",\"\",Template!D12)","v":""},{"$f":"IF(Template!E12=\"\",\"\",Template!E12)","v":""},{"$f":"IF(Template!F12=\"\",\"\",Template!F12)","v":""},{"$f":"IF(Template!G12=\"\",\"\",Template!G12)","v":""},{"$f":"IF(Template!H12=\"\",\"\",Template!H12)","v":""},{"$f":"IF(Template!I12=\"\",\"\",Template!I12)","v":""},{"$f":"IF(Template!J12=\"\",\"\",Template!J12)","v":""},{"$f":"IF(Template!K12=\"\",\"\",Template!K12)","v":""},{"$f":"IF(Template!L12=\"\",\"\",Template!L12)","v":""},{"$f":"IF(Template!M12=\"\",\"\",Template!M12)","v":""},{"$f":"IF(Template!N12=\"\",\"\",Template!N12)","v":""},{"$f":"IF(Template!O12=\"\",\"\",Template!O12)","v":""},{"$f":"IF(Template!P12=\"\",\"\",Template!P12)","v":""},{"$f":"IF(Template!Q12=\"\",\"\",Template!Q12)","v":""},{"$f":"IF(Template!R12=\"\",\"\",Template!R12)","v":""},{"$f":"IF(Template!S12=\"\",\"\",Template!S12)","v":""},{"$f":"IF(Template!T20=\"\",\"\",Template!T20)","v":""},{"$f":"IF(Template!U20=\"\",\"\",Template!U20)","v":""}]
[{"$f":"IF(Template!A13=\"\",\"\",CONCATENATE(Template!$V$6,\".\",IF(Template!A13<10,CONCATENATE(\"0\",Template!A13),Template!A13)))","v":""},{"$f":"IF(Template!B13=\"\",\"\",Template!B13)","v":""},{"$f":"IF(Template!C13=\"\",\"\",Template!C13)","v":""},{"$f":"IF(Template!D13=\"\",\"\",Template!D13)","v":""},{"$f":"IF(Template!E13=\"\",\"\",Template!E13)","v":""},{"$f":"IF(Template!F13=\"\",\"\",Template!F13)","v":""},{"$f":"IF(Template!G13=\"\",\"\",Template!G13)","v":""},{"$f":"IF(Template!H13=\"\",\"\",Template!H13)","v":""},{"$f":"IF(Template!I13=\"\",\"\",Template!I13)","v":""},{"$f":"IF(Template!J13=\"\",\"\",Template!J13)","v":""},{"$f":"IF(Template!K13=\"\",\"\",Template!K13)","v":""},{"$f":"IF(Template!L13=\"\",\"\",Template!L13)","v":""},{"$f":"IF(Template!M13=\"\",\"\",Template!M13)","v":""},{"$f":"IF(Template!N13=\"\",\"\",Template!N13)","v":""},{"$f":"IF(Template!O13=\"\",\"\",Template!O13)","v":""},{"$f":"IF(Template!P13=\"\",\"\",Template!P13)","v":""},{"$f":"IF(Template!Q13=\"\",\"\",Template!Q13)","v":""},{"$f":"IF(Template!R13=\"\",\"\",Template!R13)","v":""},{"$f":"IF(Template!S13=\"\",\"\",Template!S13)","v":""},{"$f":"IF(Template!T21=\"\",\"\",Template!T21)","v":""},{"$f":"IF(Template!U21=\"\",\"\",Template!U21)","v":""}]
[{"$f":"IF(Template!A14=\"\",\"\",CONCATENATE(Template!$V$6,\".\",IF(Template!A14<10,CONCATENATE(\"0\",Template!A14),Template!A14)))","v":""},{"$f":"IF(Template!B14=\"\",\"\",Template!B14)","v":""},{"$f":"IF(Template!C14=\"\",\"\",Template!C14)","v":""},{"$f":"IF(Template!D14=\"\",\"\",Template!D14)","v":""},{"$f":"IF(Template!E14=\"\",\"\",Template!E14)","v":""},{"$f":"IF(Template!F14=\"\",\"\",Template!F14)","v":""},{"$f":"IF(Template!G14=\"\",\"\",Template!G14)","v":""},{"$f":"IF(Template!H14=\"\",\"\",Template!H14)","v":""},{"$f":"IF(Template!I14=\"\",\"\",Template!I14)","v":""},{"$f":"IF(Template!J14=\"\",\"\",Template!J14)","v":""},{"$f":"IF(Template!K14=\"\",\"\",Template!K14)","v":""},{"$f":"IF(Template!L14=\"\",\"\",Template!L14)","v":""},{"$f":"IF(Template!M14=\"\",\"\",Template!M14)","v":""},{"$f":"IF(Template!N14=\"\",\"\",Template!N14)","v":""},{"$f":"IF(Template!O14=\"\",\"\",Template!O14)","v":""},{"$f":"IF(Template!P14=\"\",\"\",Template!P14)","v":""},{"$f":"IF(Template!Q14=\"\",\"\",Template!Q14)","v":""},{"$f":"IF(Template!R14=\"\",\"\",Template!R14)","v":""},{"$f":"IF(Template!S14=\"\",\"\",Template!S14)","v":""},{"$f":"IF(Template!T22=\"\",\"\",Template!T22)","v":""},{"$f":"IF(Template!U22=\"\",\"\",Template!U22)","v":""}]
[{"$f":"IF(Template!A15=\"\",\"\",CONCATENATE(Template!$V$6,\".\",IF(Template!A15<10,CONCATENATE(\"0\",Template!A15),Template!A15)))","v":""},{"$f":"IF(Template!B15=\"\",\"\",Template!B15)","v":""},{"$f":"IF(Template!C15=\"\",\"\",Template!C15)","v":""},{"$f":"IF(Template!D15=\"\",\"\",Template!D15)","v":""},{"$f":"IF(Template!E15=\"\",\"\",Template!E15)","v":""},{"$f":"IF(Template!F15=\"\",\"\",Template!F15)","v":""},{"$f":"IF(Template!G15=\"\",\"\",Template!G15)","v":""},{"$f":"IF(Template!H15=\"\",\"\",Template!H15)","v":""},{"$f":"IF(Template!I15=\"\",\"\",Template!I15)","v":""},{"$f":"IF(Template!J15=\"\",\"\",Template!J15)","v":""},{"$f":"IF(Template!K15=\"\",\"\",Template!K15)","v":""},{"$f":"IF(Template!L15=\"\",\"\",Template!L15)","v":""},{"$f":"IF(Template!M15=\"\",\"\",Template!M15)","v":""},{"$f":"IF(Template!N15=\"\",\"\",Template!N15)","v":""},{"$f":"IF(Template!O15=\"\",\"\",Template!O15)","v":""},{"$f":"IF(Template!P15=\"\",\"\",Template!P15)","v":""},{"$f":"IF(Template!Q15=\"\",\"\",Template!Q15)","v":""},{"$f":"IF(Template!R15=\"\",\"\",Template!R15)","v":""},{"$f":"IF(Template!S15=\"\",\"\",Template!S15)","v":""},{"$f":"IF(Template!T23=\"\",\"\",Template!T23)","v":""},{"$f":"IF(Template!U23=\"\",\"\",Template!U23)","v":""}]
[{"$f":"IF(Template!A16=\"\",\"\",CONCATENATE(Template!$V$6,\".\",IF(Template!A16<10,CONCATENATE(\"0\",Template!A16),Template!A16)))","v":""},{"$f":"IF(Template!B16=\"\",\"\",Template!B16)","v":""},{"$f":"IF(Template!C16=\"\",\"\",Template!C16)","v":""},{"$f":"IF(Template!D16=\"\",\"\",Template!D16)","v":""},{"$f":"IF(Template!E16=\"\",\"\",Template!E16)","v":""},{"$f":"IF(Template!F16=\"\",\"\",Template!F16)","v":""},{"$f":"IF(Template!G16=\"\",\"\",Template!G16)","v":""},{"$f":"IF(Template!H16=\"\",\"\",Template!H16)","v":""},{"$f":"IF(Template!I16=\"\",\"\",Template!I16)","v":""},{"$f":"IF(Template!J16=\"\",\"\",Template!J16)","v":""},{"$f":"IF(Template!K16=\"\",\"\",Template!K16)","v":""},{"$f":"IF(Template!L16=\"\",\"\",Template!L16)","v":""},{"$f":"IF(Template!M16=\"\",\"\",Template!M16)","v":""},{"$f":"IF(Template!N16=\"\",\"\",Template!N16)","v":""},{"$f":"IF(Template!O16=\"\",\"\",Template!O16)","v":""},{"$f":"IF(Template!P16=\"\",\"\",Template!P16)","v":""},{"$f":"IF(Template!Q16=\"\",\"\",Template!Q16)","v":""},{"$f":"IF(Template!R16=\"\",\"\",Template!R16)","v":""},{"$f":"IF(Template!S16=\"\",\"\",Template!S16)","v":""},{"$f":"IF(Template!T24=\"\",\"\",Template!T24)","v":""},{"$f":"IF(Template!U24=\"\",\"\",Template!U24)","v":""}]
[{"$f":"IF(Template!A17=\"\",\"\",CONCATENATE(Template!$V$6,\".\",IF(Template!A17<10,CONCATENATE(\"0\",Template!A17),Template!A17)))","v":""},{"$f":"IF(Template!B17=\"\",\"\",Template!B17)","v":""},{"$f":"IF(Template!C17=\"\",\"\",Template!C17)","v":""},{"$f":"IF(Template!D17=\"\",\"\",Template!D17)","v":""},{"$f":"IF(Template!E17=\"\",\"\",Template!E17)","v":""},{"$f":"IF(Template!F17=\"\",\"\",Template!F17)","v":""},{"$f":"IF(Template!G17=\"\",\"\",Template!G17)","v":""},{"$f":"IF(Template!H17=\"\",\"\",Template!H17)","v":""},{"$f":"IF(Template!I17=\"\",\"\",Template!I17)","v":""},{"$f":"IF(Template!J17=\"\",\"\",Template!J17)","v":""},{"$f":"IF(Template!K17=\"\",\"\",Template!K17)","v":""},{"$f":"IF(Template!L17=\"\",\"\",Template!L17)","v":""},{"$f":"IF(Template!M17=\"\",\"\",Template!M17)","v":""},{"$f":"IF(Template!N17=\"\",\"\",Template!N17)","v":""},{"$f":"IF(Template!O17=\"\",\"\",Template!O17)","v":""},{"$f":"IF(Template!P17=\"\",\"\",Template!P17)","v":""},{"$f":"IF(Template!Q17=\"\",\"\",Template!Q17)","v":""},{"$f":"IF(Template!R17=\"\",\"\",Template!R17)","v":""},{"$f":"IF(Template!S17=\"\",\"\",Template!S17)","v":""},{"$f":"IF(Template!T25=\"\",\"\",Template!T25)","v":""},{"$f":"IF(Template!U25=\"\",\"\",Template!U25)","v":""}]
[{"$f":"IF(Template!A18=\"\",\"\",CONCATENATE(Template!$V$6,\".\",IF(Template!A18<10,CONCATENATE(\"0\",Template!A18),Template!A18)))","v":""},{"$f":"IF(Template!B18=\"\",\"\",Template!B18)","v":""},{"$f":"IF(Template!C18=\"\",\"\",Template!C18)","v":""},{"$f":"IF(Template!D18=\"\",\"\",Template!D18)","v":""},{"$f":"IF(Template!E18=\"\",\"\",Template!E18)","v":""},{"$f":"IF(Template!F18=\"\",\"\",Template!F18)","v":""},{"$f":"IF(Template!G18=\"\",\"\",Template!G18)","v":""},{"$f":"IF(Template!H18=\"\",\"\",Template!H18)","v":""},{"$f":"IF(Template!I18=\"\",\"\",Template!I18)","v":""},{"$f":"IF(Template!J18=\"\",\"\",Template!J18)","v":""},{"$f":"IF(Template!K18=\"\",\"\",Template!K18)","v":""},{"$f":"IF(Template!L18=\"\",\"\",Template!L18)","v":""},{"$f":"IF(Template!M18=\"\",\"\",Template!M18)","v":""},{"$f":"IF(Template!N18=\"\",\"\",Template!N18)","v":""},{"$f":"IF(Template!O18=\"\",\"\",Template!O18)","v":""},{"$f":"IF(Template!P18=\"\",\"\",Template!P18)","v":""},{"$f":"IF(Template!Q18=\"\",\"\",Template!Q18)","v":""},{"$f":"IF(Template!R18=\"\",\"\",Template!R18)","v":""},{"$f":"IF(Template!S18=\"\",\"\",Template!S18)","v":""},{"$f":"IF(Template!T26=\"\",\"\",Template!T26)","v":""},{"$f":"IF(Template!U26=\"\",\"\",Template!U26)","v":""}]
[{"$f":"IF(Template!A19=\"\",\"\",CONCATENATE(Template!$V$6,\".\",IF(Template!A19<10,CONCATENATE(\"0\",Template!A19),Template!A19)))","v":""},{"$f":"IF(Template!B19=\"\",\"\",Template!B19)","v":""},{"$f":"IF(Template!C19=\"\",\"\",Template!C19)","v":""},{"$f":"IF(Template!D19=\"\",\"\",Template!D19)","v":""},{"$f":"IF(Template!E19=\"\",\"\",Template!E19)","v":""},{"$f":"IF(Template!F19=\"\",\"\",Template!F19)","v":""},{"$f":"IF(Template!G19=\"\",\"\",Template!G19)","v":""},{"$f":"IF(Template!H19=\"\",\"\",Template!H19)","v":""},{"$f":"IF(Template!I19=\"\",\"\",Template!I19)","v":""},{"$f":"IF(Template!J19=\"\",\"\",Template!J19)","v":""},{"$f":"IF(Template!K19=\"\",\"\",Template!K19)","v":""},{"$f":"IF(Template!L19=\"\",\"\",Template!L19)","v":""},{"$f":"IF(Template!M19=\"\",\"\",Template!M19)","v":""},{"$f":"IF(Template!N19=\"\",\"\",Template!N19)","v":""},{"$f":"IF(Template!O19=\"\",\"\",Template!O19)","v":""},{"$f":"IF(Template!P19=\"\",\"\",Template!P19)","v":""},{"$f":"IF(Template!Q19=\"\",\"\",Template!Q19)","v":""},{"$f":"IF(Template!R19=\"\",\"\",Template!R19)","v":""},{"$f":"IF(Template!S19=\"\",\"\",Template!S19)","v":""},{"$f":"IF(Template!T27=\"\",\"\",Template!T27)","v":""},{"$f":"IF(Template!U27=\"\",\"\",Template!U27)","v":""}]
[{"$f":"IF(Template!A20=\"\",\"\",CONCATENATE(Template!$V$6,\".\",IF(Template!A20<10,CONCATENATE(\"0\",Template!A20),Template!A20)))","v":""},{"$f":"IF(Template!B20=\"\",\"\",Template!B20)","v":""},{"$f":"IF(Template!C20=\"\",\"\",Template!C20)","v":""},{"$f":"IF(Template!D20=\"\",\"\",Template!D20)","v":""},{"$f":"IF(Template!E20=\"\",\"\",Template!E20)","v":""},{"$f":"IF(Template!F20=\"\",\"\",Template!F20)","v":""},{"$f":"IF(Template!G20=\"\",\"\",Template!G20)","v":""},{"$f":"IF(Template!H20=\"\",\"\",Template!H20)","v":""},{"$f":"IF(Template!I20=\"\",\"\",Template!I20)","v":""},{"$f":"IF(Template!J20=\"\",\"\",Template!J20)","v":""},{"$f":"IF(Template!K20=\"\",\"\",Template!K20)","v":""},{"$f":"IF(Template!L20=\"\",\"\",Template!L20)","v":""},{"$f":"IF(Template!M20=\"\",\"\",Template!M20)","v":""},{"$f":"IF(Template!N20=\"\",\"\",Template!N20)","v":""},{"$f":"IF(Template!O20=\"\",\"\",Template!O20)","v":""},{"$f":"IF(Template!P20=\"\",\"\",Template!P20)","v":""},{"$f":"IF(Template!Q20=\"\",\"\",Template!Q20)","v":""},{"$f":"IF(Template!R20=\"\",\"\",Template!R20)","v":""},{"$f":"IF(Template!S20=\"\",\"\",Template!S20)","v":""},{"$f":"IF(Template!T28=\"\",\"\",Template!T28)","v":""},{"$f":"IF(Template!U28=\"\",\"\",Template!U28)","v":""}]
[{"$f":"IF(Template!A21=\"\",\"\",CONCATENATE(Template!$V$6,\".\",IF(Template!A21<10,CONCATENATE(\"0\",Template!A21),Template!A21)))","v":""},{"$f":"IF(Template!B21=\"\",\"\",Template!B21)","v":""},{"$f":"IF(Template!C21=\"\",\"\",Template!C21)","v":""},{"$f":"IF(Template!D21=\"\",\"\",Template!D21)","v":""},{"$f":"IF(Template!E21=\"\",\"\",Template!E21)","v":""},{"$f":"IF(Template!F21=\"\",\"\",Template!F21)","v":""},{"$f":"IF(Template!G21=\"\",\"\",Template!G21)","v":""},{"$f":"IF(Template!H21=\"\",\"\",Template!H21)","v":""},{"$f":"IF(Template!I21=\"\",\"\",Template!I21)","v":""},{"$f":"IF(Template!J21=\"\",\"\",Template!J21)","v":""},{"$f":"IF(Template!K21=\"\",\"\",Template!K21)","v":""},{"$f":"IF(Template!L21=\"\",\"\",Template!L21)","v":""},{"$f":"IF(Template!M21=\"\",\"\",Template!M21)","v":""},{"$f":"IF(Template!N21=\"\",\"\",Template!N21)","v":""},{"$f":"IF(Template!O21=\"\",\"\",Template!O21)","v":""},{"$f":"IF(Template!P21=\"\",\"\",Template!P21)","v":""},{"$f":"IF(Template!Q21=\"\",\"\",Template!Q21)","v":""},{"$f":"IF(Template!R21=\"\",\"\",Template!R21)","v":""},{"$f":"IF(Template!S21=\"\",\"\",Template!S21)","v":""},{"$f":"IF(Template!T29=\"\",\"\",Template!T29)","v":""},{"$f":"IF(Template!U29=\"\",\"\",Template!U29)","v":""}]
[{"$f":"IF(Template!A22=\"\",\"\",CONCATENATE(Template!$V$6,\".\",IF(Template!A22<10,CONCATENATE(\"0\",Template!A22),Template!A22)))","v":""},{"$f":"IF(Template!B22=\"\",\"\",Template!B22)","v":""},{"$f":"IF(Template!C22=\"\",\"\",Template!C22)","v":""},{"$f":"IF(Template!D22=\"\",\"\",Template!D22)","v":""},{"$f":"IF(Template!E22=\"\",\"\",Template!E22)","v":""},{"$f":"IF(Template!F22=\"\",\"\",Template!F22)","v":""},{"$f":"IF(Template!G22=\"\",\"\",Template!G22)","v":""},{"$f":"IF(Template!H22=\"\",\"\",Template!H22)","v":""},{"$f":"IF(Template!I22=\"\",\"\",Template!I22)","v":""},{"$f":"IF(Template!J22=\"\",\"\",Template!J22)","v":""},{"$f":"IF(Template!K22=\"\",\"\",Template!K22)","v":""},{"$f":"IF(Template!L22=\"\",\"\",Template!L22)","v":""},{"$f":"IF(Template!M22=\"\",\"\",Template!M22)","v":""},{"$f":"IF(Template!N22=\"\",\"\",Template!N22)","v":""},{"$f":"IF(Template!O22=\"\",\"\",Template!O22)","v":""},{"$f":"IF(Template!P22=\"\",\"\",Template!P22)","v":""},{"$f":"IF(Template!Q22=\"\",\"\",Template!Q22)","v":""},{"$f":"IF(Template!R22=\"\",\"\",Template!R22)","v":""},{"$f":"IF(Template!S22=\"\",\"\",Template!S22)","v":""},{"$f":"IF(Template!T30=\"\",\"\",Template!T30)","v":""},{"$f":"IF(Template!U30=\"\",\"\",Template!U30)","v":""}]
[{"$f":"IF(Template!A23=\"\",\"\",CONCATENATE(Template!$V$6,\".\",IF(Template!A23<10,CONCATENATE(\"0\",Template!A23),Template!A23)))","v":""},{"$f":"IF(Template!B23=\"\",\"\",Template!B23)","v":""},{"$f":"IF(Template!C23=\"\",\"\",Template!C23)","v":""},{"$f":"IF(Template!D23=\"\",\"\",Template!D23)","v":""},{"$f":"IF(Template!E23=\"\",\"\",Template!E23)","v":""},{"$f":"IF(Template!F23=\"\",\"\",Template!F23)","v":""},{"$f":"IF(Template!G23=\"\",\"\",Template!G23)","v":""},{"$f":"IF(Template!H23=\"\",\"\",Template!H23)","v":""},{"$f":"IF(Template!I23=\"\",\"\",Template!I23)","v":""},{"$f":"IF(Template!J23=\"\",\"\",Template!J23)","v":""},{"$f":"IF(Template!K23=\"\",\"\",Template!K23)","v":""},{"$f":"IF(Template!L23=\"\",\"\",Template!L23)","v":""},{"$f":"IF(Template!M23=\"\",\"\",Template!M23)","v":""},{"$f":"IF(Template!N23=\"\",\"\",Template!N23)","v":""},{"$f":"IF(Template!O23=\"\",\"\",Template!O23)","v":""},{"$f":"IF(Template!P23=\"\",\"\",Template!P23)","v":""},{"$f":"IF(Template!Q23=\"\",\"\",Template!Q23)","v":""},{"$f":"IF(Template!R23=\"\",\"\",Template!R23)","v":""},{"$f":"IF(Template!S23=\"\",\"\",Template!S23)","v":""},{"$f":"IF(Template!T31=\"\",\"\",Template!T31)","v":""},{"$f":"IF(Template!U31=\"\",\"\",Template!U31)","v":""}]
[{"$f":"IF(Template!A24=\"\",\"\",CONCATENATE(Template!$V$6,\".\",IF(Template!A24<10,CONCATENATE(\"0\",Template!A24),Template!A24)))","v":""},{"$f":"IF(Template!B24=\"\",\"\",Template!B24)","v":""},{"$f":"IF(Template!C24=\"\",\"\",Template!C24)","v":""},{"$f":"IF(Template!D24=\"\",\"\",Template!D24)","v":""},{"$f":"IF(Template!E24=\"\",\"\",Template!E24)","v":""},{"$f":"IF(Template!F24=\"\",\"\",Template!F24)","v":""},{"$f":"IF(Template!G24=\"\",\"\",Template!G24)","v":""},{"$f":"IF(Template!H24=\"\",\"\",Template!H24)","v":""},{"$f":"IF(Template!I24=\"\",\"\",Template!I24)","v":""},{"$f":"IF(Template!J24=\"\",\"\",Template!J24)","v":""},{"$f":"IF(Template!K24=\"\",\"\",Template!K24)","v":""},{"$f":"IF(Template!L24=\"\",\"\",Template!L24)","v":""},{"$f":"IF(Template!M24=\"\",\"\",Template!M24)","v":""},{"$f":"IF(Template!N24=\"\",\"\",Template!N24)","v":""},{"$f":"IF(Template!O24=\"\",\"\",Template!O24)","v":""},{"$f":"IF(Template!P24=\"\",\"\",Template!P24)","v":""},{"$f":"IF(Template!Q24=\"\",\"\",Template!Q24)","v":""},{"$f":"IF(Template!R24=\"\",\"\",Template!R24)","v":""},{"$f":"IF(Template!S24=\"\",\"\",Template!S24)","v":""},{"$f":"IF(Template!T32=\"\",\"\",Template!T32)","v":""},{"$f":"IF(Template!U32=\"\",\"\",Template!U32)","v":""}]
[{"$f":"IF(Template!A25=\"\",\"\",CONCATENATE(Template!$V$6,\".\",IF(Template!A25<10,CONCATENATE(\"0\",Template!A25),Template!A25)))","v":""},{"$f":"IF(Template!B25=\"\",\"\",Template!B25)","v":""},{"$f":"IF(Template!C25=\"\",\"\",Template!C25)","v":""},{"$f":"IF(Template!D25=\"\",\"\",Template!D25)","v":""},{"$f":"IF(Template!E25=\"\",\"\",Template!E25)","v":""},{"$f":"IF(Template!F25=\"\",\"\",Template!F25)","v":""},{"$f":"IF(Template!G25=\"\",\"\",Template!G25)","v":""},{"$f":"IF(Template!H25=\"\",\"\",Template!H25)","v":""},{"$f":"IF(Template!I25=\"\",\"\",Template!I25)","v":""},{"$f":"IF(Template!J25=\"\",\"\",Template!J25)","v":""},{"$f":"IF(Template!K25=\"\",\"\",Template!K25)","v":""},{"$f":"IF(Template!L25=\"\",\"\",Template!L25)","v":""},{"$f":"IF(Template!M25=\"\",\"\",Template!M25)","v":""},{"$f":"IF(Template!N25=\"\",\"\",Template!N25)","v":""},{"$f":"IF(Template!O25=\"\",\"\",Template!O25)","v":""},{"$f":"IF(Template!P25=\"\",\"\",Template!P25)","v":""},{"$f":"IF(Template!Q25=\"\",\"\",Template!Q25)","v":""},{"$f":"IF(Template!R25=\"\",\"\",Template!R25)","v":""},{"$f":"IF(Template!S25=\"\",\"\",Template!S25)","v":""},{"$f":"IF(Template!T33=\"\",\"\",Template!T33)","v":""},{"$f":"IF(Template!U33=\"\",\"\",Template!U33)","v":""}]
[{"$f":"IF(Template!A26=\"\",\"\",CONCATENATE(Template!$V$6,\".\",IF(Template!A26<10,CONCATENATE(\"0\",Template!A26),Template!A26)))","v":""},{"$f":"IF(Template!B26=\"\",\"\",Template!B26)","v":""},{"$f":"IF(Template!C26=\"\",\"\",Template!C26)","v":""},{"$f":"IF(Template!D26=\"\",\"\",Template!D26)","v":""},{"$f":"IF(Template!E26=\"\",\"\",Template!E26)","v":""},{"$f":"IF(Template!F26=\"\",\"\",Template!F26)","v":""},{"$f":"IF(Template!G26=\"\",\"\",Template!G26)","v":""},{"$f":"IF(Template!H26=\"\",\"\",Template!H26)","v":""},{"$f":"IF(Template!I26=\"\",\"\",Template!I26)","v":""},{"$f":"IF(Template!J26=\"\",\"\",Template!J26)","v":""},{"$f":"IF(Template!K26=\"\",\"\",Template!K26)","v":""},{"$f":"IF(Template!L26=\"\",\"\",Template!L26)","v":""},{"$f":"IF(Template!M26=\"\",\"\",Template!M26)","v":""},{"$f":"IF(Template!N26=\"\",\"\",Template!N26)","v":""},{"$f":"IF(Template!O26=\"\",\"\",Template!O26)","v":""},{"$f":"IF(Template!P26=\"\",\"\",Template!P26)","v":""},{"$f":"IF(Template!Q26=\"\",\"\",Template!Q26)","v":""},{"$f":"IF(Template!R26=\"\",\"\",Template!R26)","v":""},{"$f":"IF(Template!S26=\"\",\"\",Template!S26)","v":""},{"$f":"IF(Template!T34=\"\",\"\",Template!T34)","v":""},{"$f":"IF(Template!U34=\"\",\"\",Template!U34)","v":""}]
[{"$f":"IF(Template!A27=\"\",\"\",CONCATENATE(Template!$V$6,\".\",IF(Template!A27<10,CONCATENATE(\"0\",Template!A27),Template!A27)))","v":""},{"$f":"IF(Template!B27=\"\",\"\",Template!B27)","v":""},{"$f":"IF(Template!C27=\"\",\"\",Template!C27)","v":""},{"$f":"IF(Template!D27=\"\",\"\",Template!D27)","v":""},{"$f":"IF(Template!E27=\"\",\"\",Template!E27)","v":""},{"$f":"IF(Template!F27=\"\",\"\",Template!F27)","v":""},{"$f":"IF(Template!G27=\"\",\"\",Template!G27)","v":""},{"$f":"IF(Template!H27=\"\",\"\",Template!H27)","v":""},{"$f":"IF(Template!I27=\"\",\"\",Template!I27)","v":""},{"$f":"IF(Template!J27=\"\",\"\",Template!J27)","v":""},{"$f":"IF(Template!K27=\"\",\"\",Template!K27)","v":""},{"$f":"IF(Template!L27=\"\",\"\",Template!L27)","v":""},{"$f":"IF(Template!M27=\"\",\"\",Template!M27)","v":""},{"$f":"IF(Template!N27=\"\",\"\",Template!N27)","v":""},{"$f":"IF(Template!O27=\"\",\"\",Template!O27)","v":""},{"$f":"IF(Template!P27=\"\",\"\",Template!P27)","v":""},{"$f":"IF(Template!Q27=\"\",\"\",Template!Q27)","v":""},{"$f":"IF(Template!R27=\"\",\"\",Template!R27)","v":""},{"$f":"IF(Template!S27=\"\",\"\",Template!S27)","v":""},{"$f":"IF(Template!T35=\"\",\"\",Template!T35)","v":""},{"$f":"IF(Template!U35=\"\",\"\",Template!U35)","v":""}]
[{"$f":"IF(Template!A28=\"\",\"\",CONCATENATE(Template!$V$6,\".\",IF(Template!A28<10,CONCATENATE(\"0\",Template!A28),Template!A28)))","v":""},{"$f":"IF(Template!B28=\"\",\"\",Template!B28)","v":""},{"$f":"IF(Template!C28=\"\",\"\",Template!C28)","v":""},{"$f":"IF(Template!D28=\"\",\"\",Template!D28)","v":""},{"$f":"IF(Template!E28=\"\",\"\",Template!E28)","v":""},{"$f":"IF(Template!F28=\"\",\"\",Template!F28)","v":""},{"$f":"IF(Template!G28=\"\",\"\",Template!G28)","v":""},{"$f":"IF(Template!H28=\"\",\"\",Template!H28)","v":""},{"$f":"IF(Template!I28=\"\",\"\",Template!I28)","v":""},{"$f":"IF(Template!J28=\"\",\"\",Template!J28)","v":""},{"$f":"IF(Template!K28=\"\",\"\",Template!K28)","v":""},{"$f":"IF(Template!L28=\"\",\"\",Template!L28)","v":""},{"$f":"IF(Template!M28=\"\",\"\",Template!M28)","v":""},{"$f":"IF(Template!N28=\"\",\"\",Template!N28)","v":""},{"$f":"IF(Template!O28=\"\",\"\",Template!O28)","v":""},{"$f":"IF(Template!P28=\"\",\"\",Template!P28)","v":""},{"$f":"IF(Template!Q28=\"\",\"\",Template!Q28)","v":""},{"$f":"IF(Template!R28=\"\",\"\",Template!R28)","v":""},{"$f":"IF(Template!S28=\"\",\"\",Template!S28)","v":""},{"$f":"IF(Template!T36=\"\",\"\",Template!T36)","v":""},{"$f":"IF(Template!U36=\"\",\"\",Template!U36)","v":""}]
[{"$f":"IF(Template!A29=\"\",\"\",CONCATENATE(Template!$V$6,\".\",IF(Template!A29<10,CONCATENATE(\"0\",Template!A29),Template!A29)))","v":""},{"$f":"IF(Template!B29=\"\",\"\",Template!B29)","v":""},{"$f":"IF(Template!C29=\"\",\"\",Template!C29)","v":""},{"$f":"IF(Template!D29=\"\",\"\",Template!D29)","v":""},{"$f":"IF(Template!E29=\"\",\"\",Template!E29)","v":""},{"$f":"IF(Template!F29=\"\",\"\",Template!F29)","v":""},{"$f":"IF(Template!G29=\"\",\"\",Template!G29)","v":""},{"$f":"IF(Template!H29=\"\",\"\",Template!H29)","v":""},{"$f":"IF(Template!I29=\"\",\"\",Template!I29)","v":""},{"$f":"IF(Template!J29=\"\",\"\",Template!J29)","v":""},{"$f":"IF(Template!K29=\"\",\"\",Template!K29)","v":""},{"$f":"IF(Template!L29=\"\",\"\",Template!L29)","v":""},{"$f":"IF(Template!M29=\"\",\"\",Template!M29)","v":""},{"$f":"IF(Template!N29=\"\",\"\",Template!N29)","v":""},{"$f":"IF(Template!O29=\"\",\"\",Template!O29)","v":""},{"$f":"IF(Template!P29=\"\",\"\",Template!P29)","v":""},{"$f":"IF(Template!Q29=\"\",\"\",Template!Q29)","v":""},{"$f":"IF(Template!R29=\"\",\"\",Template!R29)","v":""},{"$f":"IF(Template!S29=\"\",\"\",Template!S29)","v":""},{"$f":"IF(Template!T37=\"\",\"\",Template!T37)","v":""},{"$f":"IF(Template!U37=\"\",\"\",Template!U37)","v":""}]
[{"$f":"IF(Template!A30=\"\",\"\",CONCATENATE(Template!$V$6,\".\",IF(Template!A30<10,CONCATENATE(\"0\",Template!A30),Template!A30)))","v":""},{"$f":"IF(Template!B30=\"\",\"\",Template!B30)","v":""},{"$f":"IF(Template!C30=\"\",\"\",Template!C30)","v":""},{"$f":"IF(Template!D30=\"\",\"\",Template!D30)","v":""},{"$f":"IF(Template!E30=\"\",\"\",Template!E30)","v":""},{"$f":"IF(Template!F30=\"\",\"\",Template!F30)","v":""},{"$f":"IF(Template!G30=\"\",\"\",Template!G30)","v":""},{"$f":"IF(Template!H30=\"\",\"\",Template!H30)","v":""},{"$f":"IF(Template!I30=\"\",\"\",Template!I30)","v":""},{"$f":"IF(Template!J30=\"\",\"\",Template!J30)","v":""},{"$f":"IF(Template!K30=\"\",\"\",Template!K30)","v":""},{"$f":"IF(Template!L30=\"\",\"\",Template!L30)","v":""},{"$f":"IF(Template!M30=\"\",\"\",Template!M30)","v":""},{"$f":"IF(Template!N30=\"\",\"\",Template!N30)","v":""},{"$f":"IF(Template!O30=\"\",\"\",Template!O30)","v":""},{"$f":"IF(Template!P30=\"\",\"\",Template!P30)","v":""},{"$f":"IF(Template!Q30=\"\",\"\",Template!Q30)","v":""},{"$f":"IF(Template!R30=\"\",\"\",Template!R30)","v":""},{"$f":"IF(Template!S30=\"\",\"\",Template!S30)","v":""},{"$f":"IF(Template!T38=\"\",\"\",Template!T38)","v":""},{"$f":"IF(Template!U38=\"\",\"\",Template!U38)","v":""}]
[{"$f":"IF(Template!A31=\"\",\"\",CONCATENATE(Template!$V$6,\".\",IF(Template!A31<10,CONCATENATE(\"0\",Template!A31),Template!A31)))","v":""},{"$f":"IF(Template!B31=\"\",\"\",Template!B31)","v":""},{"$f":"IF(Template!C31=\"\",\"\",Template!C31)","v":""},{"$f":"IF(Template!D31=\"\",\"\",Template!D31)","v":""},{"$f":"IF(Template!E31=\"\",\"\",Template!E31)","v":""},{"$f":"IF(Template!F31=\"\",\"\",Template!F31)","v":""},{"$f":"IF(Template!G31=\"\",\"\",Template!G31)","v":""},{"$f":"IF(Template!H31=\"\",\"\",Template!H31)","v":""},{"$f":"IF(Template!I31=\"\",\"\",Template!I31)","v":""},{"$f":"IF(Template!J31=\"\",\"\",Template!J31)","v":""},{"$f":"IF(Template!K31=\"\",\"\",Template!K31)","v":""},{"$f":"IF(Template!L31=\"\",\"\",Template!L31)","v":""},{"$f":"IF(Template!M31=\"\",\"\",Template!M31)","v":""},{"$f":"IF(Template!N31=\"\",\"\",Template!N31)","v":""},{"$f":"IF(Template!O31=\"\",\"\",Template!O31)","v":""},{"$f":"IF(Template!P31=\"\",\"\",Template!P31)","v":""},{"$f":"IF(Template!Q31=\"\",\"\",Template!Q31)","v":""},{"$f":"IF(Template!R31=\"\",\"\",Template!R31)","v":""},{"$f":"IF(Template!S31=\"\",\"\",Template!S31)","v":""},{"$f":"IF(Template!T39=\"\",\"\",Template!T39)","v":""},{"$f":"IF(Template!U39=\"\",\"\",Template!U39)","v":""}]
[{"$f":"IF(Template!A32=\"\",\"\",CONCATENATE(Template!$V$6,\".\",IF(Template!A32<10,CONCATENATE(\"0\",Template!A32),Template!A32)))","v":""},{"$f":"IF(Template!B32=\"\",\"\",Template!B32)","v":""},{"$f":"IF(Template!C32=\"\",\"\",Template!C32)","v":""},{"$f":"IF(Template!D32=\"\",\"\",Template!D32)","v":""},{"$f":"IF(Template!E32=\"\",\"\",Template!E32)","v":""},{"$f":"IF(Template!F32=\"\",\"\",Template!F32)","v":""},{"$f":"IF(Template!G32=\"\",\"\",Template!G32)","v":""},{"$f":"IF(Template!H32=\"\",\"\",Template!H32)","v":""},{"$f":"IF(Template!I32=\"\",\"\",Template!I32)","v":""},{"$f":"IF(Template!J32=\"\",\"\",Template!J32)","v":""},{"$f":"IF(Template!K32=\"\",\"\",Template!K32)","v":""},{"$f":"IF(Template!L32=\"\",\"\",Template!L32)","v":""},{"$f":"IF(Template!M32=\"\",\"\",Template!M32)","v":""},{"$f":"IF(Template!N32=\"\",\"\",Template!N32)","v":""},{"$f":"IF(Template!O32=\"\",\"\",Template!O32)","v":""},{"$f":"IF(Template!P32=\"\",\"\",Template!P32)","v":""},{"$f":"IF(Template!Q32=\"\",\"\",Template!Q32)","v":""},{"$f":"IF(Template!R32=\"\",\"\",Template!R32)","v":""},{"$f":"IF(Template!S32=\"\",\"\",Template!S32)","v":""},{"$f":"IF(Template!T40=\"\",\"\",Template!T40)","v":""},{"$f":"IF(Template!U40=\"\",\"\",Template!U40)","v":""}]
[{"$f":"IF(Template!A33=\"\",\"\",CONCATENATE(Template!$V$6,\".\",IF(Template!A33<10,CONCATENATE(\"0\",Template!A33),Template!A33)))","v":""},{"$f":"IF(Template!B33=\"\",\"\",Template!B33)","v":""},{"$f":"IF(Template!C33=\"\",\"\",Template!C33)","v":""},{"$f":"IF(Template!D33=\"\",\"\",Template!D33)","v":""},{"$f":"IF(Template!E33=\"\",\"\",Template!E33)","v":""},{"$f":"IF(Template!F33=\"\",\"\",Template!F33)","v":""},{"$f":"IF(Template!G33=\"\",\"\",Template!G33)","v":""},{"$f":"IF(Template!H33=\"\",\"\",Template!H33)","v":""},{"$f":"IF(Template!I33=\"\",\"\",Template!I33)","v":""},{"$f":"IF(Template!J33=\"\",\"\",Template!J33)","v":""},{"$f":"IF(Template!K33=\"\",\"\",Template!K33)","v":""},{"$f":"IF(Template!L33=\"\",\"\",Template!L33)","v":""},{"$f":"IF(Template!M33=\"\",\"\",Template!M33)","v":""},{"$f":"IF(Template!N33=\"\",\"\",Template!N33)","v":""},{"$f":"IF(Template!O33=\"\",\"\",Template!O33)","v":""},{"$f":"IF(Template!P33=\"\",\"\",Template!P33)","v":""},{"$f":"IF(Template!Q33=\"\",\"\",Template!Q33)","v":""},{"$f":"IF(Template!R33=\"\",\"\",Template!R33)","v":""},{"$f":"IF(Template!S33=\"\",\"\",Template!S33)","v":""},{"$f":"IF(Template!T41=\"\",\"\",Template!T41)","v":""},{"$f":"IF(Template!U41=\"\",\"\",Template!U41)","v":""}]
[{"$f":"IF(Template!A34=\"\",\"\",CONCATENATE(Template!$V$6,\".\",IF(Template!A34<10,CONCATENATE(\"0\",Template!A34),Template!A34)))","v":""},{"$f":"IF(Template!B34=\"\",\"\",Template!B34)","v":""},{"$f":"IF(Template!C34=\"\",\"\",Template!C34)","v":""},{"$f":"IF(Template!D34=\"\",\"\",Template!D34)","v":""},{"$f":"IF(Template!E34=\"\",\"\",Template!E34)","v":""},{"$f":"IF(Template!F34=\"\",\"\",Template!F34)","v":""},{"$f":"IF(Template!G34=\"\",\"\",Template!G34)","v":""},{"$f":"IF(Template!H34=\"\",\"\",Template!H34)","v":""},{"$f":"IF(Template!I34=\"\",\"\",Template!I34)","v":""},{"$f":"IF(Template!J34=\"\",\"\",Template!J34)","v":""},{"$f":"IF(Template!K34=\"\",\"\",Template!K34)","v":""},{"$f":"IF(Template!L34=\"\",\"\",Template!L34)","v":""},{"$f":"IF(Template!M34=\"\",\"\",Template!M34)","v":""},{"$f":"IF(Template!N34=\"\",\"\",Template!N34)","v":""},{"$f":"IF(Template!O34=\"\",\"\",Template!O34)","v":""},{"$f":"IF(Template!P34=\"\",\"\",Template!P34)","v":""},{"$f":"IF(Template!Q34=\"\",\"\",Template!Q34)","v":""},{"$f":"IF(Template!R34=\"\",\"\",Template!R34)","v":""},{"$f":"IF(Template!S34=\"\",\"\",Template!S34)","v":""},{"$f":"IF(Template!T42=\"\",\"\",Template!T42)","v":""},{"$f":"IF(Template!U42=\"\",\"\",Template!U42)","v":""}]
[{"$f":"IF(Template!A35=\"\",\"\",CONCATENATE(Template!$V$6,\".\",IF(Template!A35<10,CONCATENATE(\"0\",Template!A35),Template!A35)))","v":""},{"$f":"IF(Template!B35=\"\",\"\",Template!B35)","v":""},{"$f":"IF(Template!C35=\"\",\"\",Template!C35)","v":""},{"$f":"IF(Template!D35=\"\",\"\",Template!D35)","v":""},{"$f":"IF(Template!E35=\"\",\"\",Template!E35)","v":""},{"$f":"IF(Template!F35=\"\",\"\",Template!F35)","v":""},{"$f":"IF(Template!G35=\"\",\"\",Template!G35)","v":""},{"$f":"IF(Template!H35=\"\",\"\",Template!H35)","v":""},{"$f":"IF(Template!I35=\"\",\"\",Template!I35)","v":""},{"$f":"IF(Template!J35=\"\",\"\",Template!J35)","v":""},{"$f":"IF(Template!K35=\"\",\"\",Template!K35)","v":""},{"$f":"IF(Template!L35=\"\",\"\",Template!L35)","v":""},{"$f":"IF(Template!M35=\"\",\"\",Template!M35)","v":""},{"$f":"IF(Template!N35=\"\",\"\",Template!N35)","v":""},{"$f":"IF(Template!O35=\"\",\"\",Template!O35)","v":""},{"$f":"IF(Template!P35=\"\",\"\",Template!P35)","v":""},{"$f":"IF(Template!Q35=\"\",\"\",Template!Q35)","v":""},{"$f":"IF(Template!R35=\"\",\"\",Template!R35)","v":""},{"$f":"IF(Template!S35=\"\",\"\",Template!S35)","v":""},{"$f":"IF(Template!T43=\"\",\"\",Template!T43)","v":""},{"$f":"IF(Template!U43=\"\",\"\",Template!U43)","v":""}]
[{"$f":"IF(Template!A36=\"\",\"\",CONCATENATE(Template!$V$6,\".\",IF(Template!A36<10,CONCATENATE(\"0\",Template!A36),Template!A36)))","v":""},{"$f":"IF(Template!B36=\"\",\"\",Template!B36)","v":""},{"$f":"IF(Template!C36=\"\",\"\",Template!C36)","v":""},{"$f":"IF(Template!D36=\"\",\"\",Template!D36)","v":""},{"$f":"IF(Template!E36=\"\",\"\",Template!E36)","v":""},{"$f":"IF(Template!F36=\"\",\"\",Template!F36)","v":""},{"$f":"IF(Template!G36=\"\",\"\",Template!G36)","v":""},{"$f":"IF(Template!H36=\"\",\"\",Template!H36)","v":""},{"$f":"IF(Template!I36=\"\",\"\",Template!I36)","v":""},{"$f":"IF(Template!J36=\"\",\"\",Template!J36)","v":""},{"$f":"IF(Template!K36=\"\",\"\",Template!K36)","v":""},{"$f":"IF(Template!L36=\"\",\"\",Template!L36)","v":""},{"$f":"IF(Template!M36=\"\",\"\",Template!M36)","v":""},{"$f":"IF(Template!N36=\"\",\"\",Template!N36)","v":""},{"$f":"IF(Template!O36=\"\",\"\",Template!O36)","v":""},{"$f":"IF(Template!P36=\"\",\"\",Template!P36)","v":""},{"$f":"IF(Template!Q36=\"\",\"\",Template!Q36)","v":""},{"$f":"IF(Template!R36=\"\",\"\",Template!R36)","v":""},{"$f":"IF(Template!S36=\"\",\"\",Template!S36)","v":""},{"$f":"IF(Template!T44=\"\",\"\",Template!T44)","v":""},{"$f":"IF(Template!U44=\"\",\"\",Template!U44)","v":""}]
[{"$f":"IF(Template!A37=\"\",\"\",CONCATENATE(Template!$V$6,\".\",IF(Template!A37<10,CONCATENATE(\"0\",Template!A37),Template!A37)))","v":""},{"$f":"IF(Template!B37=\"\",\"\",Template!B37)","v":""},{"$f":"IF(Template!C37=\"\",\"\",Template!C37)","v":""},{"$f":"IF(Template!D37=\"\",\"\",Template!D37)","v":""},{"$f":"IF(Template!E37=\"\",\"\",Template!E37)","v":""},{"$f":"IF(Template!F37=\"\",\"\",Template!F37)","v":""},{"$f":"IF(Template!G37=\"\",\"\",Template!G37)","v":""},{"$f":"IF(Template!H37=\"\",\"\",Template!H37)","v":""},{"$f":"IF(Template!I37=\"\",\"\",Template!I37)","v":""},{"$f":"IF(Template!J37=\"\",\"\",Template!J37)","v":""},{"$f":"IF(Template!K37=\"\",\"\",Template!K37)","v":""},{"$f":"IF(Template!L37=\"\",\"\",Template!L37)","v":""},{"$f":"IF(Template!M37=\"\",\"\",Template!M37)","v":""},{"$f":"IF(Template!N37=\"\",\"\",Template!N37)","v":""},{"$f":"IF(Template!O37=\"\",\"\",Template!O37)","v":""},{"$f":"IF(Template!P37=\"\",\"\",Template!P37)","v":""},{"$f":"IF(Template!Q37=\"\",\"\",Template!Q37)","v":""},{"$f":"IF(Template!R37=\"\",\"\",Template!R37)","v":""},{"$f":"IF(Template!S37=\"\",\"\",Template!S37)","v":""},{"$f":"IF(Template!T45=\"\",\"\",Template!T45)","v":""},{"$f":"IF(Template!U45=\"\",\"\",Template!U45)","v":""}]
[{"$f":"IF(Template!A38=\"\",\"\",CONCATENATE(Template!$V$6,\".\",IF(Template!A38<10,CONCATENATE(\"0\",Template!A38),Template!A38)))","v":""},{"$f":"IF(Template!B38=\"\",\"\",Template!B38)","v":""},{"$f":"IF(Template!C38=\"\",\"\",Template!C38)","v":""},{"$f":"IF(Template!D38=\"\",\"\",Template!D38)","v":""},{"$f":"IF(Template!E38=\"\",\"\",Template!E38)","v":""},{"$f":"IF(Template!F38=\"\",\"\",Template!F38)","v":""},{"$f":"IF(Template!G38=\"\",\"\",Template!G38)","v":""},{"$f":"IF(Template!H38=\"\",\"\",Template!H38)","v":""},{"$f":"IF(Template!I38=\"\",\"\",Template!I38)","v":""},{"$f":"IF(Template!J38=\"\",\"\",Template!J38)","v":""},{"$f":"IF(Template!K38=\"\",\"\",Template!K38)","v":""},{"$f":"IF(Template!L38=\"\",\"\",Template!L38)","v":""},{"$f":"IF(Template!M38=\"\",\"\",Template!M38)","v":""},{"$f":"IF(Template!N38=\"\",\"\",Template!N38)","v":""},{"$f":"IF(Template!O38=\"\",\"\",Template!O38)","v":""},{"$f":"IF(Template!P38=\"\",\"\",Template!P38)","v":""},{"$f":"IF(Template!Q38=\"\",\"\",Template!Q38)","v":""},{"$f":"IF(Template!R38=\"\",\"\",Template!R38)","v":""},{"$f":"IF(Template!S38=\"\",\"\",Template!S38)","v":""},{"$f":"IF(Template!T46=\"\",\"\",Template!T46)","v":""},{"$f":"IF(Template!U46=\"\",\"\",Template!U46)","v":""}]
[{"$f":"IF(Template!A39=\"\",\"\",CONCATENATE(Template!$V$6,\".\",IF(Template!A39<10,CONCATENATE(\"0\",Template!A39),Template!A39)))","v":""},{"$f":"IF(Template!B39=\"\",\"\",Template!B39)","v":""},{"$f":"IF(Template!C39=\"\",\"\",Template!C39)","v":""},{"$f":"IF(Template!D39=\"\",\"\",Template!D39)","v":""},{"$f":"IF(Template!E39=\"\",\"\",Template!E39)","v":""},{"$f":"IF(Template!F39=\"\",\"\",Template!F39)","v":""},{"$f":"IF(Template!G39=\"\",\"\",Template!G39)","v":""},{"$f":"IF(Template!H39=\"\",\"\",Template!H39)","v":""},{"$f":"IF(Template!I39=\"\",\"\",Template!I39)","v":""},{"$f":"IF(Template!J39=\"\",\"\",Template!J39)","v":""},{"$f":"IF(Template!K39=\"\",\"\",Template!K39)","v":""},{"$f":"IF(Template!L39=\"\",\"\",Template!L39)","v":""},{"$f":"IF(Template!M39=\"\",\"\",Template!M39)","v":""},{"$f":"IF(Template!N39=\"\",\"\",Template!N39)","v":""},{"$f":"IF(Template!O39=\"\",\"\",Template!O39)","v":""},{"$f":"IF(Template!P39=\"\",\"\",Template!P39)","v":""},{"$f":"IF(Template!Q39=\"\",\"\",Template!Q39)","v":""},{"$f":"IF(Template!R39=\"\",\"\",Template!R39)","v":""},{"$f":"IF(Template!S39=\"\",\"\",Template!S39)","v":""},{"$f":"IF(Template!T47=\"\",\"\",Template!T47)","v":""},{"$f":"IF(Template!U47=\"\",\"\",Template!U47)","v":""}]
[{"$f":"IF(Template!A40=\"\",\"\",CONCATENATE(Template!$V$6,\".\",IF(Template!A40<10,CONCATENATE(\"0\",Template!A40),Template!A40)))","v":""},{"$f":"IF(Template!B40=\"\",\"\",Template!B40)","v":""},{"$f":"IF(Template!C40=\"\",\"\",Template!C40)","v":""},{"$f":"IF(Template!D40=\"\",\"\",Template!D40)","v":""},{"$f":"IF(Template!E40=\"\",\"\",Template!E40)","v":""},{"$f":"IF(Template!F40=\"\",\"\",Template!F40)","v":""},{"$f":"IF(Template!G40=\"\",\"\",Template!G40)","v":""},{"$f":"IF(Template!H40=\"\",\"\",Template!H40)","v":""},{"$f":"IF(Template!I40=\"\",\"\",Template!I40)","v":""},{"$f":"IF(Template!J40=\"\",\"\",Template!J40)","v":""},{"$f":"IF(Template!K40=\"\",\"\",Template!K40)","v":""},{"$f":"IF(Template!L40=\"\",\"\",Template!L40)","v":""},{"$f":"IF(Template!M40=\"\",\"\",Template!M40)","v":""},{"$f":"IF(Template!N40=\"\",\"\",Template!N40)","v":""},{"$f":"IF(Template!O40=\"\",\"\",Template!O40)","v":""},{"$f":"IF(Template!P40=\"\",\"\",Template!P40)","v":""},{"$f":"IF(Template!Q40=\"\",\"\",Template!Q40)","v":""},{"$f":"IF(Template!R40=\"\",\"\",Template!R40)","v":""},{"$f":"IF(Template!S40=\"\",\"\",Template!S40)","v":""},{"$f":"IF(Template!T48=\"\",\"\",Template!T48)","v":""},{"$f":"IF(Template!U48=\"\",\"\",Template!U48)","v":""}]
[{"$f":"IF(Template!A41=\"\",\"\",CONCATENATE(Template!$V$6,\".\",IF(Template!A41<10,CONCATENATE(\"0\",Template!A41),Template!A41)))","v":""},{"$f":"IF(Template!B41=\"\",\"\",Template!B41)","v":""},{"$f":"IF(Template!C41=\"\",\"\",Template!C41)","v":""},{"$f":"IF(Template!D41=\"\",\"\",Template!D41)","v":""},{"$f":"IF(Template!E41=\"\",\"\",Template!E41)","v":""},{"$f":"IF(Template!F41=\"\",\"\",Template!F41)","v":""},{"$f":"IF(Template!G41=\"\",\"\",Template!G41)","v":""},{"$f":"IF(Template!H41=\"\",\"\",Template!H41)","v":""},{"$f":"IF(Template!I41=\"\",\"\",Template!I41)","v":""},{"$f":"IF(Template!J41=\"\",\"\",Template!J41)","v":""},{"$f":"IF(Template!K41=\"\",\"\",Template!K41)","v":""},{"$f":"IF(Template!L41=\"\",\"\",Template!L41)","v":""},{"$f":"IF(Template!M41=\"\",\"\",Template!M41)","v":""},{"$f":"IF(Template!N41=\"\",\"\",Template!N41)","v":""},{"$f":"IF(Template!O41=\"\",\"\",Template!O41)","v":""},{"$f":"IF(Template!P41=\"\",\"\",Template!P41)","v":""},{"$f":"IF(Template!Q41=\"\",\"\",Template!Q41)","v":""},{"$f":"IF(Template!R41=\"\",\"\",Template!R41)","v":""},{"$f":"IF(Template!S41=\"\",\"\",Template!S41)","v":""},{"$f":"IF(Template!T49=\"\",\"\",Template!T49)","v":""},{"$f":"IF(Template!U49=\"\",\"\",Template!U49)","v":""}]
[{"$f":"IF(Template!A42=\"\",\"\",CONCATENATE(Template!$V$6,\".\",IF(Template!A42<10,CONCATENATE(\"0\",Template!A42),Template!A42)))","v":""},{"$f":"IF(Template!B42=\"\",\"\",Template!B42)","v":""},{"$f":"IF(Template!C42=\"\",\"\",Template!C42)","v":""},{"$f":"IF(Template!D42=\"\",\"\",Template!D42)","v":""},{"$f":"IF(Template!E42=\"\",\"\",Template!E42)","v":""},{"$f":"IF(Template!F42=\"\",\"\",Template!F42)","v":""},{"$f":"IF(Template!G42=\"\",\"\",Template!G42)","v":""},{"$f":"IF(Template!H42=\"\",\"\",Template!H42)","v":""},{"$f":"IF(Template!I42=\"\",\"\",Template!I42)","v":""},{"$f":"IF(Template!J42=\"\",\"\",Template!J42)","v":""},{"$f":"IF(Template!K42=\"\",\"\",Template!K42)","v":""},{"$f":"IF(Template!L42=\"\",\"\",Template!L42)","v":""},{"$f":"IF(Template!M42=\"\",\"\",Template!M42)","v":""},{"$f":"IF(Template!N42=\"\",\"\",Template!N42)","v":""},{"$f":"IF(Template!O42=\"\",\"\",Template!O42)","v":""},{"$f":"IF(Template!P42=\"\",\"\",Template!P42)","v":""},{"$f":"IF(Template!Q42=\"\",\"\",Template!Q42)","v":""},{"$f":"IF(Template!R42=\"\",\"\",Template!R42)","v":""},{"$f":"IF(Template!S42=\"\",\"\",Template!S42)","v":""},{"$f":"IF(Template!T50=\"\",\"\",Template!T50)","v":""},{"$f":"IF(Template!U50=\"\",\"\",Template!U50)","v":""}]
[{"$f":"IF(Template!A43=\"\",\"\",CONCATENATE(Template!$V$6,\".\",IF(Template!A43<10,CONCATENATE(\"0\",Template!A43),Template!A43)))","v":""},{"$f":"IF(Template!B43=\"\",\"\",Template!B43)","v":""},{"$f":"IF(Template!C43=\"\",\"\",Template!C43)","v":""},{"$f":"IF(Template!D43=\"\",\"\",Template!D43)","v":""},{"$f":"IF(Template!E43=\"\",\"\",Template!E43)","v":""},{"$f":"IF(Template!F43=\"\",\"\",Template!F43)","v":""},{"$f":"IF(Template!G43=\"\",\"\",Template!G43)","v":""},{"$f":"IF(Template!H43=\"\",\"\",Template!H43)","v":""},{"$f":"IF(Template!I43=\"\",\"\",Template!I43)","v":""},{"$f":"IF(Template!J43=\"\",\"\",Template!J43)","v":""},{"$f":"IF(Template!K43=\"\",\"\",Template!K43)","v":""},{"$f":"IF(Template!L43=\"\",\"\",Template!L43)","v":""},{"$f":"IF(Template!M43=\"\",\"\",Template!M43)","v":""},{"$f":"IF(Template!N43=\"\",\"\",Template!N43)","v":""},{"$f":"IF(Template!O43=\"\",\"\",Template!O43)","v":""},{"$f":"IF(Template!P43=\"\",\"\",Template!P43)","v":""},{"$f":"IF(Template!Q43=\"\",\"\",Template!Q43)","v":""},{"$f":"IF(Template!R43=\"\",\"\",Template!R43)","v":""},{"$f":"IF(Template!S43=\"\",\"\",Template!S43)","v":""},{"$f":"IF(Template!T51=\"\",\"\",Template!T51)","v":""},{"$f":"IF(Template!U51=\"\",\"\",Template!U51)","v":""}]
[{"$f":"IF(Template!A44=\"\",\"\",CONCATENATE(Template!$V$6,\".\",IF(Template!A44<10,CONCATENATE(\"0\",Template!A44),Template!A44)))","v":""},{"$f":"IF(Template!B44=\"\",\"\",Template!B44)","v":""},{"$f":"IF(Template!C44=\"\",\"\",Template!C44)","v":""},{"$f":"IF(Template!D44=\"\",\"\",Template!D44)","v":""},{"$f":"IF(Template!E44=\"\",\"\",Template!E44)","v":""},{"$f":"IF(Template!F44=\"\",\"\",Template!F44)","v":""},{"$f":"IF(Template!G44=\"\",\"\",Template!G44)","v":""},{"$f":"IF(Template!H44=\"\",\"\",Template!H44)","v":""},{"$f":"IF(Template!I44=\"\",\"\",Template!I44)","v":""},{"$f":"IF(Template!J44=\"\",\"\",Template!J44)","v":""},{"$f":"IF(Template!K44=\"\",\"\",Template!K44)","v":""},{"$f":"IF(Template!L44=\"\",\"\",Template!L44)","v":""},{"$f":"IF(Template!M44=\"\",\"\",Template!M44)","v":""},{"$f":"IF(Template!N44=\"\",\"\",Template!N44)","v":""},{"$f":"IF(Template!O44=\"\",\"\",Template!O44)","v":""},{"$f":"IF(Template!P44=\"\",\"\",Template!P44)","v":""},{"$f":"IF(Template!Q44=\"\",\"\",Template!Q44)","v":""},{"$f":"IF(Template!R44=\"\",\"\",Template!R44)","v":""},{"$f":"IF(Template!S44=\"\",\"\",Template!S44)","v":""},{"$f":"IF(Template!T52=\"\",\"\",Template!T52)","v":""},{"$f":"IF(Template!U52=\"\",\"\",Template!U52)","v":""}]
[{"$f":"IF(Template!A45=\"\",\"\",CONCATENATE(Template!$V$6,\".\",IF(Template!A45<10,CONCATENATE(\"0\",Template!A45),Template!A45)))","v":""},{"$f":"IF(Template!B45=\"\",\"\",Template!B45)","v":""},{"$f":"IF(Template!C45=\"\",\"\",Template!C45)","v":""},{"$f":"IF(Template!D45=\"\",\"\",Template!D45)","v":""},{"$f":"IF(Template!E45=\"\",\"\",Template!E45)","v":""},{"$f":"IF(Template!F45=\"\",\"\",Template!F45)","v":""},{"$f":"IF(Template!G45=\"\",\"\",Template!G45)","v":""},{"$f":"IF(Template!H45=\"\",\"\",Template!H45)","v":""},{"$f":"IF(Template!I45=\"\",\"\",Template!I45)","v":""},{"$f":"IF(Template!J45=\"\",\"\",Template!J45)","v":""},{"$f":"IF(Template!K45=\"\",\"\",Template!K45)","v":""},{"$f":"IF(Template!L45=\"\",\"\",Template!L45)","v":""},{"$f":"IF(Template!M45=\"\",\"\",Template!M45)","v":""},{"$f":"IF(Template!N45=\"\",\"\",Template!N45)","v":""},{"$f":"IF(Template!O45=\"\",\"\",Template!O45)","v":""},{"$f":"IF(Template!P45=\"\",\"\",Template!P45)","v":""},{"$f":"IF(Template!Q45=\"\",\"\",Template!Q45)","v":""},{"$f":"IF(Template!R45=\"\",\"\",Template!R45)","v":""},{"$f":"IF(Template!S45=\"\",\"\",Template!S45)","v":""},{"$f":"IF(Template!T53=\"\",\"\",Template!T53)","v":""},{"$f":"IF(Template!U53=\"\",\"\",Template!U53)","v":""}]
[{"$f":"IF(Template!A46=\"\",\"\",CONCATENATE(Template!$V$6,\".\",IF(Template!A46<10,CONCATENATE(\"0\",Template!A46),Template!A46)))","v":""},{"$f":"IF(Template!B46=\"\",\"\",Template!B46)","v":""},{"$f":"IF(Template!C46=\"\",\"\",Template!C46)","v":""},{"$f":"IF(Template!D46=\"\",\"\",Template!D46)","v":""},{"$f":"IF(Template!E46=\"\",\"\",Template!E46)","v":""},{"$f":"IF(Template!F46=\"\",\"\",Template!F46)","v":""},{"$f":"IF(Template!G46=\"\",\"\",Template!G46)","v":""},{"$f":"IF(Template!H46=\"\",\"\",Template!H46)","v":""},{"$f":"IF(Template!I46=\"\",\"\",Template!I46)","v":""},{"$f":"IF(Template!J46=\"\",\"\",Template!J46)","v":""},{"$f":"IF(Template!K46=\"\",\"\",Template!K46)","v":""},{"$f":"IF(Template!L46=\"\",\"\",Template!L46)","v":""},{"$f":"IF(Template!M46=\"\",\"\",Template!M46)","v":""},{"$f":"IF(Template!N46=\"\",\"\",Template!N46)","v":""},{"$f":"IF(Template!O46=\"\",\"\",Template!O46)","v":""},{"$f":"IF(Template!P46=\"\",\"\",Template!P46)","v":""},{"$f":"IF(Template!Q46=\"\",\"\",Template!Q46)","v":""},{"$f":"IF(Template!R46=\"\",\"\",Template!R46)","v":""},{"$f":"IF(Template!S46=\"\",\"\",Template!S46)","v":""},{"$f":"IF(Template!T54=\"\",\"\",Template!T54)","v":""},{"$f":"IF(Template!U54=\"\",\"\",Template!U54)","v":""}]
[{"$f":"IF(Template!A47=\"\",\"\",CONCATENATE(Template!$V$6,\".\",IF(Template!A47<10,CONCATENATE(\"0\",Template!A47),Template!A47)))","v":""},{"$f":"IF(Template!B47=\"\",\"\",Template!B47)","v":""},{"$f":"IF(Template!C47=\"\",\"\",Template!C47)","v":""},{"$f":"IF(Template!D47=\"\",\"\",Template!D47)","v":""},{"$f":"IF(Template!E47=\"\",\"\",Template!E47)","v":""},{"$f":"IF(Template!F47=\"\",\"\",Template!F47)","v":""},{"$f":"IF(Template!G47=\"\",\"\",Template!G47)","v":""},{"$f":"IF(Template!H47=\"\",\"\",Template!H47)","v":""},{"$f":"IF(Template!I47=\"\",\"\",Template!I47)","v":""},{"$f":"IF(Template!J47=\"\",\"\",Template!J47)","v":""},{"$f":"IF(Template!K47=\"\",\"\",Template!K47)","v":""},{"$f":"IF(Template!L47=\"\",\"\",Template!L47)","v":""},{"$f":"IF(Template!M47=\"\",\"\",Template!M47)","v":""},{"$f":"IF(Template!N47=\"\",\"\",Template!N47)","v":""},{"$f":"IF(Template!O47=\"\",\"\",Template!O47)","v":""},{"$f":"IF(Template!P47=\"\",\"\",Template!P47)","v":""},{"$f":"IF(Template!Q47=\"\",\"\",Template!Q47)","v":""},{"$f":"IF(Template!R47=\"\",\"\",Template!R47)","v":""},{"$f":"IF(Template!S47=\"\",\"\",Template!S47)","v":""},{"$f":"IF(Template!T55=\"\",\"\",Template!T55)","v":""},{"$f":"IF(Template!U55=\"\",\"\",Template!U55)","v":""}]
[{"$f":"IF(Template!A48=\"\",\"\",CONCATENATE(Template!$V$6,\".\",IF(Template!A48<10,CONCATENATE(\"0\",Template!A48),Template!A48)))","v":""},{"$f":"IF(Template!B48=\"\",\"\",Template!B48)","v":""},{"$f":"IF(Template!C48=\"\",\"\",Template!C48)","v":""},{"$f":"IF(Template!D48=\"\",\"\",Template!D48)","v":""},{"$f":"IF(Template!E48=\"\",\"\",Template!E48)","v":""},{"$f":"IF(Template!F48=\"\",\"\",Template!F48)","v":""},{"$f":"IF(Template!G48=\"\",\"\",Template!G48)","v":""},{"$f":"IF(Template!H48=\"\",\"\",Template!H48)","v":""},{"$f":"IF(Template!I48=\"\",\"\",Template!I48)","v":""},{"$f":"IF(Template!J48=\"\",\"\",Template!J48)","v":""},{"$f":"IF(Template!K48=\"\",\"\",Template!K48)","v":""},{"$f":"IF(Template!L48=\"\",\"\",Template!L48)","v":""},{"$f":"IF(Template!M48=\"\",\"\",Template!M48)","v":""},{"$f":"IF(Template!N48=\"\",\"\",Template!N48)","v":""},{"$f":"IF(Template!O48=\"\",\"\",Template!O48)","v":""},{"$f":"IF(Template!P48=\"\",\"\",Template!P48)","v":""},{"$f":"IF(Template!Q48=\"\",\"\",Template!Q48)","v":""},{"$f":"IF(Template!R48=\"\",\"\",Template!R48)","v":""},{"$f":"IF(Template!S48=\"\",\"\",Template!S48)","v":""},{"$f":"IF(Template!T56=\"\",\"\",Template!T56)","v":""},{"$f":"IF(Template!U56=\"\",\"\",Template!U56)","v":""}]
[{"$f":"IF(Template!A49=\"\",\"\",CONCATENATE(Template!$V$6,\".\",IF(Template!A49<10,CONCATENATE(\"0\",Template!A49),Template!A49)))","v":""},{"$f":"IF(Template!B49=\"\",\"\",Template!B49)","v":""},{"$f":"IF(Template!C49=\"\",\"\",Template!C49)","v":""},{"$f":"IF(Template!D49=\"\",\"\",Template!D49)","v":""},{"$f":"IF(Template!E49=\"\",\"\",Template!E49)","v":""},{"$f":"IF(Template!F49=\"\",\"\",Template!F49)","v":""},{"$f":"IF(Template!G49=\"\",\"\",Template!G49)","v":""},{"$f":"IF(Template!H49=\"\",\"\",Template!H49)","v":""},{"$f":"IF(Template!I49=\"\",\"\",Template!I49)","v":""},{"$f":"IF(Template!J49=\"\",\"\",Template!J49)","v":""},{"$f":"IF(Template!K49=\"\",\"\",Template!K49)","v":""},{"$f":"IF(Template!L49=\"\",\"\",Template!L49)","v":""},{"$f":"IF(Template!M49=\"\",\"\",Template!M49)","v":""},{"$f":"IF(Template!N49=\"\",\"\",Template!N49)","v":""},{"$f":"IF(Template!O49=\"\",\"\",Template!O49)","v":""},{"$f":"IF(Template!P49=\"\",\"\",Template!P49)","v":""},{"$f":"IF(Template!Q49=\"\",\"\",Template!Q49)","v":""},{"$f":"IF(Template!R49=\"\",\"\",Template!R49)","v":""},{"$f":"IF(Template!S49=\"\",\"\",Template!S49)","v":""},{"$f":"IF(Template!T12=\"\",\"\",Template!T12)","v":""},{"$f":"IF(Template!U13=\"\",\"\",Template!U13)","v":""}]
[{"$f":"IF(Template!A50=\"\",\"\",CONCATENATE(Template!$V$6,\".\",IF(Template!A50<10,CONCATENATE(\"0\",Template!A50),Template!A50)))","v":""},{"$f":"IF(Template!B50=\"\",\"\",Template!B50)","v":""},{"$f":"IF(Template!C50=\"\",\"\",Template!C50)","v":""},{"$f":"IF(Template!D50=\"\",\"\",Template!D50)","v":""},{"$f":"IF(Template!E50=\"\",\"\",Template!E50)","v":""},{"$f":"IF(Template!F50=\"\",\"\",Template!F50)","v":""},{"$f":"IF(Template!G50=\"\",\"\",Template!G50)","v":""},{"$f":"IF(Template!H50=\"\",\"\",Template!H50)","v":""},{"$f":"IF(Template!I50=\"\",\"\",Template!I50)","v":""},{"$f":"IF(Template!J50=\"\",\"\",Template!J50)","v":""},{"$f":"IF(Template!K50=\"\",\"\",Template!K50)","v":""},{"$f":"IF(Template!L50=\"\",\"\",Template!L50)","v":""},{"$f":"IF(Template!M50=\"\",\"\",Template!M50)","v":""},{"$f":"IF(Template!N50=\"\",\"\",Template!N50)","v":""},{"$f":"IF(Template!O50=\"\",\"\",Template!O50)","v":""},{"$f":"IF(Template!P50=\"\",\"\",Template!P50)","v":""},{"$f":"IF(Template!Q50=\"\",\"\",Template!Q50)","v":""},{"$f":"IF(Template!R50=\"\",\"\",Template!R50)","v":""},{"$f":"IF(Template!S50=\"\",\"\",Template!S50)","v":""},{"$f":"IF(Template!T13=\"\",\"\",Template!T13)","v":""},{"$f":"IF(Template!U16=\"\",\"\",Template!U16)","v":""}]
[{"$f":"IF(Template!A51=\"\",\"\",CONCATENATE(Template!$V$6,\".\",IF(Template!A51<10,CONCATENATE(\"0\",Template!A51),Template!A51)))","v":""},{"$f":"IF(Template!B51=\"\",\"\",Template!B51)","v":""},{"$f":"IF(Template!C51=\"\",\"\",Template!C51)","v":""},{"$f":"IF(Template!D51=\"\",\"\",Template!D51)","v":""},{"$f":"IF(Template!E51=\"\",\"\",Template!E51)","v":""},{"$f":"IF(Template!F51=\"\",\"\",Template!F51)","v":""},{"$f":"IF(Template!G51=\"\",\"\",Template!G51)","v":""},{"$f":"IF(Template!H51=\"\",\"\",Template!H51)","v":""},{"$f":"IF(Template!I51=\"\",\"\",Template!I51)","v":""},{"$f":"IF(Template!J51=\"\",\"\",Template!J51)","v":""},{"$f":"IF(Template!K51=\"\",\"\",Template!K51)","v":""},{"$f":"IF(Template!L51=\"\",\"\",Template!L51)","v":""},{"$f":"IF(Template!M51=\"\",\"\",Template!M51)","v":""},{"$f":"IF(Template!N51=\"\",\"\",Template!N51)","v":""},{"$f":"IF(Template!O51=\"\",\"\",Template!O51)","v":""},{"$f":"IF(Template!P51=\"\",\"\",Template!P51)","v":""},{"$f":"IF(Template!Q51=\"\",\"\",Template!Q51)","v":""},{"$f":"IF(Template!R51=\"\",\"\",Template!R51)","v":""},{"$f":"IF(Template!S51=\"\",\"\",Template!S51)","v":""},{"$f":"IF(Template!T14=\"\",\"\",Template!T14)","v":""},{"$f":"IF(Template!U12=\"\",\"\",Template!U12)","v":""}]
[{"$f":"IF(Template!A52=\"\",\"\",CONCATENATE(Template!$V$6,\".\",IF(Template!A52<10,CONCATENATE(\"0\",Template!A52),Template!A52)))","v":""},{"$f":"IF(Template!B52=\"\",\"\",Template!B52)","v":""},{"$f":"IF(Template!C52=\"\",\"\",Template!C52)","v":""},{"$f":"IF(Template!D52=\"\",\"\",Template!D52)","v":""},{"$f":"IF(Template!E52=\"\",\"\",Template!E52)","v":""},{"$f":"IF(Template!F52=\"\",\"\",Template!F52)","v":""},{"$f":"IF(Template!G52=\"\",\"\",Template!G52)","v":""},{"$f":"IF(Template!H52=\"\",\"\",Template!H52)","v":""},{"$f":"IF(Template!I52=\"\",\"\",Template!I52)","v":""},{"$f":"IF(Template!J52=\"\",\"\",Template!J52)","v":""},{"$f":"IF(Template!K52=\"\",\"\",Template!K52)","v":""},{"$f":"IF(Template!L52=\"\",\"\",Template!L52)","v":""},{"$f":"IF(Template!M52=\"\",\"\",Template!M52)","v":""},{"$f":"IF(Template!N52=\"\",\"\",Template!N52)","v":""},{"$f":"IF(Template!O52=\"\",\"\",Template!O52)","v":""},{"$f":"IF(Template!P52=\"\",\"\",Template!P52)","v":""},{"$f":"IF(Template!Q52=\"\",\"\",Template!Q52)","v":""},{"$f":"IF(Template!R52=\"\",\"\",Template!R52)","v":""},{"$f":"IF(Template!S52=\"\",\"\",Template!S52)","v":""},{"$f":"IF(Template!T15=\"\",\"\",Template!T15)","v":""},{"$f":"IF(Template!U14=\"\",\"\",Template!U14)","v":""}]
[{"$f":"IF(Template!A53=\"\",\"\",CONCATENATE(Template!$V$6,\".\",IF(Template!A53<10,CONCATENATE(\"0\",Template!A53),Template!A53)))","v":""},{"$f":"IF(Template!B53=\"\",\"\",Template!B53)","v":""},{"$f":"IF(Template!C53=\"\",\"\",Template!C53)","v":""},{"$f":"IF(Template!D53=\"\",\"\",Template!D53)","v":""},{"$f":"IF(Template!E53=\"\",\"\",Template!E53)","v":""},{"$f":"IF(Template!F53=\"\",\"\",Template!F53)","v":""},{"$f":"IF(Template!G53=\"\",\"\",Template!G53)","v":""},{"$f":"IF(Template!H53=\"\",\"\",Template!H53)","v":""},{"$f":"IF(Template!I53=\"\",\"\",Template!I53)","v":""},{"$f":"IF(Template!J53=\"\",\"\",Template!J53)","v":""},{"$f":"IF(Template!K53=\"\",\"\",Template!K53)","v":""},{"$f":"IF(Template!L53=\"\",\"\",Template!L53)","v":""},{"$f":"IF(Template!M53=\"\",\"\",Template!M53)","v":""},{"$f":"IF(Template!N53=\"\",\"\",Template!N53)","v":""},{"$f":"IF(Template!O53=\"\",\"\",Template!O53)","v":""},{"$f":"IF(Template!P53=\"\",\"\",Template!P53)","v":""},{"$f":"IF(Template!Q53=\"\",\"\",Template!Q53)","v":""},{"$f":"IF(Template!R53=\"\",\"\",Template!R53)","v":""},{"$f":"IF(Template!S53=\"\",\"\",Template!S53)","v":""},{"$f":"IF(Template!T16=\"\",\"\",Template!T16)","v":""},{"$f":"IF(Template!U15=\"\",\"\",Template!U15)","v":""}]
[{"$f":"IF(Template!A54=\"\",\"\",CONCATENATE(Template!$V$6,\".\",IF(Template!A54<10,CONCATENATE(\"0\",Template!A54),Template!A54)))","v":""},{"$f":"IF(Template!B54=\"\",\"\",Template!B54)","v":""},{"$f":"IF(Template!C54=\"\",\"\",Template!C54)","v":""},{"$f":"IF(Template!D54=\"\",\"\",Template!D54)","v":""},{"$f":"IF(Template!E54=\"\",\"\",Template!E54)","v":""},{"$f":"IF(Template!F54=\"\",\"\",Template!F54)","v":""},{"$f":"IF(Template!G54=\"\",\"\",Template!G54)","v":""},{"$f":"IF(Template!H54=\"\",\"\",Template!H54)","v":""},{"$f":"IF(Template!I54=\"\",\"\",Template!I54)","v":""},{"$f":"IF(Template!J54=\"\",\"\",Template!J54)","v":""},{"$f":"IF(Template!K54=\"\",\"\",Template!K54)","v":""},{"$f":"IF(Template!L54=\"\",\"\",Template!L54)","v":""},{"$f":"IF(Template!M54=\"\",\"\",Template!M54)","v":""},{"$f":"IF(Template!N54=\"\",\"\",Template!N54)","v":""},{"$f":"IF(Template!O54=\"\",\"\",Template!O54)","v":""},{"$f":"IF(Template!P54=\"\",\"\",Template!P54)","v":""},{"$f":"IF(Template!Q54=\"\",\"\",Template!Q54)","v":""},{"$f":"IF(Template!R54=\"\",\"\",Template!R54)","v":""},{"$f":"IF(Template!S54=\"\",\"\",Template!S54)","v":""},{"$f":"IF(Template!T17=\"\",\"\",Template!T17)","v":""},{"$f":"IF(Template!U17=\"\",\"\",Template!U17)","v":""}]
[{"$f":"IF(Template!A55=\"\",\"\",CONCATENATE(Template!$V$6,\".\",IF(Template!A55<10,CONCATENATE(\"0\",Template!A55),Template!A55)))","v":""},{"$f":"IF(Template!B55=\"\",\"\",Template!B55)","v":""},{"$f":"IF(Template!C55=\"\",\"\",Template!C55)","v":""},{"$f":"IF(Template!D55=\"\",\"\",Template!D55)","v":""},{"$f":"IF(Template!E55=\"\",\"\",Template!E55)","v":""},{"$f":"IF(Template!F55=\"\",\"\",Template!F55)","v":""},{"$f":"IF(Template!G55=\"\",\"\",Template!G55)","v":""},{"$f":"IF(Template!H55=\"\",\"\",Template!H55)","v":""},{"$f":"IF(Template!I55=\"\",\"\",Template!I55)","v":""},{"$f":"IF(Template!J55=\"\",\"\",Template!J55)","v":""},{"$f":"IF(Template!K55=\"\",\"\",Template!K55)","v":""},{"$f":"IF(Template!L55=\"\",\"\",Template!L55)","v":""},{"$f":"IF(Template!M55=\"\",\"\",Template!M55)","v":""},{"$f":"IF(Template!N55=\"\",\"\",Template!N55)","v":""},{"$f":"IF(Template!O55=\"\",\"\",Template!O55)","v":""},{"$f":"IF(Template!P55=\"\",\"\",Template!P55)","v":""},{"$f":"IF(Template!Q55=\"\",\"\",Template!Q55)","v":""},{"$f":"IF(Template!R55=\"\",\"\",Template!R55)","v":""},{"$f":"IF(Template!S55=\"\",\"\",Template!S55)","v":""},{"$f":"IF(Template!T18=\"\",\"\",Template!T18)","v":""},{"$f":"IF(Template!U18=\"\",\"\",Template!U18)","v":""}]
[{"$f":"IF(Template!A56=\"\",\"\",CONCATENATE(Template!$V$6,\".\",IF(Template!A56<10,CONCATENATE(\"0\",Template!A56),Template!A56)))","v":""},{"$f":"IF(Template!B56=\"\",\"\",Template!B56)","v":""},{"$f":"IF(Template!C56=\"\",\"\",Template!C56)","v":""},{"$f":"IF(Template!D56=\"\",\"\",Template!D56)","v":""},{"$f":"IF(Template!E56=\"\",\"\",Template!E56)","v":""},{"$f":"IF(Template!F56=\"\",\"\",Template!F56)","v":""},{"$f":"IF(Template!G56=\"\",\"\",Template!G56)","v":""},{"$f":"IF(Template!H56=\"\",\"\",Template!H56)","v":""},{"$f":"IF(Template!I56=\"\",\"\",Template!I56)","v":""},{"$f":"IF(Template!J56=\"\",\"\",Template!J56)","v":""},{"$f":"IF(Template!K56=\"\",\"\",Template!K56)","v":""},{"$f":"IF(Template!L56=\"\",\"\",Template!L56)","v":""},{"$f":"IF(Template!M56=\"\",\"\",Template!M56)","v":""},{"$f":"IF(Template!N56=\"\",\"\",Template!N56)","v":""},{"$f":"IF(Template!O56=\"\",\"\",Template!O56)","v":""},{"$f":"IF(Template!P56=\"\",\"\",Template!P56)","v":""},{"$f":"IF(Template!Q56=\"\",\"\",Template!Q56)","v":""},{"$f":"IF(Template!R56=\"\",\"\",Template!R56)","v":""},{"$f":"IF(Template!S56=\"\",\"\",Template!S56)","v":""},{"$f":"IF(Template!T19=\"\",\"\",Template!T19)","v":""},{"$f":"IF(Template!U19=\"\",\"\",Template!U19)","v":""}]
[null,null,null,null,null,null,null,null,"Total Hours ",{"$f":"SUM(J12:J56)","v":0},null,null,{"$f":"SUM(M12:M56)","v":0},null,{"$f":"SUM(O12:O56)","v":0},{"$f":"SUM(P12:P56)","v":0}]
[null,null,null,null,null,null,null,null,null,null,null,null,null,null,null,null,"Prepared by:"]
[]
[null,null,null,null,null,null,null,null,null,null,null,null,null,null,null,null,"Approved by:"]
[]
[null,null,null,null,null,null,null,null,null,null,null,null,null,null,null,null,"HR Approval:"]

{"sheet":"Template","index":2,"n_rows":62,"n_cols":22,"rows_kept":62,"cut":false,"hidden":false,"merged":[[56,19,56,21],[2,0,2,21],[3,0,3,21],[8,16,8,18],[8,2,8,3],[5,17,5,18],[5,2,5,4],[5,9,5,13],[57,19,57,21],[58,19,58,21],[59,19,59,21],[60,19,60,21],[61,19,61,21],[0,0,0,17],[57,17,57,18],[59,17,59,18],[1,0,1,17],[61,17,61,18]]}
["                   Hourly Paid Timesheet",null,null,null,null,null,null,null,null,null,null,null,null,null,null,null,null,null,{"$f":"Sheet3!E1","v":"(V21 Mar25)"}]
["                      Hand in by published deadline",null,null,null,null,null,null,null,null,null,null,null,null,null,null,null,null,null,"Web Page Link"]
["Supervisor must sign at bottom enable payment"]
["Failure to sign may delay payment "]
[]
[null,"Faculty/Area:",null,null,null,null,null,null,"Budget Holder:",null,null,null,null,null,null,null,"Month:",null,null,null,null,{"$f":"IF(R6=\"\",\"\",VLOOKUP(R6,Sheet3!Q4:R40,2))","v":""}]
[]
[]
["No","Employee","Name",null,"Department","Work Details","Work Type","Date ","Date ","Total Hours","Rate","Annual","Total Hours","Pay","Holiday Pay","Total Pay","Agresso Coding",null,null,null,null,{"$f":"IF(COUNTIF($V$12:$V$56,\"INVALID COMBINATION\")=0,\"Code Combinations OK\",CONCATENATE(COUNTIF($V$12:$V$56,\"INVALID COMBINATION\"),\" Invalid Combination\"))","v":"Code Combinations OK"}]
[null,"Number","Forename","Surname",null,"(brief overview)",null,"From","To","Worked","£","Leave","Accrued","£","£","£","Cost Centre","Account Code","Project Code",null,null,{"$f":"IF(COUNTIF($V$12:$V$56,\"No Coding\")=0,\"Codes entered OK\",CONCATENATE(COUNTIF($V$12:$V$56,\"No Coding\"),\" Missing Codes\"))","v":"Codes entered OK"}]
["Example",12345678,"Fred","Blogs","Catering","HP Form Design","Support","2018-08-01","2018-08-01",10,7.38,0.1207,1.167,73.8,8.61,82.41,"ACFI",1300,"GEN00001",null,"ACFI1300GEN00001",{"$f":"IF(P11=\"\",\"\",IF(AND(S11=\"\",R11=\"\",Q11=\"\"),\"No Coding\",IF(U11=\"\",\" \",IFERROR(VLOOKUP($U:$U,[1]Sheet3!E:F,2,FALSE),\"INVALID COMBINATION\"))))","v":"OK"}]
[{"$f":"IF(CONCATENATE(B12,D12,H12,N12,O12,Q12)=\"\",\"\",CONCATENATE(LEFT($C$6,3),IF(A11=\"example\",1,RIGHT(A11,LEN(A11)-3)+1)))","v":""},null,null,null,null,null,null,null,null,null,null,{"$f":"IF(G12=\"support\",0.1207,\"\")","v":""},{"$f":"IF(J12=0,\"\",IF(L12=\"\",0,J12*L12))","v":""},{"$f":"IF(J12=\"\",\"\",K12*J12)","v":""},{"$f":"IF(M12=\"\",\"\",ROUND(M12*K12,2))","v":""},{"$f":"IF(SUM(N12:O12)=0,\"\",SUM(N12:O12))","v":""},null,null,null,null,{"$f":"CONCATENATE(Q12,R12,S12)","v":""},{"$f":"IF(P12=\"\",\"\",IF(AND(S12=\"\",R12=\"\",Q12=\"\"),\"No Coding\",IF(U12=\"\",\" \",IFERROR(VLOOKUP($U:$U,Sheet3!E:F,2,FALSE),\"INVALID COMBINATION\"))))","v":""}]
[{"$f":"IF(CONCATENATE(B13,D13,H13,N13,O13,Q13)=\"\",\"\",CONCATENATE(LEFT($C$6,3),IF(A12=\"example\",1,RIGHT(A12,LEN(A12)-3)+1)))","v":""},null,null,null,null,null,null,null,null,null,null,{"$f":"IF(G13=\"support\",0.1207,\"\")","v":""},{"$f":"IF(J13=0,\"\",IF(L13=\"\",0,J13*L13))","v":""},{"$f":"IF(J13=\"\",\"\",K13*J13)","v":""},{"$f":"IF(M13=\"\",\"\",ROUND(M13*K13,2))","v":""},{"$f":"IF(SUM(N13:O13)=0,\"\",SUM(N13:O13))","v":""},null,null,null,null,{"$f":"CONCATENATE(Q13,R13,S13)","v":""},{"$f":"IF(P13=\"\",\"\",IF(AND(S13=\"\",R13=\"\",Q13=\"\"),\"No Coding\",IF(U13=\"\",\" \",IFERROR(VLOOKUP($U:$U,Sheet3!E:F,2,FALSE),\"INVALID COMBINATION\"))))","v":""}]
[{"$f":"IF(CONCATENATE(B14,D14,H14,N14,O14,Q14)=\"\",\"\",CONCATENATE(LEFT($C$6,3),IF(A13=\"example\",1,RIGHT(A13,LEN(A13)-3)+1)))","v":""},null,null,null,null,null,null,null,null,null,null,"","","","","",null,null,null,null,"",{"$f":"IF(P14=\"\",\"\",IF(AND(S14=\"\",R14=\"\",Q14=\"\"),\"No Coding\",IF(U14=\"\",\" \",IFERROR(VLOOKUP($U:$U,Sheet3!E:F,2,FALSE),\"INVALID COMBINATION\"))))","v":""}]
[{"$f":"IF(CONCATENATE(B15,D15,H15,N15,O15,Q15)=\"\",\"\",CONCATENATE(LEFT($C$6,3),IF(A14=\"example\",1,RIGHT(A14,LEN(A14)-3)+1)))","v":""},null,null,null,null,null,null,null,null,null,null,"","","","","",null,null,null,null,"",{"$f":"IF(P15=\"\",\"\",IF(AND(S15=\"\",R15=\"\",Q15=\"\"),\"No Coding\",IF(U15=\"\",\" \",IFERROR(VLOOKUP($U:$U,Sheet3!E:F,2,FALSE),\"INVALID COMBINATION\"))))","v":""}]
["",null,null,null,null,null,null,null,null,null,null,"","","","","",null,null,null,null,"",{"$f":"IF(P16=\"\",\"\",IF(AND(S16=\"\",R16=\"\",Q16=\"\"),\"No Coding\",IF(U16=\"\",\" \",IFERROR(VLOOKUP($U:$U,Sheet3!E:F,2,FALSE),\"INVALID COMBINATION\"))))","v":""}]
["",null,null,null,null,null,null,null,null,null,null,"","","","","",null,null,null,null,"",{"$f":"IF(P17=\"\",\"\",IF(AND(S17=\"\",R17=\"\",Q17=\"\"),\"No Coding\",IF(U17=\"\",\" \",IFERROR(VLOOKUP($U:$U,Sheet3!E:F,2,FALSE),\"INVALID COMBINATION\"))))","v":""}]
["",null,null,null,null,null,null,null,null,null,null,"","","","","",null,null,null,null,"",{"$f":"IF(P18=\"\",\"\",IF(AND(S18=\"\",R18=\"\",Q18=\"\"),\"No Coding\",IF(U18=\"\",\" \",IFERROR(VLOOKUP($U:$U,Sheet3!E:F,2,FALSE),\"INVALID COMBINATION\"))))","v":""}]
["",null,null,null,null,null,null,null,null,null,null,"","","","","",null,null,null,null,"",{"$f":"IF(P19=\"\",\"\",IF(AND(S19=\"\",R19=\"\",Q19=\"\"),\"No Coding\",IF(U19=\"\",\" \",IFERROR(VLOOKUP($U:$U,Sheet3!E:F,2,FALSE),\"INVALID COMBINATION\"))))","v":""}]
["",null,null,null,null,null,null,null,null,null,null,"","","","","",null,null,null,null,"",{"$f":"IF(P20=\"\",\"\",IF(AND(S20=\"\",R20=\"\",Q20=\"\"),\"No Coding\",IF(U20=\"\",\" \",IFERROR(VLOOKUP($U:$U,Sheet3!E:F,2,FALSE),\"INVALID COMBINATION\"))))","v":""}]
["",null,null,null,null,null,null,null,null,null,null,"","","","","",null,null,null,null,"",{"$f":"IF(P21=\"\",\"\",IF(AND(S21=\"\",R21=\"\",Q21=\"\"),\"No Coding\",IF(U21=\"\",\" \",IFERROR(VLOOKUP($U:$U,Sheet3!E:F,2,FALSE),\"INVALID COMBINATION\"))))","v":""}]
["",null,null,null,null,null,null,null,null,null,null,"","","","","",null,null,null,null,"",{"$f":"IF(P22=\"\",\"\",IF(AND(S22=\"\",R22=\"\",Q22=\"\"),\"No Coding\",IF(U22=\"\",\" \",IFERROR(VLOOKUP($U:$U,Sheet3!E:F,2,FALSE),\"INVALID COMBINATION\"))))","v":""}]
["",null,null,null,null,null,null,null,null,null,null,"","","","","",null,null,null,null,"",{"$f":"IF(P23=\"\",\"\",IF(AND(S23=\"\",R23=\"\",Q23=\"\"),\"No Coding\",IF(U23=\"\",\" \",IFERROR(VLOOKUP($U:$U,Sheet3!E:F,2,FALSE),\"INVALID COMBINATION\"))))","v":""}]
["",null,null,null,null,null,null,null,null,null,null,"","","","","",null,null,null,null,"",{"$f":"IF(P24=\"\",\"\",IF(AND(S24=\"\",R24=\"\",Q24=\"\"),\"No Coding\",IF(U24=\"\",\" \",IFERROR(VLOOKUP($U:$U,Sheet3!E:F,2,FALSE),\"INVALID COMBINATION\"))))","v":""}]
["",null,null,null,null,null,null,null,null,null,null,"","","","","",null,null,null,null,"",{"$f":"IF(P25=\"\",\"\",IF(AND(S25=\"\",R25=\"\",Q25=\"\"),\"No Coding\",IF(U25=\"\",\" \",IFERROR(VLOOKUP($U:$U,Sheet3!E:F,2,FALSE),\"INVALID COMBINATION\"))))","v":""}]
["",null,null,null,null,null,null,null,null,null,null,"","","","","",null,null,null,null,"",{"$f":"IF(P26=\"\",\"\",IF(AND(S26=\"\",R26=\"\",Q26=\"\"),\"No Coding\",IF(U26=\"\",\" \",IFERROR(VLOOKUP($U:$U,Sheet3!E:F,2,FALSE),\"INVALID COMBINATION\"))))","v":""}]
["",null,null,null,null,null,null,null,null,null,null,"","","","","",null,null,null,null,"",{"$f":"IF(P27=\"\",\"\",IF(AND(S27=\"\",R27=\"\",Q27=\"\"),\"No Coding\",IF(U27=\"\",\" \",IFERROR(VLOOKUP($U:$U,Sheet3!E:F,2,FALSE),\"INVALID COMBINATION\"))))","v":""}]
["",null,null,null,null,null,null,null,null,null,null,"","","","","",null,null,null,null,"",{"$f":"IF(P28=\"\",\"\",IF(AND(S28=\"\",R28=\"\",Q28=\"\"),\"No Coding\",IF(U28=\"\",\" \",IFERROR(VLOOKUP($U:$U,Sheet3!E:F,2,FALSE),\"INVALID COMBINATION\"))))","v":""}]
["",null,null,null,null,null,null,null,null,null,null,"","","","","",null,null,null,null,"",{"$f":"IF(P29=\"\",\"\",IF(AND(S29=\"\",R29=\"\",Q29=\"\"),\"No Coding\",IF(U29=\"\",\" \",IFERROR(VLOOKUP($U:$U,Sheet3!E:F,2,FALSE),\"INVALID COMBINATION\"))))","v":""}]
["",null,null,null,null,null,null,null,null,null,null,"","","","","",null,null,null,null,"",{"$f":"IF(P30=\"\",\"\",IF(AND(S30=\"\",R30=\"\",Q30=\"\"),\"No Coding\",IF(U30=\"\",\" \",IFERROR(VLOOKUP($U:$U,Sheet3!E:F,2,FALSE),\"INVALID COMBINATION\"))))","v":""}]
["",null,null,null,null,null,null,null,null,null,null,"","","","","",null,null,null,null,"",{"$f":"IF(P31=\"\",\"\",IF(AND(S31=\"\",R31=\"\",Q31=\"\"),\"No Coding\",IF(U31=\"\",\" \",IFERROR(VLOOKUP($U:$U,Sheet3!E:F,2,FALSE),\"INVALID COMBINATION\"))))","v":""}]
["",null,null,null,null,null,null,null,null,null,null,"","","","","",null,null,null,null,"",{"$f":"IF(P32=\"\",\"\",IF(AND(S32=\"\",R32=\"\",Q32=\"\"),\"No Coding\",IF(U32=\"\",\" \",IFERROR(VLOOKUP($U:$U,Sheet3!E:F,2,FALSE),\"INVALID COMBINATION\"))))","v":""}]
["",null,null,null,null,null,null,null,null,null,null,"","","","","",null,null,null,null,"",{"$f":"IF(P33=\"\",\"\",IF(AND(S33=\"\",R33=\"\",Q33=\"\"),\"No Coding\",IF(U33=\"\",\" \",IFERROR(VLOOKUP($U:$U,Sheet3!E:F,2,FALSE),\"INVALID COMBINATION\"))))","v":""}]
["",null,null,null,null,null,null,null,null,null,null,"","","","","",null,null,null,null,"",{"$f":"IF(P34=\"\",\"\",IF(AND(S34=\"\",R34=\"\",Q34=\"\"),\"No Coding\",IF(U34=\"\",\" \",IFERROR(VLOOKUP($U:$U,Sheet3!E:F,2,FALSE),\"INVALID COMBINATION\"))))","v":""}]
["",null,null,null,null,null,null,null,null,null,null,"","","","","",null,null,null,null,"",{"$f":"IF(P35=\"\",\"\",IF(AND(S35=\"\",R35=\"\",Q35=\"\"),\"No Coding\",IF(U35=\"\",\" \",IFERROR(VLOOKUP($U:$U,Sheet3!E:F,2,FALSE),\"INVALID COMBINATION\"))))","v":""}]
["",null,null,null,null,null,null,null,null,null,null,"","","","","",null,null,null,null,"",{"$f":"IF(P36=\"\",\"\",IF(AND(S36=\"\",R36=\"\",Q36=\"\"),\"No Coding\",IF(U36=\"\",\" \",IFERROR(VLOOKUP($U:$U,Sheet3!E:F,2,FALSE),\"INVALID COMBINATION\"))))","v":""}]
["",null,null,null,null,null,null,null,null,null,null,"","","","","",null,null,null,null,"",{"$f":"IF(P37=\"\",\"\",IF(AND(S37=\"\",R37=\"\",Q37=\"\"),\"No Coding\",IF(U37=\"\",\" \",IFERROR(VLOOKUP($U:$U,Sheet3!E:F,2,FALSE),\"INVALID COMBINATION\"))))","v":""}]
["",null,null,null,null,null,null,null,null,null,null,"","","","","",null,null,null,null,"",{"$f":"IF(P38=\"\",\"\",IF(AND(S38=\"\",R38=\"\",Q38=\"\"),\"No Coding\",IF(U38=\"\",\" \",IFERROR(VLOOKUP($U:$U,Sheet3!E:F,2,FALSE),\"INVALID COMBINATION\"))))","v":""}]
["",null,null,null,null,null,null,null,null,null,null,"","","","","",null,null,null,null,"",{"$f":"IF(P39=\"\",\"\",IF(AND(S39=\"\",R39=\"\",Q39=\"\"),\"No Coding\",IF(U39=\"\",\" \",IFERROR(VLOOKUP($U:$U,Sheet3!E:F,2,FALSE),\"INVALID COMBINATION\"))))","v":""}]
["",null,null,null,null,null,null,null,null,null,null,"","","","","",null,null,null,null,"",{"$f":"IF(P40=\"\",\"\",IF(AND(S40=\"\",R40=\"\",Q40=\"\"),\"No Coding\",IF(U40=\"\",\" \",IFERROR(VLOOKUP($U:$U,Sheet3!E:F,2,FALSE),\"INVALID COMBINATION\"))))","v":""}]
["",null,null,null,null,null,null,null,null,null,null,"","","","","",null,null,null,null,"",{"$f":"IF(P41=\"\",\"\",IF(AND(S41=\"\",R41=\"\",Q41=\"\"),\"No Coding\",IF(U41=\"\",\" \",IFERROR(VLOOKUP($U:$U,Sheet3!E:F,2,FALSE),\"INVALID COMBINATION\"))))","v":""}]
["",null,null,null,null,null,null,null,null,null,null,"","","","","",null,null,null,null,"",{"$f":"IF(P42=\"\",\"\",IF(AND(S42=\"\",R42=\"\",Q42=\"\"),\"No Coding\",IF(U42=\"\",\" \",IFERROR(VLOOKUP($U:$U,Sheet3!E:F,2,FALSE),\"INVALID COMBINATION\"))))","v":""}]
["",null,null,null,null,null,null,null,null,null,null,"","","","","",null,null,null,null,"",{"$f":"IF(P43=\"\",\"\",IF(AND(S43=\"\",R43=\"\",Q43=\"\"),\"No Coding\",IF(U43=\"\",\" \",IFERROR(VLOOKUP($U:$U,Sheet3!E:F,2,FALSE),\"INVALID COMBINATION\"))))","v":""}]
["",null,null,null,null,null,null,null,null,null,null,"","","","","",null,null,null,null,"",{"$f":"IF(P44=\"\",\"\",IF(AND(S44=\"\",R44=\"\",Q44=\"\"),\"No Coding\",IF(U44=\"\",\" \",IFERROR(VLOOKUP($U:$U,Sheet3!E:F,2,FALSE),\"INVALID COMBINATION\"))))","v":""}]
["",null,null,null,null,null,null,null,null,null,null,"","","","","",null,null,null,null,"",{"$f":"IF(P45=\"\",\"\",IF(AND(S45=\"\",R45=\"\",Q45=\"\"),\"No Coding\",IF(U45=\"\",\" \",IFERROR(VLOOKUP($U:$U,Sheet3!E:F,2,FALSE),\"INVALID COMBINATION\"))))","v":""}]
["",null,null,null,null,null,null,null,null,null,null,"","","","","",null,null,null,null,{"$f":"CONCATENATE(Q46,R46,S46)","v":""},{"$f":"IF(P46=\"\",\"\",IF(AND(S46=\"\",R46=\"\",Q46=\"\"),\"No Coding\",IF(U46=\"\",\" \",IFERROR(VLOOKUP($U:$U,Sheet3!E:F,2,FALSE),\"INVALID COMBINATION\"))))","v":""}]
["",null,null,null,null,null,null,null,null,null,null,"","","","","",null,null,null,null,"",{"$f":"IF(P47=\"\",\"\",IF(AND(S47=\"\",R47=\"\",Q47=\"\"),\"No Coding\",IF(U47=\"\",\" \",IFERROR(VLOOKUP($U:$U,Sheet3!E:F,2,FALSE),\"INVALID COMBINATION\"))))","v":""}]
["",null,null,null,null,null,null,null,null,null,null,"","","","","",null,null,null,null,{"$f":"CONCATENATE(Q48,R48,S48)","v":""},{"$f":"IF(P48=\"\",\"\",IF(AND(S48=\"\",R48=\"\",Q48=\"\"),\"No Coding\",IF(U48=\"\",\" \",IFERROR(VLOOKUP($U:$U,Sheet3!E:F,2,FALSE),\"INVALID COMBINATION\"))))","v":""}]
["",null,null,null,null,null,null,null,null,null,null,"","","","","",null,null,null,null,"",{"$f":"IF(P49=\"\",\"\",IF(AND(S49=\"\",R49=\"\",Q49=\"\"),\"No Coding\",IF(U49=\"\",\" \",IFERROR(VLOOKUP($U:$U,Sheet3!E:F,2,FALSE),\"INVALID COMBINATION\"))))","v":""}]
["",null,null,null,null,null,null,null,null,null,null,"","","","","",null,null,null,null,"",{"$f":"IF(P50=\"\",\"\",IF(AND(S50=\"\",R50=\"\",Q50=\"\"),\"No Coding\",IF(U50=\"\",\" \",IFERROR(VLOOKUP($U:$U,Sheet3!E:F,2,FALSE),\"INVALID COMBINATION\"))))","v":""}]
["",null,null,null,null,null,null,null,null,null,null,"","","","","",null,null,null,null,"",{"$f":"IF(P51=\"\",\"\",IF(AND(S51=\"\",R51=\"\",Q51=\"\"),\"No Coding\",IF(U51=\"\",\" \",IFERROR(VLOOKUP($U:$U,Sheet3!E:F,2,FALSE),\"INVALID COMBINATION\"))))","v":""}]
["",null,null,null,null,null,null,null,null,null,null,"","","","","",null,null,null,null,"",{"$f":"IF(P52=\"\",\"\",IF(AND(S52=\"\",R52=\"\",Q52=\"\"),\"No Coding\",IF(U52=\"\",\" \",IFERROR(VLOOKUP($U:$U,Sheet3!E:F,2,FALSE),\"INVALID COMBINATION\"))))","v":""}]
["",null,null,null,null,null,null,null,null,null,null,"","","","","",null,null,null,null,"",{"$f":"IF(P53=\"\",\"\",IF(AND(S53=\"\",R53=\"\",Q53=\"\"),\"No Coding\",IF(U53=\"\",\" \",IFERROR(VLOOKUP($U:$U,Sheet3!E:F,2,FALSE),\"INVALID COMBINATION\"))))","v":""}]
["",null,null,null,null,null,null,null,null,null,null,"","","","","",null,null,null,null,"",{"$f":"IF(P54=\"\",\"\",IF(AND(S54=\"\",R54=\"\",Q54=\"\"),\"No Coding\",IF(U54=\"\",\" \",IFERROR(VLOOKUP($U:$U,Sheet3!E:F,2,FALSE),\"INVALID COMBINATION\"))))","v":""}]
["",null,null,null,null,null,null,null,null,null,null,"","","","","",null,null,null,null,"",{"$f":"IF(P55=\"\",\"\",IF(AND(S55=\"\",R55=\"\",Q55=\"\"),\"No Coding\",IF(U55=\"\",\" \",IFERROR(VLOOKUP($U:$U,Sheet3!E:F,2,FALSE),\"INVALID COMBINATION\"))))","v":""}]
["",null,null,null,null,null,null,null,null,null,null,"","","","","",null,null,null,null,"",{"$f":"IF(P56=\"\",\"\",IF(AND(S56=\"\",R56=\"\",Q56=\"\"),\"No Coding\",IF(U56=\"\",\" \",IFERROR(VLOOKUP($U:$U,Sheet3!E:F,2,FALSE),\"INVALID COMBINATION\"))))","v":""}]
[null,null,null,null,null,null,null,null,"Total Hours ",{"$f":"SUM(J12:J56)","v":0},null,null,{"$f":"SUM(M12:M56)","v":0},null,{"$f":"SUM(O12:O56)","v":0},{"$f":"SUM(P12:P56)","v":0}]
[null,null,null,null,null,null,null,null,null,null,null,null,null,null,null,null,"Prepared by:"]
[]
[null,null,null,null,null,null,null,null,null,null,null,null,null,null,null,null,"Approved by:"]
[]
[null,null,null,null,null,null,null,null,null,null,null,null,null,null,null,null,"HR Approval:"]